BEGIN:VCALENDAR
VERSION:2.0
PRODID:-//Godways International Ministry - ECPv6.6.2//NONSGML v1.0//EN
CALSCALE:GREGORIAN
METHOD:PUBLISH
X-ORIGINAL-URL:https://godwaysministry.com
X-WR-CALDESC:Events for Godways International Ministry
REFRESH-INTERVAL;VALUE=DURATION:PT1H
X-Robots-Tag:noindex
X-PUBLISHED-TTL:PT1H
BEGIN:VTIMEZONE
TZID:Europe/London
BEGIN:DAYLIGHT
TZOFFSETFROM:+0000
TZOFFSETTO:+0100
TZNAME:BST
DTSTART:20280326T010000
END:DAYLIGHT
BEGIN:STANDARD
TZOFFSETFROM:+0100
TZOFFSETTO:+0000
TZNAME:GMT
DTSTART:20281029T010000
END:STANDARD
BEGIN:DAYLIGHT
TZOFFSETFROM:+0000
TZOFFSETTO:+0100
TZNAME:BST
DTSTART:20290325T010000
END:DAYLIGHT
BEGIN:STANDARD
TZOFFSETFROM:+0100
TZOFFSETTO:+0000
TZNAME:GMT
DTSTART:20291028T010000
END:STANDARD
TZID:America/New_York
BEGIN:DAYLIGHT
TZOFFSETFROM:-0500
TZOFFSETTO:-0400
TZNAME:EDT
DTSTART:20280312T070000
END:DAYLIGHT
BEGIN:STANDARD
TZOFFSETFROM:-0400
TZOFFSETTO:-0500
TZNAME:EST
DTSTART:20281105T060000
END:STANDARD
BEGIN:DAYLIGHT
TZOFFSETFROM:-0500
TZOFFSETTO:-0400
TZNAME:EDT
DTSTART:20290311T070000
END:DAYLIGHT
BEGIN:STANDARD
TZOFFSETFROM:-0400
TZOFFSETTO:-0500
TZNAME:EST
DTSTART:20291104T060000
END:STANDARD
TZID:UTC
BEGIN:STANDARD
TZOFFSETFROM:+0000
TZOFFSETTO:+0000
TZNAME:UTC
DTSTART:20280101T000000
END:STANDARD
TZID:America/Toronto
BEGIN:DAYLIGHT
TZOFFSETFROM:-0500
TZOFFSETTO:-0400
TZNAME:EDT
DTSTART:20290311T070000
END:DAYLIGHT
BEGIN:STANDARD
TZOFFSETFROM:-0400
TZOFFSETTO:-0500
TZNAME:EST
DTSTART:20291104T060000
END:STANDARD
END:VTIMEZONE
BEGIN:VEVENT
DTSTART;VALUE=DATE:20281229
DTEND;VALUE=DATE:20281230
DTSTAMP:20260420T075441
CREATED:20240830T171534Z
LAST-MODIFIED:20240830T171534Z
UID:10005992-1861660800-1861747199@godwaysministry.com
SUMMARY:Birmingham\, UK Weekly Service - Every Friday
DESCRIPTION:6 PM (local time) Every Friday
URL:https://godwaysministry.com/event/birmingham-uk-weekly-service-every-friday/2028-12-29/
CATEGORIES:Announcements
ATTACH;FMTTYPE=image/jpeg:https://godwaysministry.com/wp-content/uploads/2024/08/birmingham_online_weekly_prayers.jpg
ORGANIZER;CN="Birmingham%2C UK Campus":MAILTO:gimbham1@gmail.com
LOCATION:
END:VEVENT
BEGIN:VEVENT
DTSTART;VALUE=DATE:20281229
DTEND;VALUE=DATE:20281230
DTSTAMP:20260420T075441
CREATED:20240830T173035Z
LAST-MODIFIED:20240830T173131Z
UID:10006079-1861660800-1861747199@godwaysministry.com
SUMMARY:Godways Massachusetts\, USA Service - Last Friday of Every Month
DESCRIPTION:6PM (local time)
URL:https://godwaysministry.com/event/godways-massachusetts-usa-service-last-friday-of-every-month/2028-12-29/
LOCATION:Godways International Ministry\, Massachusetts  Campus\, Methuen Community Studios\, 20 Aegean Drive\, Suite 11\, Boston\, MA\, 01844\, United States
CATEGORIES:Announcements
ATTACH;FMTTYPE=image/jpeg:https://godwaysministry.com/wp-content/uploads/2024/08/special-monthly-service.jpg
ORGANIZER;CN="Massachusetts%2C USA Campus":MAILTO:godwaysministryma@gmail.com
END:VEVENT
BEGIN:VEVENT
DTSTART;VALUE=DATE:20281231
DTEND;VALUE=DATE:20290101
DTSTAMP:20260420T075441
CREATED:20240829T213735Z
LAST-MODIFIED:20240830T125429Z
UID:10003641-1861833600-1861919999@godwaysministry.com
SUMMARY:Godways Campuses Sunday Services
DESCRIPTION:London\, UK – 12 PM (local time) Every Sunday \nAtlanta\, USA  – 11 AM (local time) Every Sunday \nToronto\, Canada – 11 AM (local time) Every Sunday \nAbuja\, Nigeria – 10 AM (local time) Every Sunday
URL:https://godwaysministry.com/event/godways-campuses-sunday-services/2028-12-31/
LOCATION:Godways International Ministry\, London Campus\, 3rd Floor\, 64 Willoughby Lane\, London\, London\, N17 0SN\, United Kingdom
CATEGORIES:Announcements
ATTACH;FMTTYPE=image/jpeg:https://godwaysministry.com/wp-content/uploads/2024/08/sunday_services.jpg
END:VEVENT
BEGIN:VEVENT
DTSTART;VALUE=DATE:20290102
DTEND;VALUE=DATE:20290103
DTSTAMP:20260420T075441
CREATED:20250703T161944Z
LAST-MODIFIED:20250703T162213Z
UID:10005627-1862006400-1862092799@godwaysministry.com
SUMMARY:Prayer & Prophetic Time: A New Dawn
DESCRIPTION:
URL:https://godwaysministry.com/event/prayer-prophetic-time-a-new-dawn/2029-01-02/
CATEGORIES:Weekly
ATTACH;FMTTYPE=image/jpeg:https://godwaysministry.com/wp-content/uploads/2024/08/GIM_PrayerProphetic.jpeg
LOCATION:https://godwaysministry.com/event/prayer-prophetic-time-a-new-dawn/2029-01-02/
END:VEVENT
BEGIN:VEVENT
DTSTART;VALUE=DATE:20290102
DTEND;VALUE=DATE:20290103
DTSTAMP:20260420T075441
CREATED:20250703T164223Z
LAST-MODIFIED:20250703T164223Z
UID:10004582-1862006400-1862092799@godwaysministry.com
SUMMARY:Global Ministration
DESCRIPTION:7AM EST/12:00 Noon UK and Nigeria
URL:https://godwaysministry.com/event/global-ministration-2/2029-01-02/
CATEGORIES:Announcements
ATTACH;FMTTYPE=image/jpeg:https://godwaysministry.com/wp-content/uploads/2024/08/GIM_PrayerProphetic.jpeg
LOCATION:https://godwaysministry.com/event/global-ministration-2/2029-01-02/
END:VEVENT
BEGIN:VEVENT
DTSTART;VALUE=DATE:20290103
DTEND;VALUE=DATE:20290104
DTSTAMP:20260420T075441
CREATED:20250703T161944Z
LAST-MODIFIED:20250703T162213Z
UID:10005628-1862092800-1862179199@godwaysministry.com
SUMMARY:Prayer & Prophetic Time: A New Dawn
DESCRIPTION:
URL:https://godwaysministry.com/event/prayer-prophetic-time-a-new-dawn/2029-01-03/
CATEGORIES:Weekly
ATTACH;FMTTYPE=image/jpeg:https://godwaysministry.com/wp-content/uploads/2024/08/GIM_PrayerProphetic.jpeg
LOCATION:https://godwaysministry.com/event/prayer-prophetic-time-a-new-dawn/2029-01-03/
END:VEVENT
BEGIN:VEVENT
DTSTART;VALUE=DATE:20290103
DTEND;VALUE=DATE:20290104
DTSTAMP:20260420T075441
CREATED:20250703T164223Z
LAST-MODIFIED:20250703T164223Z
UID:10004583-1862092800-1862179199@godwaysministry.com
SUMMARY:Global Ministration
DESCRIPTION:7AM EST/12:00 Noon UK and Nigeria
URL:https://godwaysministry.com/event/global-ministration-2/2029-01-03/
CATEGORIES:Announcements
ATTACH;FMTTYPE=image/jpeg:https://godwaysministry.com/wp-content/uploads/2024/08/GIM_PrayerProphetic.jpeg
LOCATION:https://godwaysministry.com/event/global-ministration-2/2029-01-03/
END:VEVENT
BEGIN:VEVENT
DTSTART;VALUE=DATE:20290105
DTEND;VALUE=DATE:20290106
DTSTAMP:20260420T075441
CREATED:20240830T171534Z
LAST-MODIFIED:20240830T171534Z
UID:10005993-1862265600-1862351999@godwaysministry.com
SUMMARY:Birmingham\, UK Weekly Service - Every Friday
DESCRIPTION:6 PM (local time) Every Friday
URL:https://godwaysministry.com/event/birmingham-uk-weekly-service-every-friday/2029-01-05/
CATEGORIES:Announcements
ATTACH;FMTTYPE=image/jpeg:https://godwaysministry.com/wp-content/uploads/2024/08/birmingham_online_weekly_prayers.jpg
ORGANIZER;CN="Birmingham%2C UK Campus":MAILTO:gimbham1@gmail.com
LOCATION:
END:VEVENT
BEGIN:VEVENT
DTSTART;VALUE=DATE:20290107
DTEND;VALUE=DATE:20290108
DTSTAMP:20260420T075442
CREATED:20240829T213735Z
LAST-MODIFIED:20240830T125429Z
UID:10003642-1862438400-1862524799@godwaysministry.com
SUMMARY:Godways Campuses Sunday Services
DESCRIPTION:London\, UK – 12 PM (local time) Every Sunday \nAtlanta\, USA  – 11 AM (local time) Every Sunday \nToronto\, Canada – 11 AM (local time) Every Sunday \nAbuja\, Nigeria – 10 AM (local time) Every Sunday
URL:https://godwaysministry.com/event/godways-campuses-sunday-services/2029-01-07/
LOCATION:Godways International Ministry\, London Campus\, 3rd Floor\, 64 Willoughby Lane\, London\, London\, N17 0SN\, United Kingdom
CATEGORIES:Announcements
ATTACH;FMTTYPE=image/jpeg:https://godwaysministry.com/wp-content/uploads/2024/08/sunday_services.jpg
END:VEVENT
BEGIN:VEVENT
DTSTART;VALUE=DATE:20290109
DTEND;VALUE=DATE:20290110
DTSTAMP:20260420T075442
CREATED:20250703T161944Z
LAST-MODIFIED:20250703T162213Z
UID:10005631-1862611200-1862697599@godwaysministry.com
SUMMARY:Prayer & Prophetic Time: A New Dawn
DESCRIPTION:
URL:https://godwaysministry.com/event/prayer-prophetic-time-a-new-dawn/2029-01-09/
CATEGORIES:Weekly
ATTACH;FMTTYPE=image/jpeg:https://godwaysministry.com/wp-content/uploads/2024/08/GIM_PrayerProphetic.jpeg
LOCATION:https://godwaysministry.com/event/prayer-prophetic-time-a-new-dawn/2029-01-09/
END:VEVENT
BEGIN:VEVENT
DTSTART;VALUE=DATE:20290109
DTEND;VALUE=DATE:20290110
DTSTAMP:20260420T075442
CREATED:20250703T164223Z
LAST-MODIFIED:20250703T164223Z
UID:10004586-1862611200-1862697599@godwaysministry.com
SUMMARY:Global Ministration
DESCRIPTION:7AM EST/12:00 Noon UK and Nigeria
URL:https://godwaysministry.com/event/global-ministration-2/2029-01-09/
CATEGORIES:Announcements
ATTACH;FMTTYPE=image/jpeg:https://godwaysministry.com/wp-content/uploads/2024/08/GIM_PrayerProphetic.jpeg
LOCATION:https://godwaysministry.com/event/global-ministration-2/2029-01-09/
END:VEVENT
BEGIN:VEVENT
DTSTART;VALUE=DATE:20290110
DTEND;VALUE=DATE:20290111
DTSTAMP:20260420T075442
CREATED:20250703T161944Z
LAST-MODIFIED:20250703T162213Z
UID:10005632-1862697600-1862783999@godwaysministry.com
SUMMARY:Prayer & Prophetic Time: A New Dawn
DESCRIPTION:
URL:https://godwaysministry.com/event/prayer-prophetic-time-a-new-dawn/2029-01-10/
CATEGORIES:Weekly
ATTACH;FMTTYPE=image/jpeg:https://godwaysministry.com/wp-content/uploads/2024/08/GIM_PrayerProphetic.jpeg
LOCATION:https://godwaysministry.com/event/prayer-prophetic-time-a-new-dawn/2029-01-10/
END:VEVENT
BEGIN:VEVENT
DTSTART;VALUE=DATE:20290110
DTEND;VALUE=DATE:20290111
DTSTAMP:20260420T075442
CREATED:20250703T164223Z
LAST-MODIFIED:20250703T164223Z
UID:10004587-1862697600-1862783999@godwaysministry.com
SUMMARY:Global Ministration
DESCRIPTION:7AM EST/12:00 Noon UK and Nigeria
URL:https://godwaysministry.com/event/global-ministration-2/2029-01-10/
CATEGORIES:Announcements
ATTACH;FMTTYPE=image/jpeg:https://godwaysministry.com/wp-content/uploads/2024/08/GIM_PrayerProphetic.jpeg
LOCATION:https://godwaysministry.com/event/global-ministration-2/2029-01-10/
END:VEVENT
BEGIN:VEVENT
DTSTART;VALUE=DATE:20290112
DTEND;VALUE=DATE:20290113
DTSTAMP:20260420T075442
CREATED:20240830T171534Z
LAST-MODIFIED:20240830T171534Z
UID:10005994-1862870400-1862956799@godwaysministry.com
SUMMARY:Birmingham\, UK Weekly Service - Every Friday
DESCRIPTION:6 PM (local time) Every Friday
URL:https://godwaysministry.com/event/birmingham-uk-weekly-service-every-friday/2029-01-12/
CATEGORIES:Announcements
ATTACH;FMTTYPE=image/jpeg:https://godwaysministry.com/wp-content/uploads/2024/08/birmingham_online_weekly_prayers.jpg
ORGANIZER;CN="Birmingham%2C UK Campus":MAILTO:gimbham1@gmail.com
LOCATION:
END:VEVENT
BEGIN:VEVENT
DTSTART;VALUE=DATE:20290114
DTEND;VALUE=DATE:20290115
DTSTAMP:20260420T075442
CREATED:20240829T213735Z
LAST-MODIFIED:20240830T125429Z
UID:10003643-1863043200-1863129599@godwaysministry.com
SUMMARY:Godways Campuses Sunday Services
DESCRIPTION:London\, UK – 12 PM (local time) Every Sunday \nAtlanta\, USA  – 11 AM (local time) Every Sunday \nToronto\, Canada – 11 AM (local time) Every Sunday \nAbuja\, Nigeria – 10 AM (local time) Every Sunday
URL:https://godwaysministry.com/event/godways-campuses-sunday-services/2029-01-14/
LOCATION:Godways International Ministry\, London Campus\, 3rd Floor\, 64 Willoughby Lane\, London\, London\, N17 0SN\, United Kingdom
CATEGORIES:Announcements
ATTACH;FMTTYPE=image/jpeg:https://godwaysministry.com/wp-content/uploads/2024/08/sunday_services.jpg
END:VEVENT
BEGIN:VEVENT
DTSTART;VALUE=DATE:20290116
DTEND;VALUE=DATE:20290117
DTSTAMP:20260420T075442
CREATED:20250703T161944Z
LAST-MODIFIED:20250703T162213Z
UID:10005635-1863216000-1863302399@godwaysministry.com
SUMMARY:Prayer & Prophetic Time: A New Dawn
DESCRIPTION:
URL:https://godwaysministry.com/event/prayer-prophetic-time-a-new-dawn/2029-01-16/
CATEGORIES:Weekly
ATTACH;FMTTYPE=image/jpeg:https://godwaysministry.com/wp-content/uploads/2024/08/GIM_PrayerProphetic.jpeg
LOCATION:https://godwaysministry.com/event/prayer-prophetic-time-a-new-dawn/2029-01-16/
END:VEVENT
BEGIN:VEVENT
DTSTART;VALUE=DATE:20290116
DTEND;VALUE=DATE:20290117
DTSTAMP:20260420T075442
CREATED:20250703T164223Z
LAST-MODIFIED:20250703T164223Z
UID:10004590-1863216000-1863302399@godwaysministry.com
SUMMARY:Global Ministration
DESCRIPTION:7AM EST/12:00 Noon UK and Nigeria
URL:https://godwaysministry.com/event/global-ministration-2/2029-01-16/
CATEGORIES:Announcements
ATTACH;FMTTYPE=image/jpeg:https://godwaysministry.com/wp-content/uploads/2024/08/GIM_PrayerProphetic.jpeg
LOCATION:https://godwaysministry.com/event/global-ministration-2/2029-01-16/
END:VEVENT
BEGIN:VEVENT
DTSTART;VALUE=DATE:20290117
DTEND;VALUE=DATE:20290118
DTSTAMP:20260420T075442
CREATED:20250703T161944Z
LAST-MODIFIED:20250703T162213Z
UID:10005636-1863302400-1863388799@godwaysministry.com
SUMMARY:Prayer & Prophetic Time: A New Dawn
DESCRIPTION:
URL:https://godwaysministry.com/event/prayer-prophetic-time-a-new-dawn/2029-01-17/
CATEGORIES:Weekly
ATTACH;FMTTYPE=image/jpeg:https://godwaysministry.com/wp-content/uploads/2024/08/GIM_PrayerProphetic.jpeg
LOCATION:https://godwaysministry.com/event/prayer-prophetic-time-a-new-dawn/2029-01-17/
END:VEVENT
BEGIN:VEVENT
DTSTART;VALUE=DATE:20290117
DTEND;VALUE=DATE:20290118
DTSTAMP:20260420T075442
CREATED:20250703T164223Z
LAST-MODIFIED:20250703T164223Z
UID:10004591-1863302400-1863388799@godwaysministry.com
SUMMARY:Global Ministration
DESCRIPTION:7AM EST/12:00 Noon UK and Nigeria
URL:https://godwaysministry.com/event/global-ministration-2/2029-01-17/
CATEGORIES:Announcements
ATTACH;FMTTYPE=image/jpeg:https://godwaysministry.com/wp-content/uploads/2024/08/GIM_PrayerProphetic.jpeg
LOCATION:https://godwaysministry.com/event/global-ministration-2/2029-01-17/
END:VEVENT
BEGIN:VEVENT
DTSTART;VALUE=DATE:20290119
DTEND;VALUE=DATE:20290120
DTSTAMP:20260420T075442
CREATED:20240830T171534Z
LAST-MODIFIED:20240830T171534Z
UID:10005995-1863475200-1863561599@godwaysministry.com
SUMMARY:Birmingham\, UK Weekly Service - Every Friday
DESCRIPTION:6 PM (local time) Every Friday
URL:https://godwaysministry.com/event/birmingham-uk-weekly-service-every-friday/2029-01-19/
CATEGORIES:Announcements
ATTACH;FMTTYPE=image/jpeg:https://godwaysministry.com/wp-content/uploads/2024/08/birmingham_online_weekly_prayers.jpg
ORGANIZER;CN="Birmingham%2C UK Campus":MAILTO:gimbham1@gmail.com
LOCATION:
END:VEVENT
BEGIN:VEVENT
DTSTART;VALUE=DATE:20290121
DTEND;VALUE=DATE:20290122
DTSTAMP:20260420T075442
CREATED:20240829T213735Z
LAST-MODIFIED:20240830T125429Z
UID:10003644-1863648000-1863734399@godwaysministry.com
SUMMARY:Godways Campuses Sunday Services
DESCRIPTION:London\, UK – 12 PM (local time) Every Sunday \nAtlanta\, USA  – 11 AM (local time) Every Sunday \nToronto\, Canada – 11 AM (local time) Every Sunday \nAbuja\, Nigeria – 10 AM (local time) Every Sunday
URL:https://godwaysministry.com/event/godways-campuses-sunday-services/2029-01-21/
LOCATION:Godways International Ministry\, London Campus\, 3rd Floor\, 64 Willoughby Lane\, London\, London\, N17 0SN\, United Kingdom
CATEGORIES:Announcements
ATTACH;FMTTYPE=image/jpeg:https://godwaysministry.com/wp-content/uploads/2024/08/sunday_services.jpg
END:VEVENT
BEGIN:VEVENT
DTSTART;VALUE=DATE:20290123
DTEND;VALUE=DATE:20290124
DTSTAMP:20260420T075442
CREATED:20250703T161944Z
LAST-MODIFIED:20250703T162213Z
UID:10005639-1863820800-1863907199@godwaysministry.com
SUMMARY:Prayer & Prophetic Time: A New Dawn
DESCRIPTION:
URL:https://godwaysministry.com/event/prayer-prophetic-time-a-new-dawn/2029-01-23/
CATEGORIES:Weekly
ATTACH;FMTTYPE=image/jpeg:https://godwaysministry.com/wp-content/uploads/2024/08/GIM_PrayerProphetic.jpeg
LOCATION:https://godwaysministry.com/event/prayer-prophetic-time-a-new-dawn/2029-01-23/
END:VEVENT
BEGIN:VEVENT
DTSTART;VALUE=DATE:20290123
DTEND;VALUE=DATE:20290124
DTSTAMP:20260420T075442
CREATED:20250703T164223Z
LAST-MODIFIED:20250703T164223Z
UID:10004594-1863820800-1863907199@godwaysministry.com
SUMMARY:Global Ministration
DESCRIPTION:7AM EST/12:00 Noon UK and Nigeria
URL:https://godwaysministry.com/event/global-ministration-2/2029-01-23/
CATEGORIES:Announcements
ATTACH;FMTTYPE=image/jpeg:https://godwaysministry.com/wp-content/uploads/2024/08/GIM_PrayerProphetic.jpeg
LOCATION:https://godwaysministry.com/event/global-ministration-2/2029-01-23/
END:VEVENT
BEGIN:VEVENT
DTSTART;VALUE=DATE:20290124
DTEND;VALUE=DATE:20290125
DTSTAMP:20260420T075442
CREATED:20250703T161944Z
LAST-MODIFIED:20250703T162213Z
UID:10005640-1863907200-1863993599@godwaysministry.com
SUMMARY:Prayer & Prophetic Time: A New Dawn
DESCRIPTION:
URL:https://godwaysministry.com/event/prayer-prophetic-time-a-new-dawn/2029-01-24/
CATEGORIES:Weekly
ATTACH;FMTTYPE=image/jpeg:https://godwaysministry.com/wp-content/uploads/2024/08/GIM_PrayerProphetic.jpeg
LOCATION:https://godwaysministry.com/event/prayer-prophetic-time-a-new-dawn/2029-01-24/
END:VEVENT
BEGIN:VEVENT
DTSTART;VALUE=DATE:20290124
DTEND;VALUE=DATE:20290125
DTSTAMP:20260420T075442
CREATED:20250703T164223Z
LAST-MODIFIED:20250703T164223Z
UID:10004595-1863907200-1863993599@godwaysministry.com
SUMMARY:Global Ministration
DESCRIPTION:7AM EST/12:00 Noon UK and Nigeria
URL:https://godwaysministry.com/event/global-ministration-2/2029-01-24/
CATEGORIES:Announcements
ATTACH;FMTTYPE=image/jpeg:https://godwaysministry.com/wp-content/uploads/2024/08/GIM_PrayerProphetic.jpeg
LOCATION:https://godwaysministry.com/event/global-ministration-2/2029-01-24/
END:VEVENT
BEGIN:VEVENT
DTSTART;VALUE=DATE:20290126
DTEND;VALUE=DATE:20290127
DTSTAMP:20260420T075442
CREATED:20240830T171534Z
LAST-MODIFIED:20240830T171534Z
UID:10005996-1864080000-1864166399@godwaysministry.com
SUMMARY:Birmingham\, UK Weekly Service - Every Friday
DESCRIPTION:6 PM (local time) Every Friday
URL:https://godwaysministry.com/event/birmingham-uk-weekly-service-every-friday/2029-01-26/
CATEGORIES:Announcements
ATTACH;FMTTYPE=image/jpeg:https://godwaysministry.com/wp-content/uploads/2024/08/birmingham_online_weekly_prayers.jpg
ORGANIZER;CN="Birmingham%2C UK Campus":MAILTO:gimbham1@gmail.com
LOCATION:
END:VEVENT
BEGIN:VEVENT
DTSTART;VALUE=DATE:20290126
DTEND;VALUE=DATE:20290127
DTSTAMP:20260420T075442
CREATED:20240830T173035Z
LAST-MODIFIED:20240830T173131Z
UID:10006080-1864080000-1864166399@godwaysministry.com
SUMMARY:Godways Massachusetts\, USA Service - Last Friday of Every Month
DESCRIPTION:6PM (local time)
URL:https://godwaysministry.com/event/godways-massachusetts-usa-service-last-friday-of-every-month/2029-01-26/
LOCATION:Godways International Ministry\, Massachusetts  Campus\, Methuen Community Studios\, 20 Aegean Drive\, Suite 11\, Boston\, MA\, 01844\, United States
CATEGORIES:Announcements
ATTACH;FMTTYPE=image/jpeg:https://godwaysministry.com/wp-content/uploads/2024/08/special-monthly-service.jpg
ORGANIZER;CN="Massachusetts%2C USA Campus":MAILTO:godwaysministryma@gmail.com
END:VEVENT
BEGIN:VEVENT
DTSTART;VALUE=DATE:20290128
DTEND;VALUE=DATE:20290129
DTSTAMP:20260420T075442
CREATED:20240829T213735Z
LAST-MODIFIED:20240830T125429Z
UID:10003645-1864252800-1864339199@godwaysministry.com
SUMMARY:Godways Campuses Sunday Services
DESCRIPTION:London\, UK – 12 PM (local time) Every Sunday \nAtlanta\, USA  – 11 AM (local time) Every Sunday \nToronto\, Canada – 11 AM (local time) Every Sunday \nAbuja\, Nigeria – 10 AM (local time) Every Sunday
URL:https://godwaysministry.com/event/godways-campuses-sunday-services/2029-01-28/
LOCATION:Godways International Ministry\, London Campus\, 3rd Floor\, 64 Willoughby Lane\, London\, London\, N17 0SN\, United Kingdom
CATEGORIES:Announcements
ATTACH;FMTTYPE=image/jpeg:https://godwaysministry.com/wp-content/uploads/2024/08/sunday_services.jpg
END:VEVENT
BEGIN:VEVENT
DTSTART;VALUE=DATE:20290130
DTEND;VALUE=DATE:20290131
DTSTAMP:20260420T075442
CREATED:20250703T161944Z
LAST-MODIFIED:20250703T162213Z
UID:10005643-1864425600-1864511999@godwaysministry.com
SUMMARY:Prayer & Prophetic Time: A New Dawn
DESCRIPTION:
URL:https://godwaysministry.com/event/prayer-prophetic-time-a-new-dawn/2029-01-30/
CATEGORIES:Weekly
ATTACH;FMTTYPE=image/jpeg:https://godwaysministry.com/wp-content/uploads/2024/08/GIM_PrayerProphetic.jpeg
LOCATION:https://godwaysministry.com/event/prayer-prophetic-time-a-new-dawn/2029-01-30/
END:VEVENT
BEGIN:VEVENT
DTSTART;VALUE=DATE:20290130
DTEND;VALUE=DATE:20290131
DTSTAMP:20260420T075442
CREATED:20250703T164223Z
LAST-MODIFIED:20250703T164223Z
UID:10004598-1864425600-1864511999@godwaysministry.com
SUMMARY:Global Ministration
DESCRIPTION:7AM EST/12:00 Noon UK and Nigeria
URL:https://godwaysministry.com/event/global-ministration-2/2029-01-30/
CATEGORIES:Announcements
ATTACH;FMTTYPE=image/jpeg:https://godwaysministry.com/wp-content/uploads/2024/08/GIM_PrayerProphetic.jpeg
LOCATION:https://godwaysministry.com/event/global-ministration-2/2029-01-30/
END:VEVENT
END:VCALENDAR