BEGIN:VCALENDAR
VERSION:2.0
PRODID:-//Godways International Ministry - ECPv6.6.2//NONSGML v1.0//EN
CALSCALE:GREGORIAN
METHOD:PUBLISH
X-ORIGINAL-URL:https://godwaysministry.com
X-WR-CALDESC:Events for Godways International Ministry
REFRESH-INTERVAL;VALUE=DURATION:PT1H
X-Robots-Tag:noindex
X-PUBLISHED-TTL:PT1H
BEGIN:VTIMEZONE
TZID:America/Toronto
BEGIN:DAYLIGHT
TZOFFSETFROM:-0500
TZOFFSETTO:-0400
TZNAME:EDT
DTSTART:20290311T070000
END:DAYLIGHT
BEGIN:STANDARD
TZOFFSETFROM:-0400
TZOFFSETTO:-0500
TZNAME:EST
DTSTART:20291104T060000
END:STANDARD
TZID:Europe/London
BEGIN:DAYLIGHT
TZOFFSETFROM:+0000
TZOFFSETTO:+0100
TZNAME:BST
DTSTART:20290325T010000
END:DAYLIGHT
BEGIN:STANDARD
TZOFFSETFROM:+0100
TZOFFSETTO:+0000
TZNAME:GMT
DTSTART:20291028T010000
END:STANDARD
TZID:UTC
BEGIN:STANDARD
TZOFFSETFROM:+0000
TZOFFSETTO:+0000
TZNAME:UTC
DTSTART:20290101T000000
END:STANDARD
END:VTIMEZONE
BEGIN:VEVENT
DTSTART;VALUE=DATE:20290731
DTEND;VALUE=DATE:20290801
DTSTAMP:20260421T052316
CREATED:20250703T161944Z
LAST-MODIFIED:20250703T162213Z
UID:10005747-1880150400-1880236799@godwaysministry.com
SUMMARY:Prayer & Prophetic Time: A New Dawn
DESCRIPTION:
URL:https://godwaysministry.com/event/prayer-prophetic-time-a-new-dawn/2029-07-31/
CATEGORIES:Weekly
ATTACH;FMTTYPE=image/jpeg:https://godwaysministry.com/wp-content/uploads/2024/08/GIM_PrayerProphetic.jpeg
LOCATION:https://godwaysministry.com/event/prayer-prophetic-time-a-new-dawn/2029-07-31/
END:VEVENT
BEGIN:VEVENT
DTSTART;VALUE=DATE:20290731
DTEND;VALUE=DATE:20290801
DTSTAMP:20260421T052316
CREATED:20250703T164223Z
LAST-MODIFIED:20250703T164223Z
UID:10004702-1880150400-1880236799@godwaysministry.com
SUMMARY:Global Ministration
DESCRIPTION:7AM EST/12:00 Noon UK and Nigeria
URL:https://godwaysministry.com/event/global-ministration-2/2029-07-31/
CATEGORIES:Announcements
ATTACH;FMTTYPE=image/jpeg:https://godwaysministry.com/wp-content/uploads/2024/08/GIM_PrayerProphetic.jpeg
LOCATION:https://godwaysministry.com/event/global-ministration-2/2029-07-31/
END:VEVENT
BEGIN:VEVENT
DTSTART;VALUE=DATE:20290801
DTEND;VALUE=DATE:20290802
DTSTAMP:20260421T052316
CREATED:20250703T161944Z
LAST-MODIFIED:20250703T162213Z
UID:10005748-1880236800-1880323199@godwaysministry.com
SUMMARY:Prayer & Prophetic Time: A New Dawn
DESCRIPTION:
URL:https://godwaysministry.com/event/prayer-prophetic-time-a-new-dawn/2029-08-01/
CATEGORIES:Weekly
ATTACH;FMTTYPE=image/jpeg:https://godwaysministry.com/wp-content/uploads/2024/08/GIM_PrayerProphetic.jpeg
LOCATION:https://godwaysministry.com/event/prayer-prophetic-time-a-new-dawn/2029-08-01/
END:VEVENT
BEGIN:VEVENT
DTSTART;VALUE=DATE:20290801
DTEND;VALUE=DATE:20290802
DTSTAMP:20260421T052316
CREATED:20250703T164223Z
LAST-MODIFIED:20250703T164223Z
UID:10004703-1880236800-1880323199@godwaysministry.com
SUMMARY:Global Ministration
DESCRIPTION:7AM EST/12:00 Noon UK and Nigeria
URL:https://godwaysministry.com/event/global-ministration-2/2029-08-01/
CATEGORIES:Announcements
ATTACH;FMTTYPE=image/jpeg:https://godwaysministry.com/wp-content/uploads/2024/08/GIM_PrayerProphetic.jpeg
LOCATION:https://godwaysministry.com/event/global-ministration-2/2029-08-01/
END:VEVENT
BEGIN:VEVENT
DTSTART;VALUE=DATE:20290803
DTEND;VALUE=DATE:20290804
DTSTAMP:20260421T052316
CREATED:20240830T171534Z
LAST-MODIFIED:20240830T171534Z
UID:10006023-1880409600-1880495999@godwaysministry.com
SUMMARY:Birmingham\, UK Weekly Service - Every Friday
DESCRIPTION:6 PM (local time) Every Friday
URL:https://godwaysministry.com/event/birmingham-uk-weekly-service-every-friday/2029-08-03/
CATEGORIES:Announcements
ATTACH;FMTTYPE=image/jpeg:https://godwaysministry.com/wp-content/uploads/2024/08/birmingham_online_weekly_prayers.jpg
ORGANIZER;CN="Birmingham%2C UK Campus":MAILTO:gimbham1@gmail.com
LOCATION:
END:VEVENT
BEGIN:VEVENT
DTSTART;VALUE=DATE:20290805
DTEND;VALUE=DATE:20290806
DTSTAMP:20260421T052316
CREATED:20240829T213735Z
LAST-MODIFIED:20240830T125429Z
UID:10003672-1880582400-1880668799@godwaysministry.com
SUMMARY:Godways Campuses Sunday Services
DESCRIPTION:London\, UK – 12 PM (local time) Every Sunday \nAtlanta\, USA  – 11 AM (local time) Every Sunday \nToronto\, Canada – 11 AM (local time) Every Sunday \nAbuja\, Nigeria – 10 AM (local time) Every Sunday
URL:https://godwaysministry.com/event/godways-campuses-sunday-services/2029-08-05/
LOCATION:Godways International Ministry\, London Campus\, 3rd Floor\, 64 Willoughby Lane\, London\, London\, N17 0SN\, United Kingdom
CATEGORIES:Announcements
ATTACH;FMTTYPE=image/jpeg:https://godwaysministry.com/wp-content/uploads/2024/08/sunday_services.jpg
END:VEVENT
BEGIN:VEVENT
DTSTART;VALUE=DATE:20290807
DTEND;VALUE=DATE:20290808
DTSTAMP:20260421T052316
CREATED:20250703T161944Z
LAST-MODIFIED:20250703T162213Z
UID:10005751-1880755200-1880841599@godwaysministry.com
SUMMARY:Prayer & Prophetic Time: A New Dawn
DESCRIPTION:
URL:https://godwaysministry.com/event/prayer-prophetic-time-a-new-dawn/2029-08-07/
CATEGORIES:Weekly
ATTACH;FMTTYPE=image/jpeg:https://godwaysministry.com/wp-content/uploads/2024/08/GIM_PrayerProphetic.jpeg
LOCATION:https://godwaysministry.com/event/prayer-prophetic-time-a-new-dawn/2029-08-07/
END:VEVENT
BEGIN:VEVENT
DTSTART;VALUE=DATE:20290807
DTEND;VALUE=DATE:20290808
DTSTAMP:20260421T052316
CREATED:20250703T164223Z
LAST-MODIFIED:20250703T164223Z
UID:10004706-1880755200-1880841599@godwaysministry.com
SUMMARY:Global Ministration
DESCRIPTION:7AM EST/12:00 Noon UK and Nigeria
URL:https://godwaysministry.com/event/global-ministration-2/2029-08-07/
CATEGORIES:Announcements
ATTACH;FMTTYPE=image/jpeg:https://godwaysministry.com/wp-content/uploads/2024/08/GIM_PrayerProphetic.jpeg
LOCATION:https://godwaysministry.com/event/global-ministration-2/2029-08-07/
END:VEVENT
BEGIN:VEVENT
DTSTART;VALUE=DATE:20290808
DTEND;VALUE=DATE:20290809
DTSTAMP:20260421T052316
CREATED:20250703T161944Z
LAST-MODIFIED:20250703T162213Z
UID:10005752-1880841600-1880927999@godwaysministry.com
SUMMARY:Prayer & Prophetic Time: A New Dawn
DESCRIPTION:
URL:https://godwaysministry.com/event/prayer-prophetic-time-a-new-dawn/2029-08-08/
CATEGORIES:Weekly
ATTACH;FMTTYPE=image/jpeg:https://godwaysministry.com/wp-content/uploads/2024/08/GIM_PrayerProphetic.jpeg
LOCATION:https://godwaysministry.com/event/prayer-prophetic-time-a-new-dawn/2029-08-08/
END:VEVENT
BEGIN:VEVENT
DTSTART;VALUE=DATE:20290808
DTEND;VALUE=DATE:20290809
DTSTAMP:20260421T052316
CREATED:20250703T164223Z
LAST-MODIFIED:20250703T164223Z
UID:10004707-1880841600-1880927999@godwaysministry.com
SUMMARY:Global Ministration
DESCRIPTION:7AM EST/12:00 Noon UK and Nigeria
URL:https://godwaysministry.com/event/global-ministration-2/2029-08-08/
CATEGORIES:Announcements
ATTACH;FMTTYPE=image/jpeg:https://godwaysministry.com/wp-content/uploads/2024/08/GIM_PrayerProphetic.jpeg
LOCATION:https://godwaysministry.com/event/global-ministration-2/2029-08-08/
END:VEVENT
BEGIN:VEVENT
DTSTART;VALUE=DATE:20290810
DTEND;VALUE=DATE:20290811
DTSTAMP:20260421T052316
CREATED:20240830T171534Z
LAST-MODIFIED:20240830T171534Z
UID:10006024-1881014400-1881100799@godwaysministry.com
SUMMARY:Birmingham\, UK Weekly Service - Every Friday
DESCRIPTION:6 PM (local time) Every Friday
URL:https://godwaysministry.com/event/birmingham-uk-weekly-service-every-friday/2029-08-10/
CATEGORIES:Announcements
ATTACH;FMTTYPE=image/jpeg:https://godwaysministry.com/wp-content/uploads/2024/08/birmingham_online_weekly_prayers.jpg
ORGANIZER;CN="Birmingham%2C UK Campus":MAILTO:gimbham1@gmail.com
LOCATION:
END:VEVENT
BEGIN:VEVENT
DTSTART;VALUE=DATE:20290812
DTEND;VALUE=DATE:20290813
DTSTAMP:20260421T052316
CREATED:20240829T213735Z
LAST-MODIFIED:20240830T125429Z
UID:10003673-1881187200-1881273599@godwaysministry.com
SUMMARY:Godways Campuses Sunday Services
DESCRIPTION:London\, UK – 12 PM (local time) Every Sunday \nAtlanta\, USA  – 11 AM (local time) Every Sunday \nToronto\, Canada – 11 AM (local time) Every Sunday \nAbuja\, Nigeria – 10 AM (local time) Every Sunday
URL:https://godwaysministry.com/event/godways-campuses-sunday-services/2029-08-12/
LOCATION:Godways International Ministry\, London Campus\, 3rd Floor\, 64 Willoughby Lane\, London\, London\, N17 0SN\, United Kingdom
CATEGORIES:Announcements
ATTACH;FMTTYPE=image/jpeg:https://godwaysministry.com/wp-content/uploads/2024/08/sunday_services.jpg
END:VEVENT
BEGIN:VEVENT
DTSTART;VALUE=DATE:20290814
DTEND;VALUE=DATE:20290815
DTSTAMP:20260421T052316
CREATED:20250703T161944Z
LAST-MODIFIED:20250703T162213Z
UID:10005755-1881360000-1881446399@godwaysministry.com
SUMMARY:Prayer & Prophetic Time: A New Dawn
DESCRIPTION:
URL:https://godwaysministry.com/event/prayer-prophetic-time-a-new-dawn/2029-08-14/
CATEGORIES:Weekly
ATTACH;FMTTYPE=image/jpeg:https://godwaysministry.com/wp-content/uploads/2024/08/GIM_PrayerProphetic.jpeg
LOCATION:https://godwaysministry.com/event/prayer-prophetic-time-a-new-dawn/2029-08-14/
END:VEVENT
BEGIN:VEVENT
DTSTART;VALUE=DATE:20290814
DTEND;VALUE=DATE:20290815
DTSTAMP:20260421T052316
CREATED:20250703T164223Z
LAST-MODIFIED:20250703T164223Z
UID:10004710-1881360000-1881446399@godwaysministry.com
SUMMARY:Global Ministration
DESCRIPTION:7AM EST/12:00 Noon UK and Nigeria
URL:https://godwaysministry.com/event/global-ministration-2/2029-08-14/
CATEGORIES:Announcements
ATTACH;FMTTYPE=image/jpeg:https://godwaysministry.com/wp-content/uploads/2024/08/GIM_PrayerProphetic.jpeg
LOCATION:https://godwaysministry.com/event/global-ministration-2/2029-08-14/
END:VEVENT
BEGIN:VEVENT
DTSTART;VALUE=DATE:20290815
DTEND;VALUE=DATE:20290816
DTSTAMP:20260421T052317
CREATED:20250703T161944Z
LAST-MODIFIED:20250703T162213Z
UID:10005756-1881446400-1881532799@godwaysministry.com
SUMMARY:Prayer & Prophetic Time: A New Dawn
DESCRIPTION:
URL:https://godwaysministry.com/event/prayer-prophetic-time-a-new-dawn/2029-08-15/
CATEGORIES:Weekly
ATTACH;FMTTYPE=image/jpeg:https://godwaysministry.com/wp-content/uploads/2024/08/GIM_PrayerProphetic.jpeg
LOCATION:https://godwaysministry.com/event/prayer-prophetic-time-a-new-dawn/2029-08-15/
END:VEVENT
BEGIN:VEVENT
DTSTART;VALUE=DATE:20290815
DTEND;VALUE=DATE:20290816
DTSTAMP:20260421T052317
CREATED:20250703T164223Z
LAST-MODIFIED:20250703T164223Z
UID:10004711-1881446400-1881532799@godwaysministry.com
SUMMARY:Global Ministration
DESCRIPTION:7AM EST/12:00 Noon UK and Nigeria
URL:https://godwaysministry.com/event/global-ministration-2/2029-08-15/
CATEGORIES:Announcements
ATTACH;FMTTYPE=image/jpeg:https://godwaysministry.com/wp-content/uploads/2024/08/GIM_PrayerProphetic.jpeg
LOCATION:https://godwaysministry.com/event/global-ministration-2/2029-08-15/
END:VEVENT
BEGIN:VEVENT
DTSTART;VALUE=DATE:20290817
DTEND;VALUE=DATE:20290818
DTSTAMP:20260421T052317
CREATED:20240830T171534Z
LAST-MODIFIED:20240830T171534Z
UID:10006025-1881619200-1881705599@godwaysministry.com
SUMMARY:Birmingham\, UK Weekly Service - Every Friday
DESCRIPTION:6 PM (local time) Every Friday
URL:https://godwaysministry.com/event/birmingham-uk-weekly-service-every-friday/2029-08-17/
CATEGORIES:Announcements
ATTACH;FMTTYPE=image/jpeg:https://godwaysministry.com/wp-content/uploads/2024/08/birmingham_online_weekly_prayers.jpg
ORGANIZER;CN="Birmingham%2C UK Campus":MAILTO:gimbham1@gmail.com
LOCATION:
END:VEVENT
BEGIN:VEVENT
DTSTART;VALUE=DATE:20290819
DTEND;VALUE=DATE:20290820
DTSTAMP:20260421T052317
CREATED:20240829T213735Z
LAST-MODIFIED:20240830T125429Z
UID:10003674-1881792000-1881878399@godwaysministry.com
SUMMARY:Godways Campuses Sunday Services
DESCRIPTION:London\, UK – 12 PM (local time) Every Sunday \nAtlanta\, USA  – 11 AM (local time) Every Sunday \nToronto\, Canada – 11 AM (local time) Every Sunday \nAbuja\, Nigeria – 10 AM (local time) Every Sunday
URL:https://godwaysministry.com/event/godways-campuses-sunday-services/2029-08-19/
LOCATION:Godways International Ministry\, London Campus\, 3rd Floor\, 64 Willoughby Lane\, London\, London\, N17 0SN\, United Kingdom
CATEGORIES:Announcements
ATTACH;FMTTYPE=image/jpeg:https://godwaysministry.com/wp-content/uploads/2024/08/sunday_services.jpg
END:VEVENT
BEGIN:VEVENT
DTSTART;VALUE=DATE:20290821
DTEND;VALUE=DATE:20290822
DTSTAMP:20260421T052317
CREATED:20250703T161944Z
LAST-MODIFIED:20250703T162213Z
UID:10005759-1881964800-1882051199@godwaysministry.com
SUMMARY:Prayer & Prophetic Time: A New Dawn
DESCRIPTION:
URL:https://godwaysministry.com/event/prayer-prophetic-time-a-new-dawn/2029-08-21/
CATEGORIES:Weekly
ATTACH;FMTTYPE=image/jpeg:https://godwaysministry.com/wp-content/uploads/2024/08/GIM_PrayerProphetic.jpeg
LOCATION:https://godwaysministry.com/event/prayer-prophetic-time-a-new-dawn/2029-08-21/
END:VEVENT
BEGIN:VEVENT
DTSTART;VALUE=DATE:20290821
DTEND;VALUE=DATE:20290822
DTSTAMP:20260421T052317
CREATED:20250703T164223Z
LAST-MODIFIED:20250703T164223Z
UID:10004714-1881964800-1882051199@godwaysministry.com
SUMMARY:Global Ministration
DESCRIPTION:7AM EST/12:00 Noon UK and Nigeria
URL:https://godwaysministry.com/event/global-ministration-2/2029-08-21/
CATEGORIES:Announcements
ATTACH;FMTTYPE=image/jpeg:https://godwaysministry.com/wp-content/uploads/2024/08/GIM_PrayerProphetic.jpeg
LOCATION:https://godwaysministry.com/event/global-ministration-2/2029-08-21/
END:VEVENT
BEGIN:VEVENT
DTSTART;VALUE=DATE:20290822
DTEND;VALUE=DATE:20290823
DTSTAMP:20260421T052317
CREATED:20250703T161944Z
LAST-MODIFIED:20250703T162213Z
UID:10005760-1882051200-1882137599@godwaysministry.com
SUMMARY:Prayer & Prophetic Time: A New Dawn
DESCRIPTION:
URL:https://godwaysministry.com/event/prayer-prophetic-time-a-new-dawn/2029-08-22/
CATEGORIES:Weekly
ATTACH;FMTTYPE=image/jpeg:https://godwaysministry.com/wp-content/uploads/2024/08/GIM_PrayerProphetic.jpeg
LOCATION:https://godwaysministry.com/event/prayer-prophetic-time-a-new-dawn/2029-08-22/
END:VEVENT
BEGIN:VEVENT
DTSTART;VALUE=DATE:20290822
DTEND;VALUE=DATE:20290823
DTSTAMP:20260421T052317
CREATED:20250703T164223Z
LAST-MODIFIED:20250703T164223Z
UID:10004715-1882051200-1882137599@godwaysministry.com
SUMMARY:Global Ministration
DESCRIPTION:7AM EST/12:00 Noon UK and Nigeria
URL:https://godwaysministry.com/event/global-ministration-2/2029-08-22/
CATEGORIES:Announcements
ATTACH;FMTTYPE=image/jpeg:https://godwaysministry.com/wp-content/uploads/2024/08/GIM_PrayerProphetic.jpeg
LOCATION:https://godwaysministry.com/event/global-ministration-2/2029-08-22/
END:VEVENT
BEGIN:VEVENT
DTSTART;VALUE=DATE:20290824
DTEND;VALUE=DATE:20290825
DTSTAMP:20260421T052317
CREATED:20240830T171534Z
LAST-MODIFIED:20240830T171534Z
UID:10006026-1882224000-1882310399@godwaysministry.com
SUMMARY:Birmingham\, UK Weekly Service - Every Friday
DESCRIPTION:6 PM (local time) Every Friday
URL:https://godwaysministry.com/event/birmingham-uk-weekly-service-every-friday/2029-08-24/
CATEGORIES:Announcements
ATTACH;FMTTYPE=image/jpeg:https://godwaysministry.com/wp-content/uploads/2024/08/birmingham_online_weekly_prayers.jpg
ORGANIZER;CN="Birmingham%2C UK Campus":MAILTO:gimbham1@gmail.com
LOCATION:
END:VEVENT
BEGIN:VEVENT
DTSTART;VALUE=DATE:20290826
DTEND;VALUE=DATE:20290827
DTSTAMP:20260421T052317
CREATED:20240829T213735Z
LAST-MODIFIED:20240830T125429Z
UID:10003675-1882396800-1882483199@godwaysministry.com
SUMMARY:Godways Campuses Sunday Services
DESCRIPTION:London\, UK – 12 PM (local time) Every Sunday \nAtlanta\, USA  – 11 AM (local time) Every Sunday \nToronto\, Canada – 11 AM (local time) Every Sunday \nAbuja\, Nigeria – 10 AM (local time) Every Sunday
URL:https://godwaysministry.com/event/godways-campuses-sunday-services/2029-08-26/
LOCATION:Godways International Ministry\, London Campus\, 3rd Floor\, 64 Willoughby Lane\, London\, London\, N17 0SN\, United Kingdom
CATEGORIES:Announcements
ATTACH;FMTTYPE=image/jpeg:https://godwaysministry.com/wp-content/uploads/2024/08/sunday_services.jpg
END:VEVENT
BEGIN:VEVENT
DTSTART;VALUE=DATE:20290828
DTEND;VALUE=DATE:20290829
DTSTAMP:20260421T052317
CREATED:20250703T161944Z
LAST-MODIFIED:20250703T162213Z
UID:10005763-1882569600-1882655999@godwaysministry.com
SUMMARY:Prayer & Prophetic Time: A New Dawn
DESCRIPTION:
URL:https://godwaysministry.com/event/prayer-prophetic-time-a-new-dawn/2029-08-28/
CATEGORIES:Weekly
ATTACH;FMTTYPE=image/jpeg:https://godwaysministry.com/wp-content/uploads/2024/08/GIM_PrayerProphetic.jpeg
LOCATION:https://godwaysministry.com/event/prayer-prophetic-time-a-new-dawn/2029-08-28/
END:VEVENT
BEGIN:VEVENT
DTSTART;VALUE=DATE:20290828
DTEND;VALUE=DATE:20290829
DTSTAMP:20260421T052317
CREATED:20250703T164223Z
LAST-MODIFIED:20250703T164223Z
UID:10004718-1882569600-1882655999@godwaysministry.com
SUMMARY:Global Ministration
DESCRIPTION:7AM EST/12:00 Noon UK and Nigeria
URL:https://godwaysministry.com/event/global-ministration-2/2029-08-28/
CATEGORIES:Announcements
ATTACH;FMTTYPE=image/jpeg:https://godwaysministry.com/wp-content/uploads/2024/08/GIM_PrayerProphetic.jpeg
LOCATION:https://godwaysministry.com/event/global-ministration-2/2029-08-28/
END:VEVENT
BEGIN:VEVENT
DTSTART;VALUE=DATE:20290829
DTEND;VALUE=DATE:20290830
DTSTAMP:20260421T052317
CREATED:20250703T161944Z
LAST-MODIFIED:20250703T162213Z
UID:10005764-1882656000-1882742399@godwaysministry.com
SUMMARY:Prayer & Prophetic Time: A New Dawn
DESCRIPTION:
URL:https://godwaysministry.com/event/prayer-prophetic-time-a-new-dawn/2029-08-29/
CATEGORIES:Weekly
ATTACH;FMTTYPE=image/jpeg:https://godwaysministry.com/wp-content/uploads/2024/08/GIM_PrayerProphetic.jpeg
LOCATION:https://godwaysministry.com/event/prayer-prophetic-time-a-new-dawn/2029-08-29/
END:VEVENT
BEGIN:VEVENT
DTSTART;VALUE=DATE:20290829
DTEND;VALUE=DATE:20290830
DTSTAMP:20260421T052317
CREATED:20250703T164223Z
LAST-MODIFIED:20250703T164223Z
UID:10004719-1882656000-1882742399@godwaysministry.com
SUMMARY:Global Ministration
DESCRIPTION:7AM EST/12:00 Noon UK and Nigeria
URL:https://godwaysministry.com/event/global-ministration-2/2029-08-29/
CATEGORIES:Announcements
ATTACH;FMTTYPE=image/jpeg:https://godwaysministry.com/wp-content/uploads/2024/08/GIM_PrayerProphetic.jpeg
LOCATION:https://godwaysministry.com/event/global-ministration-2/2029-08-29/
END:VEVENT
BEGIN:VEVENT
DTSTART;VALUE=DATE:20290904
DTEND;VALUE=DATE:20290905
DTSTAMP:20260421T052317
CREATED:20250703T161944Z
LAST-MODIFIED:20250703T162213Z
UID:10006087-1883174400-1883260799@godwaysministry.com
SUMMARY:Prayer & Prophetic Time: A New Dawn
DESCRIPTION:
URL:https://godwaysministry.com/event/prayer-prophetic-time-a-new-dawn/2029-09-04/
CATEGORIES:Weekly
ATTACH;FMTTYPE=image/jpeg:https://godwaysministry.com/wp-content/uploads/2024/08/GIM_PrayerProphetic.jpeg
LOCATION:https://godwaysministry.com/event/prayer-prophetic-time-a-new-dawn/2029-09-04/
END:VEVENT
BEGIN:VEVENT
DTSTART;VALUE=DATE:20290904
DTEND;VALUE=DATE:20290905
DTSTAMP:20260421T052317
CREATED:20250703T164223Z
LAST-MODIFIED:20250703T164223Z
UID:10006220-1883174400-1883260799@godwaysministry.com
SUMMARY:Global Ministration
DESCRIPTION:7AM EST/12:00 Noon UK and Nigeria
URL:https://godwaysministry.com/event/global-ministration-2/2029-09-04/
CATEGORIES:Announcements
ATTACH;FMTTYPE=image/jpeg:https://godwaysministry.com/wp-content/uploads/2024/08/GIM_PrayerProphetic.jpeg
LOCATION:https://godwaysministry.com/event/global-ministration-2/2029-09-04/
END:VEVENT
END:VCALENDAR