BEGIN:VCALENDAR
VERSION:2.0
PRODID:-//Godways International Ministry - ECPv6.6.2//NONSGML v1.0//EN
CALSCALE:GREGORIAN
METHOD:PUBLISH
X-WR-CALNAME:Godways International Ministry
X-ORIGINAL-URL:https://godwaysministry.com
X-WR-CALDESC:Events for Godways International Ministry
REFRESH-INTERVAL;VALUE=DURATION:PT1H
X-Robots-Tag:noindex
X-PUBLISHED-TTL:PT1H
BEGIN:VTIMEZONE
TZID:America/Toronto
BEGIN:DAYLIGHT
TZOFFSETFROM:-0500
TZOFFSETTO:-0400
TZNAME:EDT
DTSTART:20300310T070000
END:DAYLIGHT
BEGIN:STANDARD
TZOFFSETFROM:-0400
TZOFFSETTO:-0500
TZNAME:EST
DTSTART:20301103T060000
END:STANDARD
END:VTIMEZONE
BEGIN:VEVENT
DTSTART;VALUE=DATE:20300108
DTEND;VALUE=DATE:20300109
DTSTAMP:20260423T093138
CREATED:20250703T161944Z
LAST-MODIFIED:20250703T162213Z
UID:10006141-1894060800-1894147199@godwaysministry.com
SUMMARY:Prayer & Prophetic Time: A New Dawn
DESCRIPTION:
URL:https://godwaysministry.com/event/prayer-prophetic-time-a-new-dawn/2030-01-08/
CATEGORIES:Weekly
ATTACH;FMTTYPE=image/jpeg:https://godwaysministry.com/wp-content/uploads/2024/08/GIM_PrayerProphetic.jpeg
LOCATION:https://godwaysministry.com/event/prayer-prophetic-time-a-new-dawn/2030-01-08/
END:VEVENT
BEGIN:VEVENT
DTSTART;VALUE=DATE:20300108
DTEND;VALUE=DATE:20300109
DTSTAMP:20260423T093138
CREATED:20250703T164223Z
LAST-MODIFIED:20250703T164223Z
UID:10006292-1894060800-1894147199@godwaysministry.com
SUMMARY:Global Ministration
DESCRIPTION:7AM EST/12:00 Noon UK and Nigeria
URL:https://godwaysministry.com/event/global-ministration-2/2030-01-08/
CATEGORIES:Announcements
ATTACH;FMTTYPE=image/jpeg:https://godwaysministry.com/wp-content/uploads/2024/08/GIM_PrayerProphetic.jpeg
LOCATION:https://godwaysministry.com/event/global-ministration-2/2030-01-08/
END:VEVENT
BEGIN:VEVENT
DTSTART;VALUE=DATE:20300109
DTEND;VALUE=DATE:20300110
DTSTAMP:20260423T093138
CREATED:20250703T161944Z
LAST-MODIFIED:20250703T162213Z
UID:10006142-1894147200-1894233599@godwaysministry.com
SUMMARY:Prayer & Prophetic Time: A New Dawn
DESCRIPTION:
URL:https://godwaysministry.com/event/prayer-prophetic-time-a-new-dawn/2030-01-09/
CATEGORIES:Weekly
ATTACH;FMTTYPE=image/jpeg:https://godwaysministry.com/wp-content/uploads/2024/08/GIM_PrayerProphetic.jpeg
LOCATION:https://godwaysministry.com/event/prayer-prophetic-time-a-new-dawn/2030-01-09/
END:VEVENT
BEGIN:VEVENT
DTSTART;VALUE=DATE:20300109
DTEND;VALUE=DATE:20300110
DTSTAMP:20260423T093138
CREATED:20250703T164223Z
LAST-MODIFIED:20250703T164223Z
UID:10006293-1894147200-1894233599@godwaysministry.com
SUMMARY:Global Ministration
DESCRIPTION:7AM EST/12:00 Noon UK and Nigeria
URL:https://godwaysministry.com/event/global-ministration-2/2030-01-09/
CATEGORIES:Announcements
ATTACH;FMTTYPE=image/jpeg:https://godwaysministry.com/wp-content/uploads/2024/08/GIM_PrayerProphetic.jpeg
LOCATION:https://godwaysministry.com/event/global-ministration-2/2030-01-09/
END:VEVENT
BEGIN:VEVENT
DTSTART;VALUE=DATE:20300115
DTEND;VALUE=DATE:20300116
DTSTAMP:20260423T093138
CREATED:20250703T161944Z
LAST-MODIFIED:20250703T162213Z
UID:10006144-1894665600-1894751999@godwaysministry.com
SUMMARY:Prayer & Prophetic Time: A New Dawn
DESCRIPTION:
URL:https://godwaysministry.com/event/prayer-prophetic-time-a-new-dawn/2030-01-15/
CATEGORIES:Weekly
ATTACH;FMTTYPE=image/jpeg:https://godwaysministry.com/wp-content/uploads/2024/08/GIM_PrayerProphetic.jpeg
LOCATION:https://godwaysministry.com/event/prayer-prophetic-time-a-new-dawn/2030-01-15/
END:VEVENT
BEGIN:VEVENT
DTSTART;VALUE=DATE:20300115
DTEND;VALUE=DATE:20300116
DTSTAMP:20260423T093138
CREATED:20250703T164223Z
LAST-MODIFIED:20250703T164223Z
UID:10006296-1894665600-1894751999@godwaysministry.com
SUMMARY:Global Ministration
DESCRIPTION:7AM EST/12:00 Noon UK and Nigeria
URL:https://godwaysministry.com/event/global-ministration-2/2030-01-15/
CATEGORIES:Announcements
ATTACH;FMTTYPE=image/jpeg:https://godwaysministry.com/wp-content/uploads/2024/08/GIM_PrayerProphetic.jpeg
LOCATION:https://godwaysministry.com/event/global-ministration-2/2030-01-15/
END:VEVENT
BEGIN:VEVENT
DTSTART;VALUE=DATE:20300116
DTEND;VALUE=DATE:20300117
DTSTAMP:20260423T093138
CREATED:20250703T161944Z
LAST-MODIFIED:20250703T162213Z
UID:10006145-1894752000-1894838399@godwaysministry.com
SUMMARY:Prayer & Prophetic Time: A New Dawn
DESCRIPTION:
URL:https://godwaysministry.com/event/prayer-prophetic-time-a-new-dawn/2030-01-16/
CATEGORIES:Weekly
ATTACH;FMTTYPE=image/jpeg:https://godwaysministry.com/wp-content/uploads/2024/08/GIM_PrayerProphetic.jpeg
LOCATION:https://godwaysministry.com/event/prayer-prophetic-time-a-new-dawn/2030-01-16/
END:VEVENT
BEGIN:VEVENT
DTSTART;VALUE=DATE:20300116
DTEND;VALUE=DATE:20300117
DTSTAMP:20260423T093138
CREATED:20250703T164223Z
LAST-MODIFIED:20250703T164223Z
UID:10006297-1894752000-1894838399@godwaysministry.com
SUMMARY:Global Ministration
DESCRIPTION:7AM EST/12:00 Noon UK and Nigeria
URL:https://godwaysministry.com/event/global-ministration-2/2030-01-16/
CATEGORIES:Announcements
ATTACH;FMTTYPE=image/jpeg:https://godwaysministry.com/wp-content/uploads/2024/08/GIM_PrayerProphetic.jpeg
LOCATION:https://godwaysministry.com/event/global-ministration-2/2030-01-16/
END:VEVENT
BEGIN:VEVENT
DTSTART;VALUE=DATE:20300122
DTEND;VALUE=DATE:20300123
DTSTAMP:20260423T093138
CREATED:20250703T161944Z
LAST-MODIFIED:20250703T162213Z
UID:10006147-1895270400-1895356799@godwaysministry.com
SUMMARY:Prayer & Prophetic Time: A New Dawn
DESCRIPTION:
URL:https://godwaysministry.com/event/prayer-prophetic-time-a-new-dawn/2030-01-22/
CATEGORIES:Weekly
ATTACH;FMTTYPE=image/jpeg:https://godwaysministry.com/wp-content/uploads/2024/08/GIM_PrayerProphetic.jpeg
LOCATION:https://godwaysministry.com/event/prayer-prophetic-time-a-new-dawn/2030-01-22/
END:VEVENT
BEGIN:VEVENT
DTSTART;VALUE=DATE:20300122
DTEND;VALUE=DATE:20300123
DTSTAMP:20260423T093138
CREATED:20250703T164223Z
LAST-MODIFIED:20250703T164223Z
UID:10006300-1895270400-1895356799@godwaysministry.com
SUMMARY:Global Ministration
DESCRIPTION:7AM EST/12:00 Noon UK and Nigeria
URL:https://godwaysministry.com/event/global-ministration-2/2030-01-22/
CATEGORIES:Announcements
ATTACH;FMTTYPE=image/jpeg:https://godwaysministry.com/wp-content/uploads/2024/08/GIM_PrayerProphetic.jpeg
LOCATION:https://godwaysministry.com/event/global-ministration-2/2030-01-22/
END:VEVENT
BEGIN:VEVENT
DTSTART;VALUE=DATE:20300123
DTEND;VALUE=DATE:20300124
DTSTAMP:20260423T093138
CREATED:20250703T161944Z
LAST-MODIFIED:20250703T162213Z
UID:10006148-1895356800-1895443199@godwaysministry.com
SUMMARY:Prayer & Prophetic Time: A New Dawn
DESCRIPTION:
URL:https://godwaysministry.com/event/prayer-prophetic-time-a-new-dawn/2030-01-23/
CATEGORIES:Weekly
ATTACH;FMTTYPE=image/jpeg:https://godwaysministry.com/wp-content/uploads/2024/08/GIM_PrayerProphetic.jpeg
LOCATION:https://godwaysministry.com/event/prayer-prophetic-time-a-new-dawn/2030-01-23/
END:VEVENT
BEGIN:VEVENT
DTSTART;VALUE=DATE:20300123
DTEND;VALUE=DATE:20300124
DTSTAMP:20260423T093138
CREATED:20250703T164223Z
LAST-MODIFIED:20250703T164223Z
UID:10006301-1895356800-1895443199@godwaysministry.com
SUMMARY:Global Ministration
DESCRIPTION:7AM EST/12:00 Noon UK and Nigeria
URL:https://godwaysministry.com/event/global-ministration-2/2030-01-23/
CATEGORIES:Announcements
ATTACH;FMTTYPE=image/jpeg:https://godwaysministry.com/wp-content/uploads/2024/08/GIM_PrayerProphetic.jpeg
LOCATION:https://godwaysministry.com/event/global-ministration-2/2030-01-23/
END:VEVENT
BEGIN:VEVENT
DTSTART;VALUE=DATE:20300129
DTEND;VALUE=DATE:20300130
DTSTAMP:20260423T093138
CREATED:20250703T161944Z
LAST-MODIFIED:20250703T162213Z
UID:10006150-1895875200-1895961599@godwaysministry.com
SUMMARY:Prayer & Prophetic Time: A New Dawn
DESCRIPTION:
URL:https://godwaysministry.com/event/prayer-prophetic-time-a-new-dawn/2030-01-29/
CATEGORIES:Weekly
ATTACH;FMTTYPE=image/jpeg:https://godwaysministry.com/wp-content/uploads/2024/08/GIM_PrayerProphetic.jpeg
LOCATION:https://godwaysministry.com/event/prayer-prophetic-time-a-new-dawn/2030-01-29/
END:VEVENT
BEGIN:VEVENT
DTSTART;VALUE=DATE:20300129
DTEND;VALUE=DATE:20300130
DTSTAMP:20260423T093138
CREATED:20250703T164223Z
LAST-MODIFIED:20250703T164223Z
UID:10006304-1895875200-1895961599@godwaysministry.com
SUMMARY:Global Ministration
DESCRIPTION:7AM EST/12:00 Noon UK and Nigeria
URL:https://godwaysministry.com/event/global-ministration-2/2030-01-29/
CATEGORIES:Announcements
ATTACH;FMTTYPE=image/jpeg:https://godwaysministry.com/wp-content/uploads/2024/08/GIM_PrayerProphetic.jpeg
LOCATION:https://godwaysministry.com/event/global-ministration-2/2030-01-29/
END:VEVENT
BEGIN:VEVENT
DTSTART;VALUE=DATE:20300130
DTEND;VALUE=DATE:20300131
DTSTAMP:20260423T093138
CREATED:20250703T161944Z
LAST-MODIFIED:20250703T162213Z
UID:10006151-1895961600-1896047999@godwaysministry.com
SUMMARY:Prayer & Prophetic Time: A New Dawn
DESCRIPTION:
URL:https://godwaysministry.com/event/prayer-prophetic-time-a-new-dawn/2030-01-30/
CATEGORIES:Weekly
ATTACH;FMTTYPE=image/jpeg:https://godwaysministry.com/wp-content/uploads/2024/08/GIM_PrayerProphetic.jpeg
LOCATION:https://godwaysministry.com/event/prayer-prophetic-time-a-new-dawn/2030-01-30/
END:VEVENT
BEGIN:VEVENT
DTSTART;VALUE=DATE:20300130
DTEND;VALUE=DATE:20300131
DTSTAMP:20260423T093138
CREATED:20250703T164223Z
LAST-MODIFIED:20250703T164223Z
UID:10006305-1895961600-1896047999@godwaysministry.com
SUMMARY:Global Ministration
DESCRIPTION:7AM EST/12:00 Noon UK and Nigeria
URL:https://godwaysministry.com/event/global-ministration-2/2030-01-30/
CATEGORIES:Announcements
ATTACH;FMTTYPE=image/jpeg:https://godwaysministry.com/wp-content/uploads/2024/08/GIM_PrayerProphetic.jpeg
LOCATION:https://godwaysministry.com/event/global-ministration-2/2030-01-30/
END:VEVENT
BEGIN:VEVENT
DTSTART;VALUE=DATE:20300205
DTEND;VALUE=DATE:20300206
DTSTAMP:20260423T093138
CREATED:20250703T161944Z
LAST-MODIFIED:20250703T162213Z
UID:10006153-1896480000-1896566399@godwaysministry.com
SUMMARY:Prayer & Prophetic Time: A New Dawn
DESCRIPTION:
URL:https://godwaysministry.com/event/prayer-prophetic-time-a-new-dawn/2030-02-05/
CATEGORIES:Weekly
ATTACH;FMTTYPE=image/jpeg:https://godwaysministry.com/wp-content/uploads/2024/08/GIM_PrayerProphetic.jpeg
LOCATION:https://godwaysministry.com/event/prayer-prophetic-time-a-new-dawn/2030-02-05/
END:VEVENT
BEGIN:VEVENT
DTSTART;VALUE=DATE:20300205
DTEND;VALUE=DATE:20300206
DTSTAMP:20260423T093138
CREATED:20250703T164223Z
LAST-MODIFIED:20250703T164223Z
UID:10006308-1896480000-1896566399@godwaysministry.com
SUMMARY:Global Ministration
DESCRIPTION:7AM EST/12:00 Noon UK and Nigeria
URL:https://godwaysministry.com/event/global-ministration-2/2030-02-05/
CATEGORIES:Announcements
ATTACH;FMTTYPE=image/jpeg:https://godwaysministry.com/wp-content/uploads/2024/08/GIM_PrayerProphetic.jpeg
LOCATION:https://godwaysministry.com/event/global-ministration-2/2030-02-05/
END:VEVENT
BEGIN:VEVENT
DTSTART;VALUE=DATE:20300206
DTEND;VALUE=DATE:20300207
DTSTAMP:20260423T093138
CREATED:20250703T161944Z
LAST-MODIFIED:20250703T162213Z
UID:10006154-1896566400-1896652799@godwaysministry.com
SUMMARY:Prayer & Prophetic Time: A New Dawn
DESCRIPTION:
URL:https://godwaysministry.com/event/prayer-prophetic-time-a-new-dawn/2030-02-06/
CATEGORIES:Weekly
ATTACH;FMTTYPE=image/jpeg:https://godwaysministry.com/wp-content/uploads/2024/08/GIM_PrayerProphetic.jpeg
LOCATION:https://godwaysministry.com/event/prayer-prophetic-time-a-new-dawn/2030-02-06/
END:VEVENT
BEGIN:VEVENT
DTSTART;VALUE=DATE:20300206
DTEND;VALUE=DATE:20300207
DTSTAMP:20260423T093138
CREATED:20250703T164223Z
LAST-MODIFIED:20250703T164223Z
UID:10006309-1896566400-1896652799@godwaysministry.com
SUMMARY:Global Ministration
DESCRIPTION:7AM EST/12:00 Noon UK and Nigeria
URL:https://godwaysministry.com/event/global-ministration-2/2030-02-06/
CATEGORIES:Announcements
ATTACH;FMTTYPE=image/jpeg:https://godwaysministry.com/wp-content/uploads/2024/08/GIM_PrayerProphetic.jpeg
LOCATION:https://godwaysministry.com/event/global-ministration-2/2030-02-06/
END:VEVENT
BEGIN:VEVENT
DTSTART;VALUE=DATE:20300212
DTEND;VALUE=DATE:20300213
DTSTAMP:20260423T093138
CREATED:20250703T161944Z
LAST-MODIFIED:20250703T162213Z
UID:10006156-1897084800-1897171199@godwaysministry.com
SUMMARY:Prayer & Prophetic Time: A New Dawn
DESCRIPTION:
URL:https://godwaysministry.com/event/prayer-prophetic-time-a-new-dawn/2030-02-12/
CATEGORIES:Weekly
ATTACH;FMTTYPE=image/jpeg:https://godwaysministry.com/wp-content/uploads/2024/08/GIM_PrayerProphetic.jpeg
LOCATION:https://godwaysministry.com/event/prayer-prophetic-time-a-new-dawn/2030-02-12/
END:VEVENT
BEGIN:VEVENT
DTSTART;VALUE=DATE:20300212
DTEND;VALUE=DATE:20300213
DTSTAMP:20260423T093138
CREATED:20250703T164223Z
LAST-MODIFIED:20250703T164223Z
UID:10006312-1897084800-1897171199@godwaysministry.com
SUMMARY:Global Ministration
DESCRIPTION:7AM EST/12:00 Noon UK and Nigeria
URL:https://godwaysministry.com/event/global-ministration-2/2030-02-12/
CATEGORIES:Announcements
ATTACH;FMTTYPE=image/jpeg:https://godwaysministry.com/wp-content/uploads/2024/08/GIM_PrayerProphetic.jpeg
LOCATION:https://godwaysministry.com/event/global-ministration-2/2030-02-12/
END:VEVENT
BEGIN:VEVENT
DTSTART;VALUE=DATE:20300213
DTEND;VALUE=DATE:20300214
DTSTAMP:20260423T093138
CREATED:20250703T161944Z
LAST-MODIFIED:20250703T162213Z
UID:10006157-1897171200-1897257599@godwaysministry.com
SUMMARY:Prayer & Prophetic Time: A New Dawn
DESCRIPTION:
URL:https://godwaysministry.com/event/prayer-prophetic-time-a-new-dawn/2030-02-13/
CATEGORIES:Weekly
ATTACH;FMTTYPE=image/jpeg:https://godwaysministry.com/wp-content/uploads/2024/08/GIM_PrayerProphetic.jpeg
LOCATION:https://godwaysministry.com/event/prayer-prophetic-time-a-new-dawn/2030-02-13/
END:VEVENT
BEGIN:VEVENT
DTSTART;VALUE=DATE:20300213
DTEND;VALUE=DATE:20300214
DTSTAMP:20260423T093138
CREATED:20250703T164223Z
LAST-MODIFIED:20250703T164223Z
UID:10006313-1897171200-1897257599@godwaysministry.com
SUMMARY:Global Ministration
DESCRIPTION:7AM EST/12:00 Noon UK and Nigeria
URL:https://godwaysministry.com/event/global-ministration-2/2030-02-13/
CATEGORIES:Announcements
ATTACH;FMTTYPE=image/jpeg:https://godwaysministry.com/wp-content/uploads/2024/08/GIM_PrayerProphetic.jpeg
LOCATION:https://godwaysministry.com/event/global-ministration-2/2030-02-13/
END:VEVENT
BEGIN:VEVENT
DTSTART;VALUE=DATE:20300219
DTEND;VALUE=DATE:20300220
DTSTAMP:20260423T093138
CREATED:20250703T161944Z
LAST-MODIFIED:20250703T162213Z
UID:10006159-1897689600-1897775999@godwaysministry.com
SUMMARY:Prayer & Prophetic Time: A New Dawn
DESCRIPTION:
URL:https://godwaysministry.com/event/prayer-prophetic-time-a-new-dawn/2030-02-19/
CATEGORIES:Weekly
ATTACH;FMTTYPE=image/jpeg:https://godwaysministry.com/wp-content/uploads/2024/08/GIM_PrayerProphetic.jpeg
LOCATION:https://godwaysministry.com/event/prayer-prophetic-time-a-new-dawn/2030-02-19/
END:VEVENT
BEGIN:VEVENT
DTSTART;VALUE=DATE:20300219
DTEND;VALUE=DATE:20300220
DTSTAMP:20260423T093138
CREATED:20250703T164223Z
LAST-MODIFIED:20250703T164223Z
UID:10006316-1897689600-1897775999@godwaysministry.com
SUMMARY:Global Ministration
DESCRIPTION:7AM EST/12:00 Noon UK and Nigeria
URL:https://godwaysministry.com/event/global-ministration-2/2030-02-19/
CATEGORIES:Announcements
ATTACH;FMTTYPE=image/jpeg:https://godwaysministry.com/wp-content/uploads/2024/08/GIM_PrayerProphetic.jpeg
LOCATION:https://godwaysministry.com/event/global-ministration-2/2030-02-19/
END:VEVENT
BEGIN:VEVENT
DTSTART;VALUE=DATE:20300220
DTEND;VALUE=DATE:20300221
DTSTAMP:20260423T093138
CREATED:20250703T161944Z
LAST-MODIFIED:20250703T162213Z
UID:10006160-1897776000-1897862399@godwaysministry.com
SUMMARY:Prayer & Prophetic Time: A New Dawn
DESCRIPTION:
URL:https://godwaysministry.com/event/prayer-prophetic-time-a-new-dawn/2030-02-20/
CATEGORIES:Weekly
ATTACH;FMTTYPE=image/jpeg:https://godwaysministry.com/wp-content/uploads/2024/08/GIM_PrayerProphetic.jpeg
LOCATION:https://godwaysministry.com/event/prayer-prophetic-time-a-new-dawn/2030-02-20/
END:VEVENT
BEGIN:VEVENT
DTSTART;VALUE=DATE:20300220
DTEND;VALUE=DATE:20300221
DTSTAMP:20260423T093138
CREATED:20250703T164223Z
LAST-MODIFIED:20250703T164223Z
UID:10006317-1897776000-1897862399@godwaysministry.com
SUMMARY:Global Ministration
DESCRIPTION:7AM EST/12:00 Noon UK and Nigeria
URL:https://godwaysministry.com/event/global-ministration-2/2030-02-20/
CATEGORIES:Announcements
ATTACH;FMTTYPE=image/jpeg:https://godwaysministry.com/wp-content/uploads/2024/08/GIM_PrayerProphetic.jpeg
LOCATION:https://godwaysministry.com/event/global-ministration-2/2030-02-20/
END:VEVENT
BEGIN:VEVENT
DTSTART;VALUE=DATE:20300226
DTEND;VALUE=DATE:20300227
DTSTAMP:20260423T093138
CREATED:20250703T161944Z
LAST-MODIFIED:20250703T162213Z
UID:10006162-1898294400-1898380799@godwaysministry.com
SUMMARY:Prayer & Prophetic Time: A New Dawn
DESCRIPTION:
URL:https://godwaysministry.com/event/prayer-prophetic-time-a-new-dawn/2030-02-26/
CATEGORIES:Weekly
ATTACH;FMTTYPE=image/jpeg:https://godwaysministry.com/wp-content/uploads/2024/08/GIM_PrayerProphetic.jpeg
LOCATION:https://godwaysministry.com/event/prayer-prophetic-time-a-new-dawn/2030-02-26/
END:VEVENT
BEGIN:VEVENT
DTSTART;VALUE=DATE:20300226
DTEND;VALUE=DATE:20300227
DTSTAMP:20260423T093138
CREATED:20250703T164223Z
LAST-MODIFIED:20250703T164223Z
UID:10006320-1898294400-1898380799@godwaysministry.com
SUMMARY:Global Ministration
DESCRIPTION:7AM EST/12:00 Noon UK and Nigeria
URL:https://godwaysministry.com/event/global-ministration-2/2030-02-26/
CATEGORIES:Announcements
ATTACH;FMTTYPE=image/jpeg:https://godwaysministry.com/wp-content/uploads/2024/08/GIM_PrayerProphetic.jpeg
LOCATION:https://godwaysministry.com/event/global-ministration-2/2030-02-26/
END:VEVENT
END:VCALENDAR