BEGIN:VCALENDAR
VERSION:2.0
PRODID:-//Godways International Ministry - ECPv6.6.2//NONSGML v1.0//EN
CALSCALE:GREGORIAN
METHOD:PUBLISH
X-WR-CALNAME:Godways International Ministry
X-ORIGINAL-URL:https://godwaysministry.com
X-WR-CALDESC:Events for Godways International Ministry
REFRESH-INTERVAL;VALUE=DURATION:PT1H
X-Robots-Tag:noindex
X-PUBLISHED-TTL:PT1H
BEGIN:VTIMEZONE
TZID:Europe/London
BEGIN:DAYLIGHT
TZOFFSETFROM:+0000
TZOFFSETTO:+0100
TZNAME:BST
DTSTART:20290325T010000
END:DAYLIGHT
BEGIN:STANDARD
TZOFFSETFROM:+0100
TZOFFSETTO:+0000
TZNAME:GMT
DTSTART:20291028T010000
END:STANDARD
TZID:UTC
BEGIN:STANDARD
TZOFFSETFROM:+0000
TZOFFSETTO:+0000
TZNAME:UTC
DTSTART:20290101T000000
END:STANDARD
TZID:America/Toronto
BEGIN:DAYLIGHT
TZOFFSETFROM:-0500
TZOFFSETTO:-0400
TZNAME:EDT
DTSTART:20290311T070000
END:DAYLIGHT
BEGIN:STANDARD
TZOFFSETFROM:-0400
TZOFFSETTO:-0500
TZNAME:EST
DTSTART:20291104T060000
END:STANDARD
TZID:America/New_York
BEGIN:DAYLIGHT
TZOFFSETFROM:-0500
TZOFFSETTO:-0400
TZNAME:EDT
DTSTART:20290311T070000
END:DAYLIGHT
BEGIN:STANDARD
TZOFFSETFROM:-0400
TZOFFSETTO:-0500
TZNAME:EST
DTSTART:20291104T060000
END:STANDARD
END:VTIMEZONE
BEGIN:VEVENT
DTSTART;VALUE=DATE:20290608
DTEND;VALUE=DATE:20290609
DTSTAMP:20260421T024053
CREATED:20240830T171534Z
LAST-MODIFIED:20240830T171534Z
UID:10006015-1875571200-1875657599@godwaysministry.com
SUMMARY:Birmingham\, UK Weekly Service - Every Friday
DESCRIPTION:6 PM (local time) Every Friday
URL:https://godwaysministry.com/event/birmingham-uk-weekly-service-every-friday/2029-06-08/
CATEGORIES:Announcements
ATTACH;FMTTYPE=image/jpeg:https://godwaysministry.com/wp-content/uploads/2024/08/birmingham_online_weekly_prayers.jpg
ORGANIZER;CN="Birmingham%2C UK Campus":MAILTO:gimbham1@gmail.com
LOCATION:
END:VEVENT
BEGIN:VEVENT
DTSTART;VALUE=DATE:20290610
DTEND;VALUE=DATE:20290611
DTSTAMP:20260421T024053
CREATED:20240829T213735Z
LAST-MODIFIED:20240830T125429Z
UID:10003664-1875744000-1875830399@godwaysministry.com
SUMMARY:Godways Campuses Sunday Services
DESCRIPTION:London\, UK – 12 PM (local time) Every Sunday \nAtlanta\, USA  – 11 AM (local time) Every Sunday \nToronto\, Canada – 11 AM (local time) Every Sunday \nAbuja\, Nigeria – 10 AM (local time) Every Sunday
URL:https://godwaysministry.com/event/godways-campuses-sunday-services/2029-06-10/
LOCATION:Godways International Ministry\, London Campus\, 3rd Floor\, 64 Willoughby Lane\, London\, London\, N17 0SN\, United Kingdom
CATEGORIES:Announcements
ATTACH;FMTTYPE=image/jpeg:https://godwaysministry.com/wp-content/uploads/2024/08/sunday_services.jpg
END:VEVENT
BEGIN:VEVENT
DTSTART;VALUE=DATE:20290612
DTEND;VALUE=DATE:20290613
DTSTAMP:20260421T024053
CREATED:20250703T161944Z
LAST-MODIFIED:20250703T162213Z
UID:10005719-1875916800-1876003199@godwaysministry.com
SUMMARY:Prayer & Prophetic Time: A New Dawn
DESCRIPTION:
URL:https://godwaysministry.com/event/prayer-prophetic-time-a-new-dawn/2029-06-12/
CATEGORIES:Weekly
ATTACH;FMTTYPE=image/jpeg:https://godwaysministry.com/wp-content/uploads/2024/08/GIM_PrayerProphetic.jpeg
LOCATION:https://godwaysministry.com/event/prayer-prophetic-time-a-new-dawn/2029-06-12/
END:VEVENT
BEGIN:VEVENT
DTSTART;VALUE=DATE:20290612
DTEND;VALUE=DATE:20290613
DTSTAMP:20260421T024053
CREATED:20250703T164223Z
LAST-MODIFIED:20250703T164223Z
UID:10004674-1875916800-1876003199@godwaysministry.com
SUMMARY:Global Ministration
DESCRIPTION:7AM EST/12:00 Noon UK and Nigeria
URL:https://godwaysministry.com/event/global-ministration-2/2029-06-12/
CATEGORIES:Announcements
ATTACH;FMTTYPE=image/jpeg:https://godwaysministry.com/wp-content/uploads/2024/08/GIM_PrayerProphetic.jpeg
LOCATION:https://godwaysministry.com/event/global-ministration-2/2029-06-12/
END:VEVENT
BEGIN:VEVENT
DTSTART;VALUE=DATE:20290613
DTEND;VALUE=DATE:20290614
DTSTAMP:20260421T024053
CREATED:20250703T161944Z
LAST-MODIFIED:20250703T162213Z
UID:10005720-1876003200-1876089599@godwaysministry.com
SUMMARY:Prayer & Prophetic Time: A New Dawn
DESCRIPTION:
URL:https://godwaysministry.com/event/prayer-prophetic-time-a-new-dawn/2029-06-13/
CATEGORIES:Weekly
ATTACH;FMTTYPE=image/jpeg:https://godwaysministry.com/wp-content/uploads/2024/08/GIM_PrayerProphetic.jpeg
LOCATION:https://godwaysministry.com/event/prayer-prophetic-time-a-new-dawn/2029-06-13/
END:VEVENT
BEGIN:VEVENT
DTSTART;VALUE=DATE:20290613
DTEND;VALUE=DATE:20290614
DTSTAMP:20260421T024053
CREATED:20250703T164223Z
LAST-MODIFIED:20250703T164223Z
UID:10004675-1876003200-1876089599@godwaysministry.com
SUMMARY:Global Ministration
DESCRIPTION:7AM EST/12:00 Noon UK and Nigeria
URL:https://godwaysministry.com/event/global-ministration-2/2029-06-13/
CATEGORIES:Announcements
ATTACH;FMTTYPE=image/jpeg:https://godwaysministry.com/wp-content/uploads/2024/08/GIM_PrayerProphetic.jpeg
LOCATION:https://godwaysministry.com/event/global-ministration-2/2029-06-13/
END:VEVENT
BEGIN:VEVENT
DTSTART;VALUE=DATE:20290615
DTEND;VALUE=DATE:20290616
DTSTAMP:20260421T024053
CREATED:20240830T171534Z
LAST-MODIFIED:20240830T171534Z
UID:10006016-1876176000-1876262399@godwaysministry.com
SUMMARY:Birmingham\, UK Weekly Service - Every Friday
DESCRIPTION:6 PM (local time) Every Friday
URL:https://godwaysministry.com/event/birmingham-uk-weekly-service-every-friday/2029-06-15/
CATEGORIES:Announcements
ATTACH;FMTTYPE=image/jpeg:https://godwaysministry.com/wp-content/uploads/2024/08/birmingham_online_weekly_prayers.jpg
ORGANIZER;CN="Birmingham%2C UK Campus":MAILTO:gimbham1@gmail.com
LOCATION:
END:VEVENT
BEGIN:VEVENT
DTSTART;VALUE=DATE:20290617
DTEND;VALUE=DATE:20290618
DTSTAMP:20260421T024053
CREATED:20240829T213735Z
LAST-MODIFIED:20240830T125429Z
UID:10003665-1876348800-1876435199@godwaysministry.com
SUMMARY:Godways Campuses Sunday Services
DESCRIPTION:London\, UK – 12 PM (local time) Every Sunday \nAtlanta\, USA  – 11 AM (local time) Every Sunday \nToronto\, Canada – 11 AM (local time) Every Sunday \nAbuja\, Nigeria – 10 AM (local time) Every Sunday
URL:https://godwaysministry.com/event/godways-campuses-sunday-services/2029-06-17/
LOCATION:Godways International Ministry\, London Campus\, 3rd Floor\, 64 Willoughby Lane\, London\, London\, N17 0SN\, United Kingdom
CATEGORIES:Announcements
ATTACH;FMTTYPE=image/jpeg:https://godwaysministry.com/wp-content/uploads/2024/08/sunday_services.jpg
END:VEVENT
BEGIN:VEVENT
DTSTART;VALUE=DATE:20290619
DTEND;VALUE=DATE:20290620
DTSTAMP:20260421T024053
CREATED:20250703T161944Z
LAST-MODIFIED:20250703T162213Z
UID:10005723-1876521600-1876607999@godwaysministry.com
SUMMARY:Prayer & Prophetic Time: A New Dawn
DESCRIPTION:
URL:https://godwaysministry.com/event/prayer-prophetic-time-a-new-dawn/2029-06-19/
CATEGORIES:Weekly
ATTACH;FMTTYPE=image/jpeg:https://godwaysministry.com/wp-content/uploads/2024/08/GIM_PrayerProphetic.jpeg
LOCATION:https://godwaysministry.com/event/prayer-prophetic-time-a-new-dawn/2029-06-19/
END:VEVENT
BEGIN:VEVENT
DTSTART;VALUE=DATE:20290619
DTEND;VALUE=DATE:20290620
DTSTAMP:20260421T024053
CREATED:20250703T164223Z
LAST-MODIFIED:20250703T164223Z
UID:10004678-1876521600-1876607999@godwaysministry.com
SUMMARY:Global Ministration
DESCRIPTION:7AM EST/12:00 Noon UK and Nigeria
URL:https://godwaysministry.com/event/global-ministration-2/2029-06-19/
CATEGORIES:Announcements
ATTACH;FMTTYPE=image/jpeg:https://godwaysministry.com/wp-content/uploads/2024/08/GIM_PrayerProphetic.jpeg
LOCATION:https://godwaysministry.com/event/global-ministration-2/2029-06-19/
END:VEVENT
BEGIN:VEVENT
DTSTART;VALUE=DATE:20290620
DTEND;VALUE=DATE:20290621
DTSTAMP:20260421T024053
CREATED:20250703T161944Z
LAST-MODIFIED:20250703T162213Z
UID:10005724-1876608000-1876694399@godwaysministry.com
SUMMARY:Prayer & Prophetic Time: A New Dawn
DESCRIPTION:
URL:https://godwaysministry.com/event/prayer-prophetic-time-a-new-dawn/2029-06-20/
CATEGORIES:Weekly
ATTACH;FMTTYPE=image/jpeg:https://godwaysministry.com/wp-content/uploads/2024/08/GIM_PrayerProphetic.jpeg
LOCATION:https://godwaysministry.com/event/prayer-prophetic-time-a-new-dawn/2029-06-20/
END:VEVENT
BEGIN:VEVENT
DTSTART;VALUE=DATE:20290620
DTEND;VALUE=DATE:20290621
DTSTAMP:20260421T024053
CREATED:20250703T164223Z
LAST-MODIFIED:20250703T164223Z
UID:10004679-1876608000-1876694399@godwaysministry.com
SUMMARY:Global Ministration
DESCRIPTION:7AM EST/12:00 Noon UK and Nigeria
URL:https://godwaysministry.com/event/global-ministration-2/2029-06-20/
CATEGORIES:Announcements
ATTACH;FMTTYPE=image/jpeg:https://godwaysministry.com/wp-content/uploads/2024/08/GIM_PrayerProphetic.jpeg
LOCATION:https://godwaysministry.com/event/global-ministration-2/2029-06-20/
END:VEVENT
BEGIN:VEVENT
DTSTART;VALUE=DATE:20290622
DTEND;VALUE=DATE:20290623
DTSTAMP:20260421T024053
CREATED:20240830T171534Z
LAST-MODIFIED:20240830T171534Z
UID:10006017-1876780800-1876867199@godwaysministry.com
SUMMARY:Birmingham\, UK Weekly Service - Every Friday
DESCRIPTION:6 PM (local time) Every Friday
URL:https://godwaysministry.com/event/birmingham-uk-weekly-service-every-friday/2029-06-22/
CATEGORIES:Announcements
ATTACH;FMTTYPE=image/jpeg:https://godwaysministry.com/wp-content/uploads/2024/08/birmingham_online_weekly_prayers.jpg
ORGANIZER;CN="Birmingham%2C UK Campus":MAILTO:gimbham1@gmail.com
LOCATION:
END:VEVENT
BEGIN:VEVENT
DTSTART;VALUE=DATE:20290624
DTEND;VALUE=DATE:20290625
DTSTAMP:20260421T024053
CREATED:20240829T213735Z
LAST-MODIFIED:20240830T125429Z
UID:10003666-1876953600-1877039999@godwaysministry.com
SUMMARY:Godways Campuses Sunday Services
DESCRIPTION:London\, UK – 12 PM (local time) Every Sunday \nAtlanta\, USA  – 11 AM (local time) Every Sunday \nToronto\, Canada – 11 AM (local time) Every Sunday \nAbuja\, Nigeria – 10 AM (local time) Every Sunday
URL:https://godwaysministry.com/event/godways-campuses-sunday-services/2029-06-24/
LOCATION:Godways International Ministry\, London Campus\, 3rd Floor\, 64 Willoughby Lane\, London\, London\, N17 0SN\, United Kingdom
CATEGORIES:Announcements
ATTACH;FMTTYPE=image/jpeg:https://godwaysministry.com/wp-content/uploads/2024/08/sunday_services.jpg
END:VEVENT
BEGIN:VEVENT
DTSTART;VALUE=DATE:20290626
DTEND;VALUE=DATE:20290627
DTSTAMP:20260421T024053
CREATED:20250703T161944Z
LAST-MODIFIED:20250703T162213Z
UID:10005727-1877126400-1877212799@godwaysministry.com
SUMMARY:Prayer & Prophetic Time: A New Dawn
DESCRIPTION:
URL:https://godwaysministry.com/event/prayer-prophetic-time-a-new-dawn/2029-06-26/
CATEGORIES:Weekly
ATTACH;FMTTYPE=image/jpeg:https://godwaysministry.com/wp-content/uploads/2024/08/GIM_PrayerProphetic.jpeg
LOCATION:https://godwaysministry.com/event/prayer-prophetic-time-a-new-dawn/2029-06-26/
END:VEVENT
BEGIN:VEVENT
DTSTART;VALUE=DATE:20290626
DTEND;VALUE=DATE:20290627
DTSTAMP:20260421T024053
CREATED:20250703T164223Z
LAST-MODIFIED:20250703T164223Z
UID:10004682-1877126400-1877212799@godwaysministry.com
SUMMARY:Global Ministration
DESCRIPTION:7AM EST/12:00 Noon UK and Nigeria
URL:https://godwaysministry.com/event/global-ministration-2/2029-06-26/
CATEGORIES:Announcements
ATTACH;FMTTYPE=image/jpeg:https://godwaysministry.com/wp-content/uploads/2024/08/GIM_PrayerProphetic.jpeg
LOCATION:https://godwaysministry.com/event/global-ministration-2/2029-06-26/
END:VEVENT
BEGIN:VEVENT
DTSTART;VALUE=DATE:20290627
DTEND;VALUE=DATE:20290628
DTSTAMP:20260421T024053
CREATED:20250703T161944Z
LAST-MODIFIED:20250703T162213Z
UID:10005728-1877212800-1877299199@godwaysministry.com
SUMMARY:Prayer & Prophetic Time: A New Dawn
DESCRIPTION:
URL:https://godwaysministry.com/event/prayer-prophetic-time-a-new-dawn/2029-06-27/
CATEGORIES:Weekly
ATTACH;FMTTYPE=image/jpeg:https://godwaysministry.com/wp-content/uploads/2024/08/GIM_PrayerProphetic.jpeg
LOCATION:https://godwaysministry.com/event/prayer-prophetic-time-a-new-dawn/2029-06-27/
END:VEVENT
BEGIN:VEVENT
DTSTART;VALUE=DATE:20290627
DTEND;VALUE=DATE:20290628
DTSTAMP:20260421T024053
CREATED:20250703T164223Z
LAST-MODIFIED:20250703T164223Z
UID:10004683-1877212800-1877299199@godwaysministry.com
SUMMARY:Global Ministration
DESCRIPTION:7AM EST/12:00 Noon UK and Nigeria
URL:https://godwaysministry.com/event/global-ministration-2/2029-06-27/
CATEGORIES:Announcements
ATTACH;FMTTYPE=image/jpeg:https://godwaysministry.com/wp-content/uploads/2024/08/GIM_PrayerProphetic.jpeg
LOCATION:https://godwaysministry.com/event/global-ministration-2/2029-06-27/
END:VEVENT
BEGIN:VEVENT
DTSTART;VALUE=DATE:20290629
DTEND;VALUE=DATE:20290630
DTSTAMP:20260421T024053
CREATED:20240830T171534Z
LAST-MODIFIED:20240830T171534Z
UID:10006018-1877385600-1877471999@godwaysministry.com
SUMMARY:Birmingham\, UK Weekly Service - Every Friday
DESCRIPTION:6 PM (local time) Every Friday
URL:https://godwaysministry.com/event/birmingham-uk-weekly-service-every-friday/2029-06-29/
CATEGORIES:Announcements
ATTACH;FMTTYPE=image/jpeg:https://godwaysministry.com/wp-content/uploads/2024/08/birmingham_online_weekly_prayers.jpg
ORGANIZER;CN="Birmingham%2C UK Campus":MAILTO:gimbham1@gmail.com
LOCATION:
END:VEVENT
BEGIN:VEVENT
DTSTART;VALUE=DATE:20290629
DTEND;VALUE=DATE:20290630
DTSTAMP:20260421T024053
CREATED:20240830T173035Z
LAST-MODIFIED:20240830T173131Z
UID:10006085-1877385600-1877471999@godwaysministry.com
SUMMARY:Godways Massachusetts\, USA Service - Last Friday of Every Month
DESCRIPTION:6PM (local time)
URL:https://godwaysministry.com/event/godways-massachusetts-usa-service-last-friday-of-every-month/2029-06-29/
LOCATION:Godways International Ministry\, Massachusetts  Campus\, Methuen Community Studios\, 20 Aegean Drive\, Suite 11\, Boston\, MA\, 01844\, United States
CATEGORIES:Announcements
ATTACH;FMTTYPE=image/jpeg:https://godwaysministry.com/wp-content/uploads/2024/08/special-monthly-service.jpg
ORGANIZER;CN="Massachusetts%2C USA Campus":MAILTO:godwaysministryma@gmail.com
END:VEVENT
BEGIN:VEVENT
DTSTART;VALUE=DATE:20290701
DTEND;VALUE=DATE:20290702
DTSTAMP:20260421T024053
CREATED:20240829T213735Z
LAST-MODIFIED:20240830T125429Z
UID:10003667-1877558400-1877644799@godwaysministry.com
SUMMARY:Godways Campuses Sunday Services
DESCRIPTION:London\, UK – 12 PM (local time) Every Sunday \nAtlanta\, USA  – 11 AM (local time) Every Sunday \nToronto\, Canada – 11 AM (local time) Every Sunday \nAbuja\, Nigeria – 10 AM (local time) Every Sunday
URL:https://godwaysministry.com/event/godways-campuses-sunday-services/2029-07-01/
LOCATION:Godways International Ministry\, London Campus\, 3rd Floor\, 64 Willoughby Lane\, London\, London\, N17 0SN\, United Kingdom
CATEGORIES:Announcements
ATTACH;FMTTYPE=image/jpeg:https://godwaysministry.com/wp-content/uploads/2024/08/sunday_services.jpg
END:VEVENT
BEGIN:VEVENT
DTSTART;VALUE=DATE:20290703
DTEND;VALUE=DATE:20290704
DTSTAMP:20260421T024053
CREATED:20250703T161944Z
LAST-MODIFIED:20250703T162213Z
UID:10005731-1877731200-1877817599@godwaysministry.com
SUMMARY:Prayer & Prophetic Time: A New Dawn
DESCRIPTION:
URL:https://godwaysministry.com/event/prayer-prophetic-time-a-new-dawn/2029-07-03/
CATEGORIES:Weekly
ATTACH;FMTTYPE=image/jpeg:https://godwaysministry.com/wp-content/uploads/2024/08/GIM_PrayerProphetic.jpeg
LOCATION:https://godwaysministry.com/event/prayer-prophetic-time-a-new-dawn/2029-07-03/
END:VEVENT
BEGIN:VEVENT
DTSTART;VALUE=DATE:20290703
DTEND;VALUE=DATE:20290704
DTSTAMP:20260421T024053
CREATED:20250703T164223Z
LAST-MODIFIED:20250703T164223Z
UID:10004686-1877731200-1877817599@godwaysministry.com
SUMMARY:Global Ministration
DESCRIPTION:7AM EST/12:00 Noon UK and Nigeria
URL:https://godwaysministry.com/event/global-ministration-2/2029-07-03/
CATEGORIES:Announcements
ATTACH;FMTTYPE=image/jpeg:https://godwaysministry.com/wp-content/uploads/2024/08/GIM_PrayerProphetic.jpeg
LOCATION:https://godwaysministry.com/event/global-ministration-2/2029-07-03/
END:VEVENT
BEGIN:VEVENT
DTSTART;VALUE=DATE:20290704
DTEND;VALUE=DATE:20290705
DTSTAMP:20260421T024053
CREATED:20250703T161944Z
LAST-MODIFIED:20250703T162213Z
UID:10005732-1877817600-1877903999@godwaysministry.com
SUMMARY:Prayer & Prophetic Time: A New Dawn
DESCRIPTION:
URL:https://godwaysministry.com/event/prayer-prophetic-time-a-new-dawn/2029-07-04/
CATEGORIES:Weekly
ATTACH;FMTTYPE=image/jpeg:https://godwaysministry.com/wp-content/uploads/2024/08/GIM_PrayerProphetic.jpeg
LOCATION:https://godwaysministry.com/event/prayer-prophetic-time-a-new-dawn/2029-07-04/
END:VEVENT
BEGIN:VEVENT
DTSTART;VALUE=DATE:20290704
DTEND;VALUE=DATE:20290705
DTSTAMP:20260421T024053
CREATED:20250703T164223Z
LAST-MODIFIED:20250703T164223Z
UID:10004687-1877817600-1877903999@godwaysministry.com
SUMMARY:Global Ministration
DESCRIPTION:7AM EST/12:00 Noon UK and Nigeria
URL:https://godwaysministry.com/event/global-ministration-2/2029-07-04/
CATEGORIES:Announcements
ATTACH;FMTTYPE=image/jpeg:https://godwaysministry.com/wp-content/uploads/2024/08/GIM_PrayerProphetic.jpeg
LOCATION:https://godwaysministry.com/event/global-ministration-2/2029-07-04/
END:VEVENT
BEGIN:VEVENT
DTSTART;VALUE=DATE:20290706
DTEND;VALUE=DATE:20290707
DTSTAMP:20260421T024053
CREATED:20240830T171534Z
LAST-MODIFIED:20240830T171534Z
UID:10006019-1877990400-1878076799@godwaysministry.com
SUMMARY:Birmingham\, UK Weekly Service - Every Friday
DESCRIPTION:6 PM (local time) Every Friday
URL:https://godwaysministry.com/event/birmingham-uk-weekly-service-every-friday/2029-07-06/
CATEGORIES:Announcements
ATTACH;FMTTYPE=image/jpeg:https://godwaysministry.com/wp-content/uploads/2024/08/birmingham_online_weekly_prayers.jpg
ORGANIZER;CN="Birmingham%2C UK Campus":MAILTO:gimbham1@gmail.com
LOCATION:
END:VEVENT
BEGIN:VEVENT
DTSTART;VALUE=DATE:20290708
DTEND;VALUE=DATE:20290709
DTSTAMP:20260421T024053
CREATED:20240829T213735Z
LAST-MODIFIED:20240830T125429Z
UID:10003668-1878163200-1878249599@godwaysministry.com
SUMMARY:Godways Campuses Sunday Services
DESCRIPTION:London\, UK – 12 PM (local time) Every Sunday \nAtlanta\, USA  – 11 AM (local time) Every Sunday \nToronto\, Canada – 11 AM (local time) Every Sunday \nAbuja\, Nigeria – 10 AM (local time) Every Sunday
URL:https://godwaysministry.com/event/godways-campuses-sunday-services/2029-07-08/
LOCATION:Godways International Ministry\, London Campus\, 3rd Floor\, 64 Willoughby Lane\, London\, London\, N17 0SN\, United Kingdom
CATEGORIES:Announcements
ATTACH;FMTTYPE=image/jpeg:https://godwaysministry.com/wp-content/uploads/2024/08/sunday_services.jpg
END:VEVENT
BEGIN:VEVENT
DTSTART;VALUE=DATE:20290710
DTEND;VALUE=DATE:20290711
DTSTAMP:20260421T024053
CREATED:20250703T161944Z
LAST-MODIFIED:20250703T162213Z
UID:10005735-1878336000-1878422399@godwaysministry.com
SUMMARY:Prayer & Prophetic Time: A New Dawn
DESCRIPTION:
URL:https://godwaysministry.com/event/prayer-prophetic-time-a-new-dawn/2029-07-10/
CATEGORIES:Weekly
ATTACH;FMTTYPE=image/jpeg:https://godwaysministry.com/wp-content/uploads/2024/08/GIM_PrayerProphetic.jpeg
LOCATION:https://godwaysministry.com/event/prayer-prophetic-time-a-new-dawn/2029-07-10/
END:VEVENT
BEGIN:VEVENT
DTSTART;VALUE=DATE:20290710
DTEND;VALUE=DATE:20290711
DTSTAMP:20260421T024053
CREATED:20250703T164223Z
LAST-MODIFIED:20250703T164223Z
UID:10004690-1878336000-1878422399@godwaysministry.com
SUMMARY:Global Ministration
DESCRIPTION:7AM EST/12:00 Noon UK and Nigeria
URL:https://godwaysministry.com/event/global-ministration-2/2029-07-10/
CATEGORIES:Announcements
ATTACH;FMTTYPE=image/jpeg:https://godwaysministry.com/wp-content/uploads/2024/08/GIM_PrayerProphetic.jpeg
LOCATION:https://godwaysministry.com/event/global-ministration-2/2029-07-10/
END:VEVENT
BEGIN:VEVENT
DTSTART;VALUE=DATE:20290711
DTEND;VALUE=DATE:20290712
DTSTAMP:20260421T024053
CREATED:20250703T161944Z
LAST-MODIFIED:20250703T162213Z
UID:10005736-1878422400-1878508799@godwaysministry.com
SUMMARY:Prayer & Prophetic Time: A New Dawn
DESCRIPTION:
URL:https://godwaysministry.com/event/prayer-prophetic-time-a-new-dawn/2029-07-11/
CATEGORIES:Weekly
ATTACH;FMTTYPE=image/jpeg:https://godwaysministry.com/wp-content/uploads/2024/08/GIM_PrayerProphetic.jpeg
LOCATION:https://godwaysministry.com/event/prayer-prophetic-time-a-new-dawn/2029-07-11/
END:VEVENT
END:VCALENDAR