BEGIN:VCALENDAR
VERSION:2.0
PRODID:-//Godways International Ministry - ECPv6.6.2//NONSGML v1.0//EN
CALSCALE:GREGORIAN
METHOD:PUBLISH
X-WR-CALNAME:Godways International Ministry
X-ORIGINAL-URL:https://godwaysministry.com
X-WR-CALDESC:Events for Godways International Ministry
REFRESH-INTERVAL;VALUE=DURATION:PT1H
X-Robots-Tag:noindex
X-PUBLISHED-TTL:PT1H
BEGIN:VTIMEZONE
TZID:America/Toronto
BEGIN:DAYLIGHT
TZOFFSETFROM:-0500
TZOFFSETTO:-0400
TZNAME:EDT
DTSTART:20300310T070000
END:DAYLIGHT
BEGIN:STANDARD
TZOFFSETFROM:-0400
TZOFFSETTO:-0500
TZNAME:EST
DTSTART:20301103T060000
END:STANDARD
END:VTIMEZONE
BEGIN:VEVENT
DTSTART;VALUE=DATE:20300528
DTEND;VALUE=DATE:20300529
DTSTAMP:20260423T213510
CREATED:20250703T161944Z
LAST-MODIFIED:20250703T162213Z
UID:10006201-1906156800-1906243199@godwaysministry.com
SUMMARY:Prayer & Prophetic Time: A New Dawn
DESCRIPTION:
URL:https://godwaysministry.com/event/prayer-prophetic-time-a-new-dawn/2030-05-28/
CATEGORIES:Weekly
ATTACH;FMTTYPE=image/jpeg:https://godwaysministry.com/wp-content/uploads/2024/08/GIM_PrayerProphetic.jpeg
LOCATION:https://godwaysministry.com/event/prayer-prophetic-time-a-new-dawn/2030-05-28/
END:VEVENT
BEGIN:VEVENT
DTSTART;VALUE=DATE:20300528
DTEND;VALUE=DATE:20300529
DTSTAMP:20260423T213510
CREATED:20250703T164223Z
LAST-MODIFIED:20250703T164223Z
UID:10006372-1906156800-1906243199@godwaysministry.com
SUMMARY:Global Ministration
DESCRIPTION:7AM EST/12:00 Noon UK and Nigeria
URL:https://godwaysministry.com/event/global-ministration-2/2030-05-28/
CATEGORIES:Announcements
ATTACH;FMTTYPE=image/jpeg:https://godwaysministry.com/wp-content/uploads/2024/08/GIM_PrayerProphetic.jpeg
LOCATION:https://godwaysministry.com/event/global-ministration-2/2030-05-28/
END:VEVENT
BEGIN:VEVENT
DTSTART;VALUE=DATE:20300529
DTEND;VALUE=DATE:20300530
DTSTAMP:20260423T213510
CREATED:20250703T161944Z
LAST-MODIFIED:20250703T162213Z
UID:10006202-1906243200-1906329599@godwaysministry.com
SUMMARY:Prayer & Prophetic Time: A New Dawn
DESCRIPTION:
URL:https://godwaysministry.com/event/prayer-prophetic-time-a-new-dawn/2030-05-29/
CATEGORIES:Weekly
ATTACH;FMTTYPE=image/jpeg:https://godwaysministry.com/wp-content/uploads/2024/08/GIM_PrayerProphetic.jpeg
LOCATION:https://godwaysministry.com/event/prayer-prophetic-time-a-new-dawn/2030-05-29/
END:VEVENT
BEGIN:VEVENT
DTSTART;VALUE=DATE:20300529
DTEND;VALUE=DATE:20300530
DTSTAMP:20260423T213510
CREATED:20250703T164223Z
LAST-MODIFIED:20250703T164223Z
UID:10006373-1906243200-1906329599@godwaysministry.com
SUMMARY:Global Ministration
DESCRIPTION:7AM EST/12:00 Noon UK and Nigeria
URL:https://godwaysministry.com/event/global-ministration-2/2030-05-29/
CATEGORIES:Announcements
ATTACH;FMTTYPE=image/jpeg:https://godwaysministry.com/wp-content/uploads/2024/08/GIM_PrayerProphetic.jpeg
LOCATION:https://godwaysministry.com/event/global-ministration-2/2030-05-29/
END:VEVENT
BEGIN:VEVENT
DTSTART;VALUE=DATE:20300604
DTEND;VALUE=DATE:20300605
DTSTAMP:20260423T213510
CREATED:20250703T161944Z
LAST-MODIFIED:20250703T162213Z
UID:10006204-1906761600-1906847999@godwaysministry.com
SUMMARY:Prayer & Prophetic Time: A New Dawn
DESCRIPTION:
URL:https://godwaysministry.com/event/prayer-prophetic-time-a-new-dawn/2030-06-04/
CATEGORIES:Weekly
ATTACH;FMTTYPE=image/jpeg:https://godwaysministry.com/wp-content/uploads/2024/08/GIM_PrayerProphetic.jpeg
LOCATION:https://godwaysministry.com/event/prayer-prophetic-time-a-new-dawn/2030-06-04/
END:VEVENT
BEGIN:VEVENT
DTSTART;VALUE=DATE:20300604
DTEND;VALUE=DATE:20300605
DTSTAMP:20260423T213510
CREATED:20250703T164223Z
LAST-MODIFIED:20250703T164223Z
UID:10006376-1906761600-1906847999@godwaysministry.com
SUMMARY:Global Ministration
DESCRIPTION:7AM EST/12:00 Noon UK and Nigeria
URL:https://godwaysministry.com/event/global-ministration-2/2030-06-04/
CATEGORIES:Announcements
ATTACH;FMTTYPE=image/jpeg:https://godwaysministry.com/wp-content/uploads/2024/08/GIM_PrayerProphetic.jpeg
LOCATION:https://godwaysministry.com/event/global-ministration-2/2030-06-04/
END:VEVENT
BEGIN:VEVENT
DTSTART;VALUE=DATE:20300605
DTEND;VALUE=DATE:20300606
DTSTAMP:20260423T213510
CREATED:20250703T161944Z
LAST-MODIFIED:20250703T162213Z
UID:10006205-1906848000-1906934399@godwaysministry.com
SUMMARY:Prayer & Prophetic Time: A New Dawn
DESCRIPTION:
URL:https://godwaysministry.com/event/prayer-prophetic-time-a-new-dawn/2030-06-05/
CATEGORIES:Weekly
ATTACH;FMTTYPE=image/jpeg:https://godwaysministry.com/wp-content/uploads/2024/08/GIM_PrayerProphetic.jpeg
LOCATION:https://godwaysministry.com/event/prayer-prophetic-time-a-new-dawn/2030-06-05/
END:VEVENT
BEGIN:VEVENT
DTSTART;VALUE=DATE:20300605
DTEND;VALUE=DATE:20300606
DTSTAMP:20260423T213510
CREATED:20250703T164223Z
LAST-MODIFIED:20250703T164223Z
UID:10006377-1906848000-1906934399@godwaysministry.com
SUMMARY:Global Ministration
DESCRIPTION:7AM EST/12:00 Noon UK and Nigeria
URL:https://godwaysministry.com/event/global-ministration-2/2030-06-05/
CATEGORIES:Announcements
ATTACH;FMTTYPE=image/jpeg:https://godwaysministry.com/wp-content/uploads/2024/08/GIM_PrayerProphetic.jpeg
LOCATION:https://godwaysministry.com/event/global-ministration-2/2030-06-05/
END:VEVENT
BEGIN:VEVENT
DTSTART;VALUE=DATE:20300611
DTEND;VALUE=DATE:20300612
DTSTAMP:20260423T213510
CREATED:20250703T161944Z
LAST-MODIFIED:20250703T162213Z
UID:10006207-1907366400-1907452799@godwaysministry.com
SUMMARY:Prayer & Prophetic Time: A New Dawn
DESCRIPTION:
URL:https://godwaysministry.com/event/prayer-prophetic-time-a-new-dawn/2030-06-11/
CATEGORIES:Weekly
ATTACH;FMTTYPE=image/jpeg:https://godwaysministry.com/wp-content/uploads/2024/08/GIM_PrayerProphetic.jpeg
LOCATION:https://godwaysministry.com/event/prayer-prophetic-time-a-new-dawn/2030-06-11/
END:VEVENT
BEGIN:VEVENT
DTSTART;VALUE=DATE:20300611
DTEND;VALUE=DATE:20300612
DTSTAMP:20260423T213510
CREATED:20250703T164223Z
LAST-MODIFIED:20250703T164223Z
UID:10006380-1907366400-1907452799@godwaysministry.com
SUMMARY:Global Ministration
DESCRIPTION:7AM EST/12:00 Noon UK and Nigeria
URL:https://godwaysministry.com/event/global-ministration-2/2030-06-11/
CATEGORIES:Announcements
ATTACH;FMTTYPE=image/jpeg:https://godwaysministry.com/wp-content/uploads/2024/08/GIM_PrayerProphetic.jpeg
LOCATION:https://godwaysministry.com/event/global-ministration-2/2030-06-11/
END:VEVENT
BEGIN:VEVENT
DTSTART;VALUE=DATE:20300612
DTEND;VALUE=DATE:20300613
DTSTAMP:20260423T213510
CREATED:20250703T161944Z
LAST-MODIFIED:20250703T162213Z
UID:10006208-1907452800-1907539199@godwaysministry.com
SUMMARY:Prayer & Prophetic Time: A New Dawn
DESCRIPTION:
URL:https://godwaysministry.com/event/prayer-prophetic-time-a-new-dawn/2030-06-12/
CATEGORIES:Weekly
ATTACH;FMTTYPE=image/jpeg:https://godwaysministry.com/wp-content/uploads/2024/08/GIM_PrayerProphetic.jpeg
LOCATION:https://godwaysministry.com/event/prayer-prophetic-time-a-new-dawn/2030-06-12/
END:VEVENT
BEGIN:VEVENT
DTSTART;VALUE=DATE:20300612
DTEND;VALUE=DATE:20300613
DTSTAMP:20260423T213510
CREATED:20250703T164223Z
LAST-MODIFIED:20250703T164223Z
UID:10006381-1907452800-1907539199@godwaysministry.com
SUMMARY:Global Ministration
DESCRIPTION:7AM EST/12:00 Noon UK and Nigeria
URL:https://godwaysministry.com/event/global-ministration-2/2030-06-12/
CATEGORIES:Announcements
ATTACH;FMTTYPE=image/jpeg:https://godwaysministry.com/wp-content/uploads/2024/08/GIM_PrayerProphetic.jpeg
LOCATION:https://godwaysministry.com/event/global-ministration-2/2030-06-12/
END:VEVENT
BEGIN:VEVENT
DTSTART;VALUE=DATE:20300618
DTEND;VALUE=DATE:20300619
DTSTAMP:20260423T213510
CREATED:20250703T161944Z
LAST-MODIFIED:20250703T162213Z
UID:10006210-1907971200-1908057599@godwaysministry.com
SUMMARY:Prayer & Prophetic Time: A New Dawn
DESCRIPTION:
URL:https://godwaysministry.com/event/prayer-prophetic-time-a-new-dawn/2030-06-18/
CATEGORIES:Weekly
ATTACH;FMTTYPE=image/jpeg:https://godwaysministry.com/wp-content/uploads/2024/08/GIM_PrayerProphetic.jpeg
LOCATION:https://godwaysministry.com/event/prayer-prophetic-time-a-new-dawn/2030-06-18/
END:VEVENT
BEGIN:VEVENT
DTSTART;VALUE=DATE:20300618
DTEND;VALUE=DATE:20300619
DTSTAMP:20260423T213510
CREATED:20250703T164223Z
LAST-MODIFIED:20250703T164223Z
UID:10006384-1907971200-1908057599@godwaysministry.com
SUMMARY:Global Ministration
DESCRIPTION:7AM EST/12:00 Noon UK and Nigeria
URL:https://godwaysministry.com/event/global-ministration-2/2030-06-18/
CATEGORIES:Announcements
ATTACH;FMTTYPE=image/jpeg:https://godwaysministry.com/wp-content/uploads/2024/08/GIM_PrayerProphetic.jpeg
LOCATION:https://godwaysministry.com/event/global-ministration-2/2030-06-18/
END:VEVENT
BEGIN:VEVENT
DTSTART;VALUE=DATE:20300619
DTEND;VALUE=DATE:20300620
DTSTAMP:20260423T213510
CREATED:20250703T161944Z
LAST-MODIFIED:20250703T162213Z
UID:10006211-1908057600-1908143999@godwaysministry.com
SUMMARY:Prayer & Prophetic Time: A New Dawn
DESCRIPTION:
URL:https://godwaysministry.com/event/prayer-prophetic-time-a-new-dawn/2030-06-19/
CATEGORIES:Weekly
ATTACH;FMTTYPE=image/jpeg:https://godwaysministry.com/wp-content/uploads/2024/08/GIM_PrayerProphetic.jpeg
LOCATION:https://godwaysministry.com/event/prayer-prophetic-time-a-new-dawn/2030-06-19/
END:VEVENT
BEGIN:VEVENT
DTSTART;VALUE=DATE:20300619
DTEND;VALUE=DATE:20300620
DTSTAMP:20260423T213510
CREATED:20250703T164223Z
LAST-MODIFIED:20250703T164223Z
UID:10006385-1908057600-1908143999@godwaysministry.com
SUMMARY:Global Ministration
DESCRIPTION:7AM EST/12:00 Noon UK and Nigeria
URL:https://godwaysministry.com/event/global-ministration-2/2030-06-19/
CATEGORIES:Announcements
ATTACH;FMTTYPE=image/jpeg:https://godwaysministry.com/wp-content/uploads/2024/08/GIM_PrayerProphetic.jpeg
LOCATION:https://godwaysministry.com/event/global-ministration-2/2030-06-19/
END:VEVENT
BEGIN:VEVENT
DTSTART;VALUE=DATE:20300625
DTEND;VALUE=DATE:20300626
DTSTAMP:20260423T213510
CREATED:20250703T161944Z
LAST-MODIFIED:20250703T162213Z
UID:10006213-1908576000-1908662399@godwaysministry.com
SUMMARY:Prayer & Prophetic Time: A New Dawn
DESCRIPTION:
URL:https://godwaysministry.com/event/prayer-prophetic-time-a-new-dawn/2030-06-25/
CATEGORIES:Weekly
ATTACH;FMTTYPE=image/jpeg:https://godwaysministry.com/wp-content/uploads/2024/08/GIM_PrayerProphetic.jpeg
LOCATION:https://godwaysministry.com/event/prayer-prophetic-time-a-new-dawn/2030-06-25/
END:VEVENT
BEGIN:VEVENT
DTSTART;VALUE=DATE:20300625
DTEND;VALUE=DATE:20300626
DTSTAMP:20260423T213510
CREATED:20250703T164223Z
LAST-MODIFIED:20250703T164223Z
UID:10006388-1908576000-1908662399@godwaysministry.com
SUMMARY:Global Ministration
DESCRIPTION:7AM EST/12:00 Noon UK and Nigeria
URL:https://godwaysministry.com/event/global-ministration-2/2030-06-25/
CATEGORIES:Announcements
ATTACH;FMTTYPE=image/jpeg:https://godwaysministry.com/wp-content/uploads/2024/08/GIM_PrayerProphetic.jpeg
LOCATION:https://godwaysministry.com/event/global-ministration-2/2030-06-25/
END:VEVENT
BEGIN:VEVENT
DTSTART;VALUE=DATE:20300626
DTEND;VALUE=DATE:20300627
DTSTAMP:20260423T213510
CREATED:20250703T161944Z
LAST-MODIFIED:20250703T162213Z
UID:10006214-1908662400-1908748799@godwaysministry.com
SUMMARY:Prayer & Prophetic Time: A New Dawn
DESCRIPTION:
URL:https://godwaysministry.com/event/prayer-prophetic-time-a-new-dawn/2030-06-26/
CATEGORIES:Weekly
ATTACH;FMTTYPE=image/jpeg:https://godwaysministry.com/wp-content/uploads/2024/08/GIM_PrayerProphetic.jpeg
LOCATION:https://godwaysministry.com/event/prayer-prophetic-time-a-new-dawn/2030-06-26/
END:VEVENT
BEGIN:VEVENT
DTSTART;VALUE=DATE:20300626
DTEND;VALUE=DATE:20300627
DTSTAMP:20260423T213510
CREATED:20250703T164223Z
LAST-MODIFIED:20250703T164223Z
UID:10006389-1908662400-1908748799@godwaysministry.com
SUMMARY:Global Ministration
DESCRIPTION:7AM EST/12:00 Noon UK and Nigeria
URL:https://godwaysministry.com/event/global-ministration-2/2030-06-26/
CATEGORIES:Announcements
ATTACH;FMTTYPE=image/jpeg:https://godwaysministry.com/wp-content/uploads/2024/08/GIM_PrayerProphetic.jpeg
LOCATION:https://godwaysministry.com/event/global-ministration-2/2030-06-26/
END:VEVENT
BEGIN:VEVENT
DTSTART;VALUE=DATE:20300702
DTEND;VALUE=DATE:20300703
DTSTAMP:20260423T213510
CREATED:20250703T161944Z
LAST-MODIFIED:20250703T162213Z
UID:10006216-1909180800-1909267199@godwaysministry.com
SUMMARY:Prayer & Prophetic Time: A New Dawn
DESCRIPTION:
URL:https://godwaysministry.com/event/prayer-prophetic-time-a-new-dawn/2030-07-02/
CATEGORIES:Weekly
ATTACH;FMTTYPE=image/jpeg:https://godwaysministry.com/wp-content/uploads/2024/08/GIM_PrayerProphetic.jpeg
LOCATION:https://godwaysministry.com/event/prayer-prophetic-time-a-new-dawn/2030-07-02/
END:VEVENT
BEGIN:VEVENT
DTSTART;VALUE=DATE:20300702
DTEND;VALUE=DATE:20300703
DTSTAMP:20260423T213510
CREATED:20250703T164223Z
LAST-MODIFIED:20250703T164223Z
UID:10006392-1909180800-1909267199@godwaysministry.com
SUMMARY:Global Ministration
DESCRIPTION:7AM EST/12:00 Noon UK and Nigeria
URL:https://godwaysministry.com/event/global-ministration-2/2030-07-02/
CATEGORIES:Announcements
ATTACH;FMTTYPE=image/jpeg:https://godwaysministry.com/wp-content/uploads/2024/08/GIM_PrayerProphetic.jpeg
LOCATION:https://godwaysministry.com/event/global-ministration-2/2030-07-02/
END:VEVENT
BEGIN:VEVENT
DTSTART;VALUE=DATE:20300703
DTEND;VALUE=DATE:20300704
DTSTAMP:20260423T213510
CREATED:20250703T161944Z
LAST-MODIFIED:20250703T162213Z
UID:10006217-1909267200-1909353599@godwaysministry.com
SUMMARY:Prayer & Prophetic Time: A New Dawn
DESCRIPTION:
URL:https://godwaysministry.com/event/prayer-prophetic-time-a-new-dawn/2030-07-03/
CATEGORIES:Weekly
ATTACH;FMTTYPE=image/jpeg:https://godwaysministry.com/wp-content/uploads/2024/08/GIM_PrayerProphetic.jpeg
LOCATION:https://godwaysministry.com/event/prayer-prophetic-time-a-new-dawn/2030-07-03/
END:VEVENT
BEGIN:VEVENT
DTSTART;VALUE=DATE:20300703
DTEND;VALUE=DATE:20300704
DTSTAMP:20260423T213510
CREATED:20250703T164223Z
LAST-MODIFIED:20250703T164223Z
UID:10006393-1909267200-1909353599@godwaysministry.com
SUMMARY:Global Ministration
DESCRIPTION:7AM EST/12:00 Noon UK and Nigeria
URL:https://godwaysministry.com/event/global-ministration-2/2030-07-03/
CATEGORIES:Announcements
ATTACH;FMTTYPE=image/jpeg:https://godwaysministry.com/wp-content/uploads/2024/08/GIM_PrayerProphetic.jpeg
LOCATION:https://godwaysministry.com/event/global-ministration-2/2030-07-03/
END:VEVENT
END:VCALENDAR