BEGIN:VCALENDAR
VERSION:2.0
PRODID:-//Godways International Ministry - ECPv6.6.2//NONSGML v1.0//EN
CALSCALE:GREGORIAN
METHOD:PUBLISH
X-ORIGINAL-URL:https://godwaysministry.com
X-WR-CALDESC:Events for Godways International Ministry
REFRESH-INTERVAL;VALUE=DURATION:PT1H
X-Robots-Tag:noindex
X-PUBLISHED-TTL:PT1H
BEGIN:VTIMEZONE
TZID:America/Toronto
BEGIN:DAYLIGHT
TZOFFSETFROM:-0500
TZOFFSETTO:-0400
TZNAME:EDT
DTSTART:20290311T070000
END:DAYLIGHT
BEGIN:STANDARD
TZOFFSETFROM:-0400
TZOFFSETTO:-0500
TZNAME:EST
DTSTART:20291104T060000
END:STANDARD
TZID:Europe/London
BEGIN:DAYLIGHT
TZOFFSETFROM:+0000
TZOFFSETTO:+0100
TZNAME:BST
DTSTART:20290325T010000
END:DAYLIGHT
BEGIN:STANDARD
TZOFFSETFROM:+0100
TZOFFSETTO:+0000
TZNAME:GMT
DTSTART:20291028T010000
END:STANDARD
TZID:UTC
BEGIN:STANDARD
TZOFFSETFROM:+0000
TZOFFSETTO:+0000
TZNAME:UTC
DTSTART:20290101T000000
END:STANDARD
TZID:America/New_York
BEGIN:DAYLIGHT
TZOFFSETFROM:-0500
TZOFFSETTO:-0400
TZNAME:EDT
DTSTART:20290311T070000
END:DAYLIGHT
BEGIN:STANDARD
TZOFFSETFROM:-0400
TZOFFSETTO:-0500
TZNAME:EST
DTSTART:20291104T060000
END:STANDARD
END:VTIMEZONE
BEGIN:VEVENT
DTSTART;VALUE=DATE:20290410
DTEND;VALUE=DATE:20290411
DTSTAMP:20260421T031959
CREATED:20250703T164223Z
LAST-MODIFIED:20250703T164223Z
UID:10004638-1870473600-1870559999@godwaysministry.com
SUMMARY:Global Ministration
DESCRIPTION:7AM EST/12:00 Noon UK and Nigeria
URL:https://godwaysministry.com/event/global-ministration-2/2029-04-10/
CATEGORIES:Announcements
ATTACH;FMTTYPE=image/jpeg:https://godwaysministry.com/wp-content/uploads/2024/08/GIM_PrayerProphetic.jpeg
LOCATION:https://godwaysministry.com/event/global-ministration-2/2029-04-10/
END:VEVENT
BEGIN:VEVENT
DTSTART;VALUE=DATE:20290411
DTEND;VALUE=DATE:20290412
DTSTAMP:20260421T032000
CREATED:20250703T161944Z
LAST-MODIFIED:20250703T162213Z
UID:10005684-1870560000-1870646399@godwaysministry.com
SUMMARY:Prayer & Prophetic Time: A New Dawn
DESCRIPTION:
URL:https://godwaysministry.com/event/prayer-prophetic-time-a-new-dawn/2029-04-11/
CATEGORIES:Weekly
ATTACH;FMTTYPE=image/jpeg:https://godwaysministry.com/wp-content/uploads/2024/08/GIM_PrayerProphetic.jpeg
LOCATION:https://godwaysministry.com/event/prayer-prophetic-time-a-new-dawn/2029-04-11/
END:VEVENT
BEGIN:VEVENT
DTSTART;VALUE=DATE:20290411
DTEND;VALUE=DATE:20290412
DTSTAMP:20260421T032000
CREATED:20250703T164223Z
LAST-MODIFIED:20250703T164223Z
UID:10004639-1870560000-1870646399@godwaysministry.com
SUMMARY:Global Ministration
DESCRIPTION:7AM EST/12:00 Noon UK and Nigeria
URL:https://godwaysministry.com/event/global-ministration-2/2029-04-11/
CATEGORIES:Announcements
ATTACH;FMTTYPE=image/jpeg:https://godwaysministry.com/wp-content/uploads/2024/08/GIM_PrayerProphetic.jpeg
LOCATION:https://godwaysministry.com/event/global-ministration-2/2029-04-11/
END:VEVENT
BEGIN:VEVENT
DTSTART;VALUE=DATE:20290413
DTEND;VALUE=DATE:20290414
DTSTAMP:20260421T032000
CREATED:20240830T171534Z
LAST-MODIFIED:20240830T171534Z
UID:10006007-1870732800-1870819199@godwaysministry.com
SUMMARY:Birmingham\, UK Weekly Service - Every Friday
DESCRIPTION:6 PM (local time) Every Friday
URL:https://godwaysministry.com/event/birmingham-uk-weekly-service-every-friday/2029-04-13/
CATEGORIES:Announcements
ATTACH;FMTTYPE=image/jpeg:https://godwaysministry.com/wp-content/uploads/2024/08/birmingham_online_weekly_prayers.jpg
ORGANIZER;CN="Birmingham%2C UK Campus":MAILTO:gimbham1@gmail.com
LOCATION:
END:VEVENT
BEGIN:VEVENT
DTSTART;VALUE=DATE:20290415
DTEND;VALUE=DATE:20290416
DTSTAMP:20260421T032000
CREATED:20240829T213735Z
LAST-MODIFIED:20240830T125429Z
UID:10003656-1870905600-1870991999@godwaysministry.com
SUMMARY:Godways Campuses Sunday Services
DESCRIPTION:London\, UK – 12 PM (local time) Every Sunday \nAtlanta\, USA  – 11 AM (local time) Every Sunday \nToronto\, Canada – 11 AM (local time) Every Sunday \nAbuja\, Nigeria – 10 AM (local time) Every Sunday
URL:https://godwaysministry.com/event/godways-campuses-sunday-services/2029-04-15/
LOCATION:Godways International Ministry\, London Campus\, 3rd Floor\, 64 Willoughby Lane\, London\, London\, N17 0SN\, United Kingdom
CATEGORIES:Announcements
ATTACH;FMTTYPE=image/jpeg:https://godwaysministry.com/wp-content/uploads/2024/08/sunday_services.jpg
END:VEVENT
BEGIN:VEVENT
DTSTART;VALUE=DATE:20290417
DTEND;VALUE=DATE:20290418
DTSTAMP:20260421T032000
CREATED:20250703T161944Z
LAST-MODIFIED:20250703T162213Z
UID:10005687-1871078400-1871164799@godwaysministry.com
SUMMARY:Prayer & Prophetic Time: A New Dawn
DESCRIPTION:
URL:https://godwaysministry.com/event/prayer-prophetic-time-a-new-dawn/2029-04-17/
CATEGORIES:Weekly
ATTACH;FMTTYPE=image/jpeg:https://godwaysministry.com/wp-content/uploads/2024/08/GIM_PrayerProphetic.jpeg
LOCATION:https://godwaysministry.com/event/prayer-prophetic-time-a-new-dawn/2029-04-17/
END:VEVENT
BEGIN:VEVENT
DTSTART;VALUE=DATE:20290417
DTEND;VALUE=DATE:20290418
DTSTAMP:20260421T032000
CREATED:20250703T164223Z
LAST-MODIFIED:20250703T164223Z
UID:10004642-1871078400-1871164799@godwaysministry.com
SUMMARY:Global Ministration
DESCRIPTION:7AM EST/12:00 Noon UK and Nigeria
URL:https://godwaysministry.com/event/global-ministration-2/2029-04-17/
CATEGORIES:Announcements
ATTACH;FMTTYPE=image/jpeg:https://godwaysministry.com/wp-content/uploads/2024/08/GIM_PrayerProphetic.jpeg
LOCATION:https://godwaysministry.com/event/global-ministration-2/2029-04-17/
END:VEVENT
BEGIN:VEVENT
DTSTART;VALUE=DATE:20290418
DTEND;VALUE=DATE:20290419
DTSTAMP:20260421T032000
CREATED:20250703T161944Z
LAST-MODIFIED:20250703T162213Z
UID:10005688-1871164800-1871251199@godwaysministry.com
SUMMARY:Prayer & Prophetic Time: A New Dawn
DESCRIPTION:
URL:https://godwaysministry.com/event/prayer-prophetic-time-a-new-dawn/2029-04-18/
CATEGORIES:Weekly
ATTACH;FMTTYPE=image/jpeg:https://godwaysministry.com/wp-content/uploads/2024/08/GIM_PrayerProphetic.jpeg
LOCATION:https://godwaysministry.com/event/prayer-prophetic-time-a-new-dawn/2029-04-18/
END:VEVENT
BEGIN:VEVENT
DTSTART;VALUE=DATE:20290418
DTEND;VALUE=DATE:20290419
DTSTAMP:20260421T032000
CREATED:20250703T164223Z
LAST-MODIFIED:20250703T164223Z
UID:10004643-1871164800-1871251199@godwaysministry.com
SUMMARY:Global Ministration
DESCRIPTION:7AM EST/12:00 Noon UK and Nigeria
URL:https://godwaysministry.com/event/global-ministration-2/2029-04-18/
CATEGORIES:Announcements
ATTACH;FMTTYPE=image/jpeg:https://godwaysministry.com/wp-content/uploads/2024/08/GIM_PrayerProphetic.jpeg
LOCATION:https://godwaysministry.com/event/global-ministration-2/2029-04-18/
END:VEVENT
BEGIN:VEVENT
DTSTART;VALUE=DATE:20290420
DTEND;VALUE=DATE:20290421
DTSTAMP:20260421T032000
CREATED:20240830T171534Z
LAST-MODIFIED:20240830T171534Z
UID:10006008-1871337600-1871423999@godwaysministry.com
SUMMARY:Birmingham\, UK Weekly Service - Every Friday
DESCRIPTION:6 PM (local time) Every Friday
URL:https://godwaysministry.com/event/birmingham-uk-weekly-service-every-friday/2029-04-20/
CATEGORIES:Announcements
ATTACH;FMTTYPE=image/jpeg:https://godwaysministry.com/wp-content/uploads/2024/08/birmingham_online_weekly_prayers.jpg
ORGANIZER;CN="Birmingham%2C UK Campus":MAILTO:gimbham1@gmail.com
LOCATION:
END:VEVENT
BEGIN:VEVENT
DTSTART;VALUE=DATE:20290422
DTEND;VALUE=DATE:20290423
DTSTAMP:20260421T032000
CREATED:20240829T213735Z
LAST-MODIFIED:20240830T125429Z
UID:10003657-1871510400-1871596799@godwaysministry.com
SUMMARY:Godways Campuses Sunday Services
DESCRIPTION:London\, UK – 12 PM (local time) Every Sunday \nAtlanta\, USA  – 11 AM (local time) Every Sunday \nToronto\, Canada – 11 AM (local time) Every Sunday \nAbuja\, Nigeria – 10 AM (local time) Every Sunday
URL:https://godwaysministry.com/event/godways-campuses-sunday-services/2029-04-22/
LOCATION:Godways International Ministry\, London Campus\, 3rd Floor\, 64 Willoughby Lane\, London\, London\, N17 0SN\, United Kingdom
CATEGORIES:Announcements
ATTACH;FMTTYPE=image/jpeg:https://godwaysministry.com/wp-content/uploads/2024/08/sunday_services.jpg
END:VEVENT
BEGIN:VEVENT
DTSTART;VALUE=DATE:20290424
DTEND;VALUE=DATE:20290425
DTSTAMP:20260421T032000
CREATED:20250703T161944Z
LAST-MODIFIED:20250703T162213Z
UID:10005691-1871683200-1871769599@godwaysministry.com
SUMMARY:Prayer & Prophetic Time: A New Dawn
DESCRIPTION:
URL:https://godwaysministry.com/event/prayer-prophetic-time-a-new-dawn/2029-04-24/
CATEGORIES:Weekly
ATTACH;FMTTYPE=image/jpeg:https://godwaysministry.com/wp-content/uploads/2024/08/GIM_PrayerProphetic.jpeg
LOCATION:https://godwaysministry.com/event/prayer-prophetic-time-a-new-dawn/2029-04-24/
END:VEVENT
BEGIN:VEVENT
DTSTART;VALUE=DATE:20290424
DTEND;VALUE=DATE:20290425
DTSTAMP:20260421T032000
CREATED:20250703T164223Z
LAST-MODIFIED:20250703T164223Z
UID:10004646-1871683200-1871769599@godwaysministry.com
SUMMARY:Global Ministration
DESCRIPTION:7AM EST/12:00 Noon UK and Nigeria
URL:https://godwaysministry.com/event/global-ministration-2/2029-04-24/
CATEGORIES:Announcements
ATTACH;FMTTYPE=image/jpeg:https://godwaysministry.com/wp-content/uploads/2024/08/GIM_PrayerProphetic.jpeg
LOCATION:https://godwaysministry.com/event/global-ministration-2/2029-04-24/
END:VEVENT
BEGIN:VEVENT
DTSTART;VALUE=DATE:20290425
DTEND;VALUE=DATE:20290426
DTSTAMP:20260421T032000
CREATED:20250703T161944Z
LAST-MODIFIED:20250703T162213Z
UID:10005692-1871769600-1871855999@godwaysministry.com
SUMMARY:Prayer & Prophetic Time: A New Dawn
DESCRIPTION:
URL:https://godwaysministry.com/event/prayer-prophetic-time-a-new-dawn/2029-04-25/
CATEGORIES:Weekly
ATTACH;FMTTYPE=image/jpeg:https://godwaysministry.com/wp-content/uploads/2024/08/GIM_PrayerProphetic.jpeg
LOCATION:https://godwaysministry.com/event/prayer-prophetic-time-a-new-dawn/2029-04-25/
END:VEVENT
BEGIN:VEVENT
DTSTART;VALUE=DATE:20290425
DTEND;VALUE=DATE:20290426
DTSTAMP:20260421T032000
CREATED:20250703T164223Z
LAST-MODIFIED:20250703T164223Z
UID:10004647-1871769600-1871855999@godwaysministry.com
SUMMARY:Global Ministration
DESCRIPTION:7AM EST/12:00 Noon UK and Nigeria
URL:https://godwaysministry.com/event/global-ministration-2/2029-04-25/
CATEGORIES:Announcements
ATTACH;FMTTYPE=image/jpeg:https://godwaysministry.com/wp-content/uploads/2024/08/GIM_PrayerProphetic.jpeg
LOCATION:https://godwaysministry.com/event/global-ministration-2/2029-04-25/
END:VEVENT
BEGIN:VEVENT
DTSTART;VALUE=DATE:20290427
DTEND;VALUE=DATE:20290428
DTSTAMP:20260421T032000
CREATED:20240830T171534Z
LAST-MODIFIED:20240830T171534Z
UID:10006009-1871942400-1872028799@godwaysministry.com
SUMMARY:Birmingham\, UK Weekly Service - Every Friday
DESCRIPTION:6 PM (local time) Every Friday
URL:https://godwaysministry.com/event/birmingham-uk-weekly-service-every-friday/2029-04-27/
CATEGORIES:Announcements
ATTACH;FMTTYPE=image/jpeg:https://godwaysministry.com/wp-content/uploads/2024/08/birmingham_online_weekly_prayers.jpg
ORGANIZER;CN="Birmingham%2C UK Campus":MAILTO:gimbham1@gmail.com
LOCATION:
END:VEVENT
BEGIN:VEVENT
DTSTART;VALUE=DATE:20290427
DTEND;VALUE=DATE:20290428
DTSTAMP:20260421T032000
CREATED:20240830T173035Z
LAST-MODIFIED:20240830T173131Z
UID:10006083-1871942400-1872028799@godwaysministry.com
SUMMARY:Godways Massachusetts\, USA Service - Last Friday of Every Month
DESCRIPTION:6PM (local time)
URL:https://godwaysministry.com/event/godways-massachusetts-usa-service-last-friday-of-every-month/2029-04-27/
LOCATION:Godways International Ministry\, Massachusetts  Campus\, Methuen Community Studios\, 20 Aegean Drive\, Suite 11\, Boston\, MA\, 01844\, United States
CATEGORIES:Announcements
ATTACH;FMTTYPE=image/jpeg:https://godwaysministry.com/wp-content/uploads/2024/08/special-monthly-service.jpg
ORGANIZER;CN="Massachusetts%2C USA Campus":MAILTO:godwaysministryma@gmail.com
END:VEVENT
BEGIN:VEVENT
DTSTART;VALUE=DATE:20290429
DTEND;VALUE=DATE:20290430
DTSTAMP:20260421T032000
CREATED:20240829T213735Z
LAST-MODIFIED:20240830T125429Z
UID:10003658-1872115200-1872201599@godwaysministry.com
SUMMARY:Godways Campuses Sunday Services
DESCRIPTION:London\, UK – 12 PM (local time) Every Sunday \nAtlanta\, USA  – 11 AM (local time) Every Sunday \nToronto\, Canada – 11 AM (local time) Every Sunday \nAbuja\, Nigeria – 10 AM (local time) Every Sunday
URL:https://godwaysministry.com/event/godways-campuses-sunday-services/2029-04-29/
LOCATION:Godways International Ministry\, London Campus\, 3rd Floor\, 64 Willoughby Lane\, London\, London\, N17 0SN\, United Kingdom
CATEGORIES:Announcements
ATTACH;FMTTYPE=image/jpeg:https://godwaysministry.com/wp-content/uploads/2024/08/sunday_services.jpg
END:VEVENT
BEGIN:VEVENT
DTSTART;VALUE=DATE:20290501
DTEND;VALUE=DATE:20290502
DTSTAMP:20260421T032000
CREATED:20250703T161944Z
LAST-MODIFIED:20250703T162213Z
UID:10005695-1872288000-1872374399@godwaysministry.com
SUMMARY:Prayer & Prophetic Time: A New Dawn
DESCRIPTION:
URL:https://godwaysministry.com/event/prayer-prophetic-time-a-new-dawn/2029-05-01/
CATEGORIES:Weekly
ATTACH;FMTTYPE=image/jpeg:https://godwaysministry.com/wp-content/uploads/2024/08/GIM_PrayerProphetic.jpeg
LOCATION:https://godwaysministry.com/event/prayer-prophetic-time-a-new-dawn/2029-05-01/
END:VEVENT
BEGIN:VEVENT
DTSTART;VALUE=DATE:20290501
DTEND;VALUE=DATE:20290502
DTSTAMP:20260421T032000
CREATED:20250703T164223Z
LAST-MODIFIED:20250703T164223Z
UID:10004650-1872288000-1872374399@godwaysministry.com
SUMMARY:Global Ministration
DESCRIPTION:7AM EST/12:00 Noon UK and Nigeria
URL:https://godwaysministry.com/event/global-ministration-2/2029-05-01/
CATEGORIES:Announcements
ATTACH;FMTTYPE=image/jpeg:https://godwaysministry.com/wp-content/uploads/2024/08/GIM_PrayerProphetic.jpeg
LOCATION:https://godwaysministry.com/event/global-ministration-2/2029-05-01/
END:VEVENT
BEGIN:VEVENT
DTSTART;VALUE=DATE:20290502
DTEND;VALUE=DATE:20290503
DTSTAMP:20260421T032000
CREATED:20250703T161944Z
LAST-MODIFIED:20250703T162213Z
UID:10005696-1872374400-1872460799@godwaysministry.com
SUMMARY:Prayer & Prophetic Time: A New Dawn
DESCRIPTION:
URL:https://godwaysministry.com/event/prayer-prophetic-time-a-new-dawn/2029-05-02/
CATEGORIES:Weekly
ATTACH;FMTTYPE=image/jpeg:https://godwaysministry.com/wp-content/uploads/2024/08/GIM_PrayerProphetic.jpeg
LOCATION:https://godwaysministry.com/event/prayer-prophetic-time-a-new-dawn/2029-05-02/
END:VEVENT
BEGIN:VEVENT
DTSTART;VALUE=DATE:20290502
DTEND;VALUE=DATE:20290503
DTSTAMP:20260421T032000
CREATED:20250703T164223Z
LAST-MODIFIED:20250703T164223Z
UID:10004651-1872374400-1872460799@godwaysministry.com
SUMMARY:Global Ministration
DESCRIPTION:7AM EST/12:00 Noon UK and Nigeria
URL:https://godwaysministry.com/event/global-ministration-2/2029-05-02/
CATEGORIES:Announcements
ATTACH;FMTTYPE=image/jpeg:https://godwaysministry.com/wp-content/uploads/2024/08/GIM_PrayerProphetic.jpeg
LOCATION:https://godwaysministry.com/event/global-ministration-2/2029-05-02/
END:VEVENT
BEGIN:VEVENT
DTSTART;VALUE=DATE:20290504
DTEND;VALUE=DATE:20290505
DTSTAMP:20260421T032000
CREATED:20240830T171534Z
LAST-MODIFIED:20240830T171534Z
UID:10006010-1872547200-1872633599@godwaysministry.com
SUMMARY:Birmingham\, UK Weekly Service - Every Friday
DESCRIPTION:6 PM (local time) Every Friday
URL:https://godwaysministry.com/event/birmingham-uk-weekly-service-every-friday/2029-05-04/
CATEGORIES:Announcements
ATTACH;FMTTYPE=image/jpeg:https://godwaysministry.com/wp-content/uploads/2024/08/birmingham_online_weekly_prayers.jpg
ORGANIZER;CN="Birmingham%2C UK Campus":MAILTO:gimbham1@gmail.com
LOCATION:
END:VEVENT
BEGIN:VEVENT
DTSTART;VALUE=DATE:20290506
DTEND;VALUE=DATE:20290507
DTSTAMP:20260421T032000
CREATED:20240829T213735Z
LAST-MODIFIED:20240830T125429Z
UID:10003659-1872720000-1872806399@godwaysministry.com
SUMMARY:Godways Campuses Sunday Services
DESCRIPTION:London\, UK – 12 PM (local time) Every Sunday \nAtlanta\, USA  – 11 AM (local time) Every Sunday \nToronto\, Canada – 11 AM (local time) Every Sunday \nAbuja\, Nigeria – 10 AM (local time) Every Sunday
URL:https://godwaysministry.com/event/godways-campuses-sunday-services/2029-05-06/
LOCATION:Godways International Ministry\, London Campus\, 3rd Floor\, 64 Willoughby Lane\, London\, London\, N17 0SN\, United Kingdom
CATEGORIES:Announcements
ATTACH;FMTTYPE=image/jpeg:https://godwaysministry.com/wp-content/uploads/2024/08/sunday_services.jpg
END:VEVENT
BEGIN:VEVENT
DTSTART;VALUE=DATE:20290508
DTEND;VALUE=DATE:20290509
DTSTAMP:20260421T032000
CREATED:20250703T161944Z
LAST-MODIFIED:20250703T162213Z
UID:10005699-1872892800-1872979199@godwaysministry.com
SUMMARY:Prayer & Prophetic Time: A New Dawn
DESCRIPTION:
URL:https://godwaysministry.com/event/prayer-prophetic-time-a-new-dawn/2029-05-08/
CATEGORIES:Weekly
ATTACH;FMTTYPE=image/jpeg:https://godwaysministry.com/wp-content/uploads/2024/08/GIM_PrayerProphetic.jpeg
LOCATION:https://godwaysministry.com/event/prayer-prophetic-time-a-new-dawn/2029-05-08/
END:VEVENT
BEGIN:VEVENT
DTSTART;VALUE=DATE:20290508
DTEND;VALUE=DATE:20290509
DTSTAMP:20260421T032000
CREATED:20250703T164223Z
LAST-MODIFIED:20250703T164223Z
UID:10004654-1872892800-1872979199@godwaysministry.com
SUMMARY:Global Ministration
DESCRIPTION:7AM EST/12:00 Noon UK and Nigeria
URL:https://godwaysministry.com/event/global-ministration-2/2029-05-08/
CATEGORIES:Announcements
ATTACH;FMTTYPE=image/jpeg:https://godwaysministry.com/wp-content/uploads/2024/08/GIM_PrayerProphetic.jpeg
LOCATION:https://godwaysministry.com/event/global-ministration-2/2029-05-08/
END:VEVENT
BEGIN:VEVENT
DTSTART;VALUE=DATE:20290509
DTEND;VALUE=DATE:20290510
DTSTAMP:20260421T032000
CREATED:20250703T161944Z
LAST-MODIFIED:20250703T162213Z
UID:10005700-1872979200-1873065599@godwaysministry.com
SUMMARY:Prayer & Prophetic Time: A New Dawn
DESCRIPTION:
URL:https://godwaysministry.com/event/prayer-prophetic-time-a-new-dawn/2029-05-09/
CATEGORIES:Weekly
ATTACH;FMTTYPE=image/jpeg:https://godwaysministry.com/wp-content/uploads/2024/08/GIM_PrayerProphetic.jpeg
LOCATION:https://godwaysministry.com/event/prayer-prophetic-time-a-new-dawn/2029-05-09/
END:VEVENT
BEGIN:VEVENT
DTSTART;VALUE=DATE:20290509
DTEND;VALUE=DATE:20290510
DTSTAMP:20260421T032000
CREATED:20250703T164223Z
LAST-MODIFIED:20250703T164223Z
UID:10004655-1872979200-1873065599@godwaysministry.com
SUMMARY:Global Ministration
DESCRIPTION:7AM EST/12:00 Noon UK and Nigeria
URL:https://godwaysministry.com/event/global-ministration-2/2029-05-09/
CATEGORIES:Announcements
ATTACH;FMTTYPE=image/jpeg:https://godwaysministry.com/wp-content/uploads/2024/08/GIM_PrayerProphetic.jpeg
LOCATION:https://godwaysministry.com/event/global-ministration-2/2029-05-09/
END:VEVENT
BEGIN:VEVENT
DTSTART;VALUE=DATE:20290511
DTEND;VALUE=DATE:20290512
DTSTAMP:20260421T032000
CREATED:20240830T171534Z
LAST-MODIFIED:20240830T171534Z
UID:10006011-1873152000-1873238399@godwaysministry.com
SUMMARY:Birmingham\, UK Weekly Service - Every Friday
DESCRIPTION:6 PM (local time) Every Friday
URL:https://godwaysministry.com/event/birmingham-uk-weekly-service-every-friday/2029-05-11/
CATEGORIES:Announcements
ATTACH;FMTTYPE=image/jpeg:https://godwaysministry.com/wp-content/uploads/2024/08/birmingham_online_weekly_prayers.jpg
ORGANIZER;CN="Birmingham%2C UK Campus":MAILTO:gimbham1@gmail.com
LOCATION:
END:VEVENT
BEGIN:VEVENT
DTSTART;VALUE=DATE:20290513
DTEND;VALUE=DATE:20290514
DTSTAMP:20260421T032000
CREATED:20240829T213735Z
LAST-MODIFIED:20240830T125429Z
UID:10003660-1873324800-1873411199@godwaysministry.com
SUMMARY:Godways Campuses Sunday Services
DESCRIPTION:London\, UK – 12 PM (local time) Every Sunday \nAtlanta\, USA  – 11 AM (local time) Every Sunday \nToronto\, Canada – 11 AM (local time) Every Sunday \nAbuja\, Nigeria – 10 AM (local time) Every Sunday
URL:https://godwaysministry.com/event/godways-campuses-sunday-services/2029-05-13/
LOCATION:Godways International Ministry\, London Campus\, 3rd Floor\, 64 Willoughby Lane\, London\, London\, N17 0SN\, United Kingdom
CATEGORIES:Announcements
ATTACH;FMTTYPE=image/jpeg:https://godwaysministry.com/wp-content/uploads/2024/08/sunday_services.jpg
END:VEVENT
END:VCALENDAR