BEGIN:VCALENDAR
VERSION:2.0
PRODID:-//Godways International Ministry - ECPv6.6.2//NONSGML v1.0//EN
CALSCALE:GREGORIAN
METHOD:PUBLISH
X-WR-CALNAME:Godways International Ministry
X-ORIGINAL-URL:https://godwaysministry.com
X-WR-CALDESC:Events for Godways International Ministry
REFRESH-INTERVAL;VALUE=DURATION:PT1H
X-Robots-Tag:noindex
X-PUBLISHED-TTL:PT1H
BEGIN:VTIMEZONE
TZID:America/Toronto
BEGIN:DAYLIGHT
TZOFFSETFROM:-0500
TZOFFSETTO:-0400
TZNAME:EDT
DTSTART:20290311T070000
END:DAYLIGHT
BEGIN:STANDARD
TZOFFSETFROM:-0400
TZOFFSETTO:-0500
TZNAME:EST
DTSTART:20291104T060000
END:STANDARD
BEGIN:DAYLIGHT
TZOFFSETFROM:-0500
TZOFFSETTO:-0400
TZNAME:EDT
DTSTART:20300310T070000
END:DAYLIGHT
BEGIN:STANDARD
TZOFFSETFROM:-0400
TZOFFSETTO:-0500
TZNAME:EST
DTSTART:20301103T060000
END:STANDARD
END:VTIMEZONE
BEGIN:VEVENT
DTSTART;VALUE=DATE:20291114
DTEND;VALUE=DATE:20291115
DTSTAMP:20260423T010713
CREATED:20250703T164223Z
LAST-MODIFIED:20250703T164223Z
UID:10006261-1889308800-1889395199@godwaysministry.com
SUMMARY:Global Ministration
DESCRIPTION:7AM EST/12:00 Noon UK and Nigeria
URL:https://godwaysministry.com/event/global-ministration-2/2029-11-14/
CATEGORIES:Announcements
ATTACH;FMTTYPE=image/jpeg:https://godwaysministry.com/wp-content/uploads/2024/08/GIM_PrayerProphetic.jpeg
LOCATION:https://godwaysministry.com/event/global-ministration-2/2029-11-14/
END:VEVENT
BEGIN:VEVENT
DTSTART;VALUE=DATE:20291120
DTEND;VALUE=DATE:20291121
DTSTAMP:20260423T010713
CREATED:20250703T161944Z
LAST-MODIFIED:20250703T162213Z
UID:10006120-1889827200-1889913599@godwaysministry.com
SUMMARY:Prayer & Prophetic Time: A New Dawn
DESCRIPTION:
URL:https://godwaysministry.com/event/prayer-prophetic-time-a-new-dawn/2029-11-20/
CATEGORIES:Weekly
ATTACH;FMTTYPE=image/jpeg:https://godwaysministry.com/wp-content/uploads/2024/08/GIM_PrayerProphetic.jpeg
LOCATION:https://godwaysministry.com/event/prayer-prophetic-time-a-new-dawn/2029-11-20/
END:VEVENT
BEGIN:VEVENT
DTSTART;VALUE=DATE:20291120
DTEND;VALUE=DATE:20291121
DTSTAMP:20260423T010713
CREATED:20250703T164223Z
LAST-MODIFIED:20250703T164223Z
UID:10006264-1889827200-1889913599@godwaysministry.com
SUMMARY:Global Ministration
DESCRIPTION:7AM EST/12:00 Noon UK and Nigeria
URL:https://godwaysministry.com/event/global-ministration-2/2029-11-20/
CATEGORIES:Announcements
ATTACH;FMTTYPE=image/jpeg:https://godwaysministry.com/wp-content/uploads/2024/08/GIM_PrayerProphetic.jpeg
LOCATION:https://godwaysministry.com/event/global-ministration-2/2029-11-20/
END:VEVENT
BEGIN:VEVENT
DTSTART;VALUE=DATE:20291121
DTEND;VALUE=DATE:20291122
DTSTAMP:20260423T010713
CREATED:20250703T161944Z
LAST-MODIFIED:20250703T162213Z
UID:10006121-1889913600-1889999999@godwaysministry.com
SUMMARY:Prayer & Prophetic Time: A New Dawn
DESCRIPTION:
URL:https://godwaysministry.com/event/prayer-prophetic-time-a-new-dawn/2029-11-21/
CATEGORIES:Weekly
ATTACH;FMTTYPE=image/jpeg:https://godwaysministry.com/wp-content/uploads/2024/08/GIM_PrayerProphetic.jpeg
LOCATION:https://godwaysministry.com/event/prayer-prophetic-time-a-new-dawn/2029-11-21/
END:VEVENT
BEGIN:VEVENT
DTSTART;VALUE=DATE:20291121
DTEND;VALUE=DATE:20291122
DTSTAMP:20260423T010713
CREATED:20250703T164223Z
LAST-MODIFIED:20250703T164223Z
UID:10006265-1889913600-1889999999@godwaysministry.com
SUMMARY:Global Ministration
DESCRIPTION:7AM EST/12:00 Noon UK and Nigeria
URL:https://godwaysministry.com/event/global-ministration-2/2029-11-21/
CATEGORIES:Announcements
ATTACH;FMTTYPE=image/jpeg:https://godwaysministry.com/wp-content/uploads/2024/08/GIM_PrayerProphetic.jpeg
LOCATION:https://godwaysministry.com/event/global-ministration-2/2029-11-21/
END:VEVENT
BEGIN:VEVENT
DTSTART;VALUE=DATE:20291127
DTEND;VALUE=DATE:20291128
DTSTAMP:20260423T010713
CREATED:20250703T161944Z
LAST-MODIFIED:20250703T162213Z
UID:10006123-1890432000-1890518399@godwaysministry.com
SUMMARY:Prayer & Prophetic Time: A New Dawn
DESCRIPTION:
URL:https://godwaysministry.com/event/prayer-prophetic-time-a-new-dawn/2029-11-27/
CATEGORIES:Weekly
ATTACH;FMTTYPE=image/jpeg:https://godwaysministry.com/wp-content/uploads/2024/08/GIM_PrayerProphetic.jpeg
LOCATION:https://godwaysministry.com/event/prayer-prophetic-time-a-new-dawn/2029-11-27/
END:VEVENT
BEGIN:VEVENT
DTSTART;VALUE=DATE:20291127
DTEND;VALUE=DATE:20291128
DTSTAMP:20260423T010713
CREATED:20250703T164223Z
LAST-MODIFIED:20250703T164223Z
UID:10006268-1890432000-1890518399@godwaysministry.com
SUMMARY:Global Ministration
DESCRIPTION:7AM EST/12:00 Noon UK and Nigeria
URL:https://godwaysministry.com/event/global-ministration-2/2029-11-27/
CATEGORIES:Announcements
ATTACH;FMTTYPE=image/jpeg:https://godwaysministry.com/wp-content/uploads/2024/08/GIM_PrayerProphetic.jpeg
LOCATION:https://godwaysministry.com/event/global-ministration-2/2029-11-27/
END:VEVENT
BEGIN:VEVENT
DTSTART;VALUE=DATE:20291128
DTEND;VALUE=DATE:20291129
DTSTAMP:20260423T010713
CREATED:20250703T161944Z
LAST-MODIFIED:20250703T162213Z
UID:10006124-1890518400-1890604799@godwaysministry.com
SUMMARY:Prayer & Prophetic Time: A New Dawn
DESCRIPTION:
URL:https://godwaysministry.com/event/prayer-prophetic-time-a-new-dawn/2029-11-28/
CATEGORIES:Weekly
ATTACH;FMTTYPE=image/jpeg:https://godwaysministry.com/wp-content/uploads/2024/08/GIM_PrayerProphetic.jpeg
LOCATION:https://godwaysministry.com/event/prayer-prophetic-time-a-new-dawn/2029-11-28/
END:VEVENT
BEGIN:VEVENT
DTSTART;VALUE=DATE:20291128
DTEND;VALUE=DATE:20291129
DTSTAMP:20260423T010713
CREATED:20250703T164223Z
LAST-MODIFIED:20250703T164223Z
UID:10006269-1890518400-1890604799@godwaysministry.com
SUMMARY:Global Ministration
DESCRIPTION:7AM EST/12:00 Noon UK and Nigeria
URL:https://godwaysministry.com/event/global-ministration-2/2029-11-28/
CATEGORIES:Announcements
ATTACH;FMTTYPE=image/jpeg:https://godwaysministry.com/wp-content/uploads/2024/08/GIM_PrayerProphetic.jpeg
LOCATION:https://godwaysministry.com/event/global-ministration-2/2029-11-28/
END:VEVENT
BEGIN:VEVENT
DTSTART;VALUE=DATE:20291204
DTEND;VALUE=DATE:20291205
DTSTAMP:20260423T010713
CREATED:20250703T161944Z
LAST-MODIFIED:20250703T162213Z
UID:10006126-1891036800-1891123199@godwaysministry.com
SUMMARY:Prayer & Prophetic Time: A New Dawn
DESCRIPTION:
URL:https://godwaysministry.com/event/prayer-prophetic-time-a-new-dawn/2029-12-04/
CATEGORIES:Weekly
ATTACH;FMTTYPE=image/jpeg:https://godwaysministry.com/wp-content/uploads/2024/08/GIM_PrayerProphetic.jpeg
LOCATION:https://godwaysministry.com/event/prayer-prophetic-time-a-new-dawn/2029-12-04/
END:VEVENT
BEGIN:VEVENT
DTSTART;VALUE=DATE:20291204
DTEND;VALUE=DATE:20291205
DTSTAMP:20260423T010713
CREATED:20250703T164223Z
LAST-MODIFIED:20250703T164223Z
UID:10006272-1891036800-1891123199@godwaysministry.com
SUMMARY:Global Ministration
DESCRIPTION:7AM EST/12:00 Noon UK and Nigeria
URL:https://godwaysministry.com/event/global-ministration-2/2029-12-04/
CATEGORIES:Announcements
ATTACH;FMTTYPE=image/jpeg:https://godwaysministry.com/wp-content/uploads/2024/08/GIM_PrayerProphetic.jpeg
LOCATION:https://godwaysministry.com/event/global-ministration-2/2029-12-04/
END:VEVENT
BEGIN:VEVENT
DTSTART;VALUE=DATE:20291205
DTEND;VALUE=DATE:20291206
DTSTAMP:20260423T010713
CREATED:20250703T161944Z
LAST-MODIFIED:20250703T162213Z
UID:10006127-1891123200-1891209599@godwaysministry.com
SUMMARY:Prayer & Prophetic Time: A New Dawn
DESCRIPTION:
URL:https://godwaysministry.com/event/prayer-prophetic-time-a-new-dawn/2029-12-05/
CATEGORIES:Weekly
ATTACH;FMTTYPE=image/jpeg:https://godwaysministry.com/wp-content/uploads/2024/08/GIM_PrayerProphetic.jpeg
LOCATION:https://godwaysministry.com/event/prayer-prophetic-time-a-new-dawn/2029-12-05/
END:VEVENT
BEGIN:VEVENT
DTSTART;VALUE=DATE:20291205
DTEND;VALUE=DATE:20291206
DTSTAMP:20260423T010713
CREATED:20250703T164223Z
LAST-MODIFIED:20250703T164223Z
UID:10006273-1891123200-1891209599@godwaysministry.com
SUMMARY:Global Ministration
DESCRIPTION:7AM EST/12:00 Noon UK and Nigeria
URL:https://godwaysministry.com/event/global-ministration-2/2029-12-05/
CATEGORIES:Announcements
ATTACH;FMTTYPE=image/jpeg:https://godwaysministry.com/wp-content/uploads/2024/08/GIM_PrayerProphetic.jpeg
LOCATION:https://godwaysministry.com/event/global-ministration-2/2029-12-05/
END:VEVENT
BEGIN:VEVENT
DTSTART;VALUE=DATE:20291211
DTEND;VALUE=DATE:20291212
DTSTAMP:20260423T010713
CREATED:20250703T161944Z
LAST-MODIFIED:20250703T162213Z
UID:10006129-1891641600-1891727999@godwaysministry.com
SUMMARY:Prayer & Prophetic Time: A New Dawn
DESCRIPTION:
URL:https://godwaysministry.com/event/prayer-prophetic-time-a-new-dawn/2029-12-11/
CATEGORIES:Weekly
ATTACH;FMTTYPE=image/jpeg:https://godwaysministry.com/wp-content/uploads/2024/08/GIM_PrayerProphetic.jpeg
LOCATION:https://godwaysministry.com/event/prayer-prophetic-time-a-new-dawn/2029-12-11/
END:VEVENT
BEGIN:VEVENT
DTSTART;VALUE=DATE:20291211
DTEND;VALUE=DATE:20291212
DTSTAMP:20260423T010713
CREATED:20250703T164223Z
LAST-MODIFIED:20250703T164223Z
UID:10006276-1891641600-1891727999@godwaysministry.com
SUMMARY:Global Ministration
DESCRIPTION:7AM EST/12:00 Noon UK and Nigeria
URL:https://godwaysministry.com/event/global-ministration-2/2029-12-11/
CATEGORIES:Announcements
ATTACH;FMTTYPE=image/jpeg:https://godwaysministry.com/wp-content/uploads/2024/08/GIM_PrayerProphetic.jpeg
LOCATION:https://godwaysministry.com/event/global-ministration-2/2029-12-11/
END:VEVENT
BEGIN:VEVENT
DTSTART;VALUE=DATE:20291212
DTEND;VALUE=DATE:20291213
DTSTAMP:20260423T010713
CREATED:20250703T161944Z
LAST-MODIFIED:20250703T162213Z
UID:10006130-1891728000-1891814399@godwaysministry.com
SUMMARY:Prayer & Prophetic Time: A New Dawn
DESCRIPTION:
URL:https://godwaysministry.com/event/prayer-prophetic-time-a-new-dawn/2029-12-12/
CATEGORIES:Weekly
ATTACH;FMTTYPE=image/jpeg:https://godwaysministry.com/wp-content/uploads/2024/08/GIM_PrayerProphetic.jpeg
LOCATION:https://godwaysministry.com/event/prayer-prophetic-time-a-new-dawn/2029-12-12/
END:VEVENT
BEGIN:VEVENT
DTSTART;VALUE=DATE:20291212
DTEND;VALUE=DATE:20291213
DTSTAMP:20260423T010713
CREATED:20250703T164223Z
LAST-MODIFIED:20250703T164223Z
UID:10006277-1891728000-1891814399@godwaysministry.com
SUMMARY:Global Ministration
DESCRIPTION:7AM EST/12:00 Noon UK and Nigeria
URL:https://godwaysministry.com/event/global-ministration-2/2029-12-12/
CATEGORIES:Announcements
ATTACH;FMTTYPE=image/jpeg:https://godwaysministry.com/wp-content/uploads/2024/08/GIM_PrayerProphetic.jpeg
LOCATION:https://godwaysministry.com/event/global-ministration-2/2029-12-12/
END:VEVENT
BEGIN:VEVENT
DTSTART;VALUE=DATE:20291218
DTEND;VALUE=DATE:20291219
DTSTAMP:20260423T010713
CREATED:20250703T161944Z
LAST-MODIFIED:20250703T162213Z
UID:10006132-1892246400-1892332799@godwaysministry.com
SUMMARY:Prayer & Prophetic Time: A New Dawn
DESCRIPTION:
URL:https://godwaysministry.com/event/prayer-prophetic-time-a-new-dawn/2029-12-18/
CATEGORIES:Weekly
ATTACH;FMTTYPE=image/jpeg:https://godwaysministry.com/wp-content/uploads/2024/08/GIM_PrayerProphetic.jpeg
LOCATION:https://godwaysministry.com/event/prayer-prophetic-time-a-new-dawn/2029-12-18/
END:VEVENT
BEGIN:VEVENT
DTSTART;VALUE=DATE:20291218
DTEND;VALUE=DATE:20291219
DTSTAMP:20260423T010713
CREATED:20250703T164223Z
LAST-MODIFIED:20250703T164223Z
UID:10006280-1892246400-1892332799@godwaysministry.com
SUMMARY:Global Ministration
DESCRIPTION:7AM EST/12:00 Noon UK and Nigeria
URL:https://godwaysministry.com/event/global-ministration-2/2029-12-18/
CATEGORIES:Announcements
ATTACH;FMTTYPE=image/jpeg:https://godwaysministry.com/wp-content/uploads/2024/08/GIM_PrayerProphetic.jpeg
LOCATION:https://godwaysministry.com/event/global-ministration-2/2029-12-18/
END:VEVENT
BEGIN:VEVENT
DTSTART;VALUE=DATE:20291219
DTEND;VALUE=DATE:20291220
DTSTAMP:20260423T010713
CREATED:20250703T161944Z
LAST-MODIFIED:20250703T162213Z
UID:10006133-1892332800-1892419199@godwaysministry.com
SUMMARY:Prayer & Prophetic Time: A New Dawn
DESCRIPTION:
URL:https://godwaysministry.com/event/prayer-prophetic-time-a-new-dawn/2029-12-19/
CATEGORIES:Weekly
ATTACH;FMTTYPE=image/jpeg:https://godwaysministry.com/wp-content/uploads/2024/08/GIM_PrayerProphetic.jpeg
LOCATION:https://godwaysministry.com/event/prayer-prophetic-time-a-new-dawn/2029-12-19/
END:VEVENT
BEGIN:VEVENT
DTSTART;VALUE=DATE:20291219
DTEND;VALUE=DATE:20291220
DTSTAMP:20260423T010713
CREATED:20250703T164223Z
LAST-MODIFIED:20250703T164223Z
UID:10006281-1892332800-1892419199@godwaysministry.com
SUMMARY:Global Ministration
DESCRIPTION:7AM EST/12:00 Noon UK and Nigeria
URL:https://godwaysministry.com/event/global-ministration-2/2029-12-19/
CATEGORIES:Announcements
ATTACH;FMTTYPE=image/jpeg:https://godwaysministry.com/wp-content/uploads/2024/08/GIM_PrayerProphetic.jpeg
LOCATION:https://godwaysministry.com/event/global-ministration-2/2029-12-19/
END:VEVENT
BEGIN:VEVENT
DTSTART;VALUE=DATE:20291225
DTEND;VALUE=DATE:20291226
DTSTAMP:20260423T010713
CREATED:20250703T161944Z
LAST-MODIFIED:20250703T162213Z
UID:10006135-1892851200-1892937599@godwaysministry.com
SUMMARY:Prayer & Prophetic Time: A New Dawn
DESCRIPTION:
URL:https://godwaysministry.com/event/prayer-prophetic-time-a-new-dawn/2029-12-25/
CATEGORIES:Weekly
ATTACH;FMTTYPE=image/jpeg:https://godwaysministry.com/wp-content/uploads/2024/08/GIM_PrayerProphetic.jpeg
LOCATION:https://godwaysministry.com/event/prayer-prophetic-time-a-new-dawn/2029-12-25/
END:VEVENT
BEGIN:VEVENT
DTSTART;VALUE=DATE:20291225
DTEND;VALUE=DATE:20291226
DTSTAMP:20260423T010713
CREATED:20250703T164223Z
LAST-MODIFIED:20250703T164223Z
UID:10006284-1892851200-1892937599@godwaysministry.com
SUMMARY:Global Ministration
DESCRIPTION:7AM EST/12:00 Noon UK and Nigeria
URL:https://godwaysministry.com/event/global-ministration-2/2029-12-25/
CATEGORIES:Announcements
ATTACH;FMTTYPE=image/jpeg:https://godwaysministry.com/wp-content/uploads/2024/08/GIM_PrayerProphetic.jpeg
LOCATION:https://godwaysministry.com/event/global-ministration-2/2029-12-25/
END:VEVENT
BEGIN:VEVENT
DTSTART;VALUE=DATE:20291226
DTEND;VALUE=DATE:20291227
DTSTAMP:20260423T010713
CREATED:20250703T161944Z
LAST-MODIFIED:20250703T162213Z
UID:10006136-1892937600-1893023999@godwaysministry.com
SUMMARY:Prayer & Prophetic Time: A New Dawn
DESCRIPTION:
URL:https://godwaysministry.com/event/prayer-prophetic-time-a-new-dawn/2029-12-26/
CATEGORIES:Weekly
ATTACH;FMTTYPE=image/jpeg:https://godwaysministry.com/wp-content/uploads/2024/08/GIM_PrayerProphetic.jpeg
LOCATION:https://godwaysministry.com/event/prayer-prophetic-time-a-new-dawn/2029-12-26/
END:VEVENT
BEGIN:VEVENT
DTSTART;VALUE=DATE:20291226
DTEND;VALUE=DATE:20291227
DTSTAMP:20260423T010713
CREATED:20250703T164223Z
LAST-MODIFIED:20250703T164223Z
UID:10006285-1892937600-1893023999@godwaysministry.com
SUMMARY:Global Ministration
DESCRIPTION:7AM EST/12:00 Noon UK and Nigeria
URL:https://godwaysministry.com/event/global-ministration-2/2029-12-26/
CATEGORIES:Announcements
ATTACH;FMTTYPE=image/jpeg:https://godwaysministry.com/wp-content/uploads/2024/08/GIM_PrayerProphetic.jpeg
LOCATION:https://godwaysministry.com/event/global-ministration-2/2029-12-26/
END:VEVENT
BEGIN:VEVENT
DTSTART;VALUE=DATE:20300101
DTEND;VALUE=DATE:20300102
DTSTAMP:20260423T010713
CREATED:20250703T161944Z
LAST-MODIFIED:20250703T162213Z
UID:10006138-1893456000-1893542399@godwaysministry.com
SUMMARY:Prayer & Prophetic Time: A New Dawn
DESCRIPTION:
URL:https://godwaysministry.com/event/prayer-prophetic-time-a-new-dawn/2030-01-01/
CATEGORIES:Weekly
ATTACH;FMTTYPE=image/jpeg:https://godwaysministry.com/wp-content/uploads/2024/08/GIM_PrayerProphetic.jpeg
LOCATION:https://godwaysministry.com/event/prayer-prophetic-time-a-new-dawn/2030-01-01/
END:VEVENT
BEGIN:VEVENT
DTSTART;VALUE=DATE:20300101
DTEND;VALUE=DATE:20300102
DTSTAMP:20260423T010713
CREATED:20250703T164223Z
LAST-MODIFIED:20250703T164223Z
UID:10006288-1893456000-1893542399@godwaysministry.com
SUMMARY:Global Ministration
DESCRIPTION:7AM EST/12:00 Noon UK and Nigeria
URL:https://godwaysministry.com/event/global-ministration-2/2030-01-01/
CATEGORIES:Announcements
ATTACH;FMTTYPE=image/jpeg:https://godwaysministry.com/wp-content/uploads/2024/08/GIM_PrayerProphetic.jpeg
LOCATION:https://godwaysministry.com/event/global-ministration-2/2030-01-01/
END:VEVENT
BEGIN:VEVENT
DTSTART;VALUE=DATE:20300102
DTEND;VALUE=DATE:20300103
DTSTAMP:20260423T010713
CREATED:20250703T161944Z
LAST-MODIFIED:20250703T162213Z
UID:10006139-1893542400-1893628799@godwaysministry.com
SUMMARY:Prayer & Prophetic Time: A New Dawn
DESCRIPTION:
URL:https://godwaysministry.com/event/prayer-prophetic-time-a-new-dawn/2030-01-02/
CATEGORIES:Weekly
ATTACH;FMTTYPE=image/jpeg:https://godwaysministry.com/wp-content/uploads/2024/08/GIM_PrayerProphetic.jpeg
LOCATION:https://godwaysministry.com/event/prayer-prophetic-time-a-new-dawn/2030-01-02/
END:VEVENT
BEGIN:VEVENT
DTSTART;VALUE=DATE:20300102
DTEND;VALUE=DATE:20300103
DTSTAMP:20260423T010713
CREATED:20250703T164223Z
LAST-MODIFIED:20250703T164223Z
UID:10006289-1893542400-1893628799@godwaysministry.com
SUMMARY:Global Ministration
DESCRIPTION:7AM EST/12:00 Noon UK and Nigeria
URL:https://godwaysministry.com/event/global-ministration-2/2030-01-02/
CATEGORIES:Announcements
ATTACH;FMTTYPE=image/jpeg:https://godwaysministry.com/wp-content/uploads/2024/08/GIM_PrayerProphetic.jpeg
LOCATION:https://godwaysministry.com/event/global-ministration-2/2030-01-02/
END:VEVENT
BEGIN:VEVENT
DTSTART;VALUE=DATE:20300108
DTEND;VALUE=DATE:20300109
DTSTAMP:20260423T010713
CREATED:20250703T161944Z
LAST-MODIFIED:20250703T162213Z
UID:10006141-1894060800-1894147199@godwaysministry.com
SUMMARY:Prayer & Prophetic Time: A New Dawn
DESCRIPTION:
URL:https://godwaysministry.com/event/prayer-prophetic-time-a-new-dawn/2030-01-08/
CATEGORIES:Weekly
ATTACH;FMTTYPE=image/jpeg:https://godwaysministry.com/wp-content/uploads/2024/08/GIM_PrayerProphetic.jpeg
LOCATION:https://godwaysministry.com/event/prayer-prophetic-time-a-new-dawn/2030-01-08/
END:VEVENT
END:VCALENDAR