BEGIN:VCALENDAR
VERSION:2.0
PRODID:-//Godways International Ministry - ECPv6.6.2//NONSGML v1.0//EN
CALSCALE:GREGORIAN
METHOD:PUBLISH
X-ORIGINAL-URL:https://godwaysministry.com
X-WR-CALDESC:Events for Godways International Ministry
REFRESH-INTERVAL;VALUE=DURATION:PT1H
X-Robots-Tag:noindex
X-PUBLISHED-TTL:PT1H
BEGIN:VTIMEZONE
TZID:America/Toronto
BEGIN:DAYLIGHT
TZOFFSETFROM:-0500
TZOFFSETTO:-0400
TZNAME:EDT
DTSTART:20300310T070000
END:DAYLIGHT
BEGIN:STANDARD
TZOFFSETFROM:-0400
TZOFFSETTO:-0500
TZNAME:EST
DTSTART:20301103T060000
END:STANDARD
END:VTIMEZONE
BEGIN:VEVENT
DTSTART;VALUE=DATE:20300319
DTEND;VALUE=DATE:20300320
DTSTAMP:20260423T105613
CREATED:20250703T164223Z
LAST-MODIFIED:20250703T164223Z
UID:10006332-1900108800-1900195199@godwaysministry.com
SUMMARY:Global Ministration
DESCRIPTION:7AM EST/12:00 Noon UK and Nigeria
URL:https://godwaysministry.com/event/global-ministration-2/2030-03-19/
CATEGORIES:Announcements
ATTACH;FMTTYPE=image/jpeg:https://godwaysministry.com/wp-content/uploads/2024/08/GIM_PrayerProphetic.jpeg
LOCATION:https://godwaysministry.com/event/global-ministration-2/2030-03-19/
END:VEVENT
BEGIN:VEVENT
DTSTART;VALUE=DATE:20300320
DTEND;VALUE=DATE:20300321
DTSTAMP:20260423T105613
CREATED:20250703T161944Z
LAST-MODIFIED:20250703T162213Z
UID:10006172-1900195200-1900281599@godwaysministry.com
SUMMARY:Prayer & Prophetic Time: A New Dawn
DESCRIPTION:
URL:https://godwaysministry.com/event/prayer-prophetic-time-a-new-dawn/2030-03-20/
CATEGORIES:Weekly
ATTACH;FMTTYPE=image/jpeg:https://godwaysministry.com/wp-content/uploads/2024/08/GIM_PrayerProphetic.jpeg
LOCATION:https://godwaysministry.com/event/prayer-prophetic-time-a-new-dawn/2030-03-20/
END:VEVENT
BEGIN:VEVENT
DTSTART;VALUE=DATE:20300320
DTEND;VALUE=DATE:20300321
DTSTAMP:20260423T105613
CREATED:20250703T164223Z
LAST-MODIFIED:20250703T164223Z
UID:10006333-1900195200-1900281599@godwaysministry.com
SUMMARY:Global Ministration
DESCRIPTION:7AM EST/12:00 Noon UK and Nigeria
URL:https://godwaysministry.com/event/global-ministration-2/2030-03-20/
CATEGORIES:Announcements
ATTACH;FMTTYPE=image/jpeg:https://godwaysministry.com/wp-content/uploads/2024/08/GIM_PrayerProphetic.jpeg
LOCATION:https://godwaysministry.com/event/global-ministration-2/2030-03-20/
END:VEVENT
BEGIN:VEVENT
DTSTART;VALUE=DATE:20300326
DTEND;VALUE=DATE:20300327
DTSTAMP:20260423T105613
CREATED:20250703T161944Z
LAST-MODIFIED:20250703T162213Z
UID:10006174-1900713600-1900799999@godwaysministry.com
SUMMARY:Prayer & Prophetic Time: A New Dawn
DESCRIPTION:
URL:https://godwaysministry.com/event/prayer-prophetic-time-a-new-dawn/2030-03-26/
CATEGORIES:Weekly
ATTACH;FMTTYPE=image/jpeg:https://godwaysministry.com/wp-content/uploads/2024/08/GIM_PrayerProphetic.jpeg
LOCATION:https://godwaysministry.com/event/prayer-prophetic-time-a-new-dawn/2030-03-26/
END:VEVENT
BEGIN:VEVENT
DTSTART;VALUE=DATE:20300326
DTEND;VALUE=DATE:20300327
DTSTAMP:20260423T105613
CREATED:20250703T164223Z
LAST-MODIFIED:20250703T164223Z
UID:10006336-1900713600-1900799999@godwaysministry.com
SUMMARY:Global Ministration
DESCRIPTION:7AM EST/12:00 Noon UK and Nigeria
URL:https://godwaysministry.com/event/global-ministration-2/2030-03-26/
CATEGORIES:Announcements
ATTACH;FMTTYPE=image/jpeg:https://godwaysministry.com/wp-content/uploads/2024/08/GIM_PrayerProphetic.jpeg
LOCATION:https://godwaysministry.com/event/global-ministration-2/2030-03-26/
END:VEVENT
BEGIN:VEVENT
DTSTART;VALUE=DATE:20300327
DTEND;VALUE=DATE:20300328
DTSTAMP:20260423T105613
CREATED:20250703T161944Z
LAST-MODIFIED:20250703T162213Z
UID:10006175-1900800000-1900886399@godwaysministry.com
SUMMARY:Prayer & Prophetic Time: A New Dawn
DESCRIPTION:
URL:https://godwaysministry.com/event/prayer-prophetic-time-a-new-dawn/2030-03-27/
CATEGORIES:Weekly
ATTACH;FMTTYPE=image/jpeg:https://godwaysministry.com/wp-content/uploads/2024/08/GIM_PrayerProphetic.jpeg
LOCATION:https://godwaysministry.com/event/prayer-prophetic-time-a-new-dawn/2030-03-27/
END:VEVENT
BEGIN:VEVENT
DTSTART;VALUE=DATE:20300327
DTEND;VALUE=DATE:20300328
DTSTAMP:20260423T105613
CREATED:20250703T164223Z
LAST-MODIFIED:20250703T164223Z
UID:10006337-1900800000-1900886399@godwaysministry.com
SUMMARY:Global Ministration
DESCRIPTION:7AM EST/12:00 Noon UK and Nigeria
URL:https://godwaysministry.com/event/global-ministration-2/2030-03-27/
CATEGORIES:Announcements
ATTACH;FMTTYPE=image/jpeg:https://godwaysministry.com/wp-content/uploads/2024/08/GIM_PrayerProphetic.jpeg
LOCATION:https://godwaysministry.com/event/global-ministration-2/2030-03-27/
END:VEVENT
BEGIN:VEVENT
DTSTART;VALUE=DATE:20300402
DTEND;VALUE=DATE:20300403
DTSTAMP:20260423T105613
CREATED:20250703T161944Z
LAST-MODIFIED:20250703T162213Z
UID:10006177-1901318400-1901404799@godwaysministry.com
SUMMARY:Prayer & Prophetic Time: A New Dawn
DESCRIPTION:
URL:https://godwaysministry.com/event/prayer-prophetic-time-a-new-dawn/2030-04-02/
CATEGORIES:Weekly
ATTACH;FMTTYPE=image/jpeg:https://godwaysministry.com/wp-content/uploads/2024/08/GIM_PrayerProphetic.jpeg
LOCATION:https://godwaysministry.com/event/prayer-prophetic-time-a-new-dawn/2030-04-02/
END:VEVENT
BEGIN:VEVENT
DTSTART;VALUE=DATE:20300402
DTEND;VALUE=DATE:20300403
DTSTAMP:20260423T105613
CREATED:20250703T164223Z
LAST-MODIFIED:20250703T164223Z
UID:10006340-1901318400-1901404799@godwaysministry.com
SUMMARY:Global Ministration
DESCRIPTION:7AM EST/12:00 Noon UK and Nigeria
URL:https://godwaysministry.com/event/global-ministration-2/2030-04-02/
CATEGORIES:Announcements
ATTACH;FMTTYPE=image/jpeg:https://godwaysministry.com/wp-content/uploads/2024/08/GIM_PrayerProphetic.jpeg
LOCATION:https://godwaysministry.com/event/global-ministration-2/2030-04-02/
END:VEVENT
BEGIN:VEVENT
DTSTART;VALUE=DATE:20300403
DTEND;VALUE=DATE:20300404
DTSTAMP:20260423T105613
CREATED:20250703T161944Z
LAST-MODIFIED:20250703T162213Z
UID:10006178-1901404800-1901491199@godwaysministry.com
SUMMARY:Prayer & Prophetic Time: A New Dawn
DESCRIPTION:
URL:https://godwaysministry.com/event/prayer-prophetic-time-a-new-dawn/2030-04-03/
CATEGORIES:Weekly
ATTACH;FMTTYPE=image/jpeg:https://godwaysministry.com/wp-content/uploads/2024/08/GIM_PrayerProphetic.jpeg
LOCATION:https://godwaysministry.com/event/prayer-prophetic-time-a-new-dawn/2030-04-03/
END:VEVENT
BEGIN:VEVENT
DTSTART;VALUE=DATE:20300403
DTEND;VALUE=DATE:20300404
DTSTAMP:20260423T105613
CREATED:20250703T164223Z
LAST-MODIFIED:20250703T164223Z
UID:10006341-1901404800-1901491199@godwaysministry.com
SUMMARY:Global Ministration
DESCRIPTION:7AM EST/12:00 Noon UK and Nigeria
URL:https://godwaysministry.com/event/global-ministration-2/2030-04-03/
CATEGORIES:Announcements
ATTACH;FMTTYPE=image/jpeg:https://godwaysministry.com/wp-content/uploads/2024/08/GIM_PrayerProphetic.jpeg
LOCATION:https://godwaysministry.com/event/global-ministration-2/2030-04-03/
END:VEVENT
BEGIN:VEVENT
DTSTART;VALUE=DATE:20300409
DTEND;VALUE=DATE:20300410
DTSTAMP:20260423T105613
CREATED:20250703T161944Z
LAST-MODIFIED:20250703T162213Z
UID:10006180-1901923200-1902009599@godwaysministry.com
SUMMARY:Prayer & Prophetic Time: A New Dawn
DESCRIPTION:
URL:https://godwaysministry.com/event/prayer-prophetic-time-a-new-dawn/2030-04-09/
CATEGORIES:Weekly
ATTACH;FMTTYPE=image/jpeg:https://godwaysministry.com/wp-content/uploads/2024/08/GIM_PrayerProphetic.jpeg
LOCATION:https://godwaysministry.com/event/prayer-prophetic-time-a-new-dawn/2030-04-09/
END:VEVENT
BEGIN:VEVENT
DTSTART;VALUE=DATE:20300409
DTEND;VALUE=DATE:20300410
DTSTAMP:20260423T105613
CREATED:20250703T164223Z
LAST-MODIFIED:20250703T164223Z
UID:10006344-1901923200-1902009599@godwaysministry.com
SUMMARY:Global Ministration
DESCRIPTION:7AM EST/12:00 Noon UK and Nigeria
URL:https://godwaysministry.com/event/global-ministration-2/2030-04-09/
CATEGORIES:Announcements
ATTACH;FMTTYPE=image/jpeg:https://godwaysministry.com/wp-content/uploads/2024/08/GIM_PrayerProphetic.jpeg
LOCATION:https://godwaysministry.com/event/global-ministration-2/2030-04-09/
END:VEVENT
BEGIN:VEVENT
DTSTART;VALUE=DATE:20300410
DTEND;VALUE=DATE:20300411
DTSTAMP:20260423T105613
CREATED:20250703T161944Z
LAST-MODIFIED:20250703T162213Z
UID:10006181-1902009600-1902095999@godwaysministry.com
SUMMARY:Prayer & Prophetic Time: A New Dawn
DESCRIPTION:
URL:https://godwaysministry.com/event/prayer-prophetic-time-a-new-dawn/2030-04-10/
CATEGORIES:Weekly
ATTACH;FMTTYPE=image/jpeg:https://godwaysministry.com/wp-content/uploads/2024/08/GIM_PrayerProphetic.jpeg
LOCATION:https://godwaysministry.com/event/prayer-prophetic-time-a-new-dawn/2030-04-10/
END:VEVENT
BEGIN:VEVENT
DTSTART;VALUE=DATE:20300410
DTEND;VALUE=DATE:20300411
DTSTAMP:20260423T105613
CREATED:20250703T164223Z
LAST-MODIFIED:20250703T164223Z
UID:10006345-1902009600-1902095999@godwaysministry.com
SUMMARY:Global Ministration
DESCRIPTION:7AM EST/12:00 Noon UK and Nigeria
URL:https://godwaysministry.com/event/global-ministration-2/2030-04-10/
CATEGORIES:Announcements
ATTACH;FMTTYPE=image/jpeg:https://godwaysministry.com/wp-content/uploads/2024/08/GIM_PrayerProphetic.jpeg
LOCATION:https://godwaysministry.com/event/global-ministration-2/2030-04-10/
END:VEVENT
BEGIN:VEVENT
DTSTART;VALUE=DATE:20300416
DTEND;VALUE=DATE:20300417
DTSTAMP:20260423T105613
CREATED:20250703T161944Z
LAST-MODIFIED:20250703T162213Z
UID:10006183-1902528000-1902614399@godwaysministry.com
SUMMARY:Prayer & Prophetic Time: A New Dawn
DESCRIPTION:
URL:https://godwaysministry.com/event/prayer-prophetic-time-a-new-dawn/2030-04-16/
CATEGORIES:Weekly
ATTACH;FMTTYPE=image/jpeg:https://godwaysministry.com/wp-content/uploads/2024/08/GIM_PrayerProphetic.jpeg
LOCATION:https://godwaysministry.com/event/prayer-prophetic-time-a-new-dawn/2030-04-16/
END:VEVENT
BEGIN:VEVENT
DTSTART;VALUE=DATE:20300416
DTEND;VALUE=DATE:20300417
DTSTAMP:20260423T105613
CREATED:20250703T164223Z
LAST-MODIFIED:20250703T164223Z
UID:10006348-1902528000-1902614399@godwaysministry.com
SUMMARY:Global Ministration
DESCRIPTION:7AM EST/12:00 Noon UK and Nigeria
URL:https://godwaysministry.com/event/global-ministration-2/2030-04-16/
CATEGORIES:Announcements
ATTACH;FMTTYPE=image/jpeg:https://godwaysministry.com/wp-content/uploads/2024/08/GIM_PrayerProphetic.jpeg
LOCATION:https://godwaysministry.com/event/global-ministration-2/2030-04-16/
END:VEVENT
BEGIN:VEVENT
DTSTART;VALUE=DATE:20300417
DTEND;VALUE=DATE:20300418
DTSTAMP:20260423T105613
CREATED:20250703T161944Z
LAST-MODIFIED:20250703T162213Z
UID:10006184-1902614400-1902700799@godwaysministry.com
SUMMARY:Prayer & Prophetic Time: A New Dawn
DESCRIPTION:
URL:https://godwaysministry.com/event/prayer-prophetic-time-a-new-dawn/2030-04-17/
CATEGORIES:Weekly
ATTACH;FMTTYPE=image/jpeg:https://godwaysministry.com/wp-content/uploads/2024/08/GIM_PrayerProphetic.jpeg
LOCATION:https://godwaysministry.com/event/prayer-prophetic-time-a-new-dawn/2030-04-17/
END:VEVENT
BEGIN:VEVENT
DTSTART;VALUE=DATE:20300417
DTEND;VALUE=DATE:20300418
DTSTAMP:20260423T105613
CREATED:20250703T164223Z
LAST-MODIFIED:20250703T164223Z
UID:10006349-1902614400-1902700799@godwaysministry.com
SUMMARY:Global Ministration
DESCRIPTION:7AM EST/12:00 Noon UK and Nigeria
URL:https://godwaysministry.com/event/global-ministration-2/2030-04-17/
CATEGORIES:Announcements
ATTACH;FMTTYPE=image/jpeg:https://godwaysministry.com/wp-content/uploads/2024/08/GIM_PrayerProphetic.jpeg
LOCATION:https://godwaysministry.com/event/global-ministration-2/2030-04-17/
END:VEVENT
BEGIN:VEVENT
DTSTART;VALUE=DATE:20300423
DTEND;VALUE=DATE:20300424
DTSTAMP:20260423T105613
CREATED:20250703T161944Z
LAST-MODIFIED:20250703T162213Z
UID:10006186-1903132800-1903219199@godwaysministry.com
SUMMARY:Prayer & Prophetic Time: A New Dawn
DESCRIPTION:
URL:https://godwaysministry.com/event/prayer-prophetic-time-a-new-dawn/2030-04-23/
CATEGORIES:Weekly
ATTACH;FMTTYPE=image/jpeg:https://godwaysministry.com/wp-content/uploads/2024/08/GIM_PrayerProphetic.jpeg
LOCATION:https://godwaysministry.com/event/prayer-prophetic-time-a-new-dawn/2030-04-23/
END:VEVENT
BEGIN:VEVENT
DTSTART;VALUE=DATE:20300423
DTEND;VALUE=DATE:20300424
DTSTAMP:20260423T105613
CREATED:20250703T164223Z
LAST-MODIFIED:20250703T164223Z
UID:10006352-1903132800-1903219199@godwaysministry.com
SUMMARY:Global Ministration
DESCRIPTION:7AM EST/12:00 Noon UK and Nigeria
URL:https://godwaysministry.com/event/global-ministration-2/2030-04-23/
CATEGORIES:Announcements
ATTACH;FMTTYPE=image/jpeg:https://godwaysministry.com/wp-content/uploads/2024/08/GIM_PrayerProphetic.jpeg
LOCATION:https://godwaysministry.com/event/global-ministration-2/2030-04-23/
END:VEVENT
BEGIN:VEVENT
DTSTART;VALUE=DATE:20300424
DTEND;VALUE=DATE:20300425
DTSTAMP:20260423T105613
CREATED:20250703T161944Z
LAST-MODIFIED:20250703T162213Z
UID:10006187-1903219200-1903305599@godwaysministry.com
SUMMARY:Prayer & Prophetic Time: A New Dawn
DESCRIPTION:
URL:https://godwaysministry.com/event/prayer-prophetic-time-a-new-dawn/2030-04-24/
CATEGORIES:Weekly
ATTACH;FMTTYPE=image/jpeg:https://godwaysministry.com/wp-content/uploads/2024/08/GIM_PrayerProphetic.jpeg
LOCATION:https://godwaysministry.com/event/prayer-prophetic-time-a-new-dawn/2030-04-24/
END:VEVENT
BEGIN:VEVENT
DTSTART;VALUE=DATE:20300424
DTEND;VALUE=DATE:20300425
DTSTAMP:20260423T105613
CREATED:20250703T164223Z
LAST-MODIFIED:20250703T164223Z
UID:10006353-1903219200-1903305599@godwaysministry.com
SUMMARY:Global Ministration
DESCRIPTION:7AM EST/12:00 Noon UK and Nigeria
URL:https://godwaysministry.com/event/global-ministration-2/2030-04-24/
CATEGORIES:Announcements
ATTACH;FMTTYPE=image/jpeg:https://godwaysministry.com/wp-content/uploads/2024/08/GIM_PrayerProphetic.jpeg
LOCATION:https://godwaysministry.com/event/global-ministration-2/2030-04-24/
END:VEVENT
BEGIN:VEVENT
DTSTART;VALUE=DATE:20300430
DTEND;VALUE=DATE:20300501
DTSTAMP:20260423T105613
CREATED:20250703T161944Z
LAST-MODIFIED:20250703T162213Z
UID:10006189-1903737600-1903823999@godwaysministry.com
SUMMARY:Prayer & Prophetic Time: A New Dawn
DESCRIPTION:
URL:https://godwaysministry.com/event/prayer-prophetic-time-a-new-dawn/2030-04-30/
CATEGORIES:Weekly
ATTACH;FMTTYPE=image/jpeg:https://godwaysministry.com/wp-content/uploads/2024/08/GIM_PrayerProphetic.jpeg
LOCATION:https://godwaysministry.com/event/prayer-prophetic-time-a-new-dawn/2030-04-30/
END:VEVENT
BEGIN:VEVENT
DTSTART;VALUE=DATE:20300430
DTEND;VALUE=DATE:20300501
DTSTAMP:20260423T105613
CREATED:20250703T164223Z
LAST-MODIFIED:20250703T164223Z
UID:10006356-1903737600-1903823999@godwaysministry.com
SUMMARY:Global Ministration
DESCRIPTION:7AM EST/12:00 Noon UK and Nigeria
URL:https://godwaysministry.com/event/global-ministration-2/2030-04-30/
CATEGORIES:Announcements
ATTACH;FMTTYPE=image/jpeg:https://godwaysministry.com/wp-content/uploads/2024/08/GIM_PrayerProphetic.jpeg
LOCATION:https://godwaysministry.com/event/global-ministration-2/2030-04-30/
END:VEVENT
BEGIN:VEVENT
DTSTART;VALUE=DATE:20300501
DTEND;VALUE=DATE:20300502
DTSTAMP:20260423T105613
CREATED:20250703T161944Z
LAST-MODIFIED:20250703T162213Z
UID:10006190-1903824000-1903910399@godwaysministry.com
SUMMARY:Prayer & Prophetic Time: A New Dawn
DESCRIPTION:
URL:https://godwaysministry.com/event/prayer-prophetic-time-a-new-dawn/2030-05-01/
CATEGORIES:Weekly
ATTACH;FMTTYPE=image/jpeg:https://godwaysministry.com/wp-content/uploads/2024/08/GIM_PrayerProphetic.jpeg
LOCATION:https://godwaysministry.com/event/prayer-prophetic-time-a-new-dawn/2030-05-01/
END:VEVENT
BEGIN:VEVENT
DTSTART;VALUE=DATE:20300501
DTEND;VALUE=DATE:20300502
DTSTAMP:20260423T105613
CREATED:20250703T164223Z
LAST-MODIFIED:20250703T164223Z
UID:10006357-1903824000-1903910399@godwaysministry.com
SUMMARY:Global Ministration
DESCRIPTION:7AM EST/12:00 Noon UK and Nigeria
URL:https://godwaysministry.com/event/global-ministration-2/2030-05-01/
CATEGORIES:Announcements
ATTACH;FMTTYPE=image/jpeg:https://godwaysministry.com/wp-content/uploads/2024/08/GIM_PrayerProphetic.jpeg
LOCATION:https://godwaysministry.com/event/global-ministration-2/2030-05-01/
END:VEVENT
BEGIN:VEVENT
DTSTART;VALUE=DATE:20300507
DTEND;VALUE=DATE:20300508
DTSTAMP:20260423T105613
CREATED:20250703T161944Z
LAST-MODIFIED:20250703T162213Z
UID:10006192-1904342400-1904428799@godwaysministry.com
SUMMARY:Prayer & Prophetic Time: A New Dawn
DESCRIPTION:
URL:https://godwaysministry.com/event/prayer-prophetic-time-a-new-dawn/2030-05-07/
CATEGORIES:Weekly
ATTACH;FMTTYPE=image/jpeg:https://godwaysministry.com/wp-content/uploads/2024/08/GIM_PrayerProphetic.jpeg
LOCATION:https://godwaysministry.com/event/prayer-prophetic-time-a-new-dawn/2030-05-07/
END:VEVENT
BEGIN:VEVENT
DTSTART;VALUE=DATE:20300507
DTEND;VALUE=DATE:20300508
DTSTAMP:20260423T105613
CREATED:20250703T164223Z
LAST-MODIFIED:20250703T164223Z
UID:10006360-1904342400-1904428799@godwaysministry.com
SUMMARY:Global Ministration
DESCRIPTION:7AM EST/12:00 Noon UK and Nigeria
URL:https://godwaysministry.com/event/global-ministration-2/2030-05-07/
CATEGORIES:Announcements
ATTACH;FMTTYPE=image/jpeg:https://godwaysministry.com/wp-content/uploads/2024/08/GIM_PrayerProphetic.jpeg
LOCATION:https://godwaysministry.com/event/global-ministration-2/2030-05-07/
END:VEVENT
BEGIN:VEVENT
DTSTART;VALUE=DATE:20300508
DTEND;VALUE=DATE:20300509
DTSTAMP:20260423T105613
CREATED:20250703T161944Z
LAST-MODIFIED:20250703T162213Z
UID:10006193-1904428800-1904515199@godwaysministry.com
SUMMARY:Prayer & Prophetic Time: A New Dawn
DESCRIPTION:
URL:https://godwaysministry.com/event/prayer-prophetic-time-a-new-dawn/2030-05-08/
CATEGORIES:Weekly
ATTACH;FMTTYPE=image/jpeg:https://godwaysministry.com/wp-content/uploads/2024/08/GIM_PrayerProphetic.jpeg
LOCATION:https://godwaysministry.com/event/prayer-prophetic-time-a-new-dawn/2030-05-08/
END:VEVENT
END:VCALENDAR