BEGIN:VCALENDAR
VERSION:2.0
PRODID:-//Godways International Ministry - ECPv6.6.2//NONSGML v1.0//EN
CALSCALE:GREGORIAN
METHOD:PUBLISH
X-WR-CALNAME:Godways International Ministry
X-ORIGINAL-URL:https://godwaysministry.com
X-WR-CALDESC:Events for Godways International Ministry
REFRESH-INTERVAL;VALUE=DURATION:PT1H
X-Robots-Tag:noindex
X-PUBLISHED-TTL:PT1H
BEGIN:VTIMEZONE
TZID:America/Toronto
BEGIN:DAYLIGHT
TZOFFSETFROM:-0500
TZOFFSETTO:-0400
TZNAME:EDT
DTSTART:20230312T070000
END:DAYLIGHT
BEGIN:STANDARD
TZOFFSETFROM:-0400
TZOFFSETTO:-0500
TZNAME:EST
DTSTART:20231105T060000
END:STANDARD
BEGIN:DAYLIGHT
TZOFFSETFROM:-0500
TZOFFSETTO:-0400
TZNAME:EDT
DTSTART:20240310T070000
END:DAYLIGHT
BEGIN:STANDARD
TZOFFSETFROM:-0400
TZOFFSETTO:-0500
TZNAME:EST
DTSTART:20241103T060000
END:STANDARD
TZID:UTC
BEGIN:STANDARD
TZOFFSETFROM:+0000
TZOFFSETTO:+0000
TZNAME:UTC
DTSTART:20240101T000000
END:STANDARD
TZID:Europe/London
BEGIN:DAYLIGHT
TZOFFSETFROM:+0000
TZOFFSETTO:+0100
TZNAME:BST
DTSTART:20240331T010000
END:DAYLIGHT
BEGIN:STANDARD
TZOFFSETFROM:+0100
TZOFFSETTO:+0000
TZNAME:GMT
DTSTART:20241027T010000
END:STANDARD
TZID:America/New_York
BEGIN:DAYLIGHT
TZOFFSETFROM:-0500
TZOFFSETTO:-0400
TZNAME:EDT
DTSTART:20240310T070000
END:DAYLIGHT
BEGIN:STANDARD
TZOFFSETFROM:-0400
TZOFFSETTO:-0500
TZNAME:EST
DTSTART:20241103T060000
END:STANDARD
TZID:America/Chicago
BEGIN:DAYLIGHT
TZOFFSETFROM:-0600
TZOFFSETTO:-0500
TZNAME:CDT
DTSTART:20230312T080000
END:DAYLIGHT
BEGIN:STANDARD
TZOFFSETFROM:-0500
TZOFFSETTO:-0600
TZNAME:CST
DTSTART:20231105T070000
END:STANDARD
BEGIN:DAYLIGHT
TZOFFSETFROM:-0600
TZOFFSETTO:-0500
TZNAME:CDT
DTSTART:20240310T080000
END:DAYLIGHT
BEGIN:STANDARD
TZOFFSETFROM:-0500
TZOFFSETTO:-0600
TZNAME:CST
DTSTART:20241103T070000
END:STANDARD
END:VTIMEZONE
BEGIN:VEVENT
DTSTART;VALUE=DATE:20240924
DTEND;VALUE=DATE:20240925
DTSTAMP:20260420T024908
CREATED:20240829T212846Z
LAST-MODIFIED:20250703T163808Z
UID:10003690-1727136000-1727222399@godwaysministry.com
SUMMARY:Global Ministration
DESCRIPTION:7AM EST/12:00 Noon UK and Nigeria
URL:https://godwaysministry.com/event/global-ministration/2024-09-24/
CATEGORIES:Announcements
ATTACH;FMTTYPE=image/jpeg:https://godwaysministry.com/wp-content/uploads/2024/08/GIM_PrayerProphetic.jpeg
LOCATION:https://godwaysministry.com/event/global-ministration/2024-09-24/
END:VEVENT
BEGIN:VEVENT
DTSTART;VALUE=DATE:20240923
DTEND;VALUE=DATE:20240924
DTSTAMP:20260420T024908
CREATED:20240829T212846Z
LAST-MODIFIED:20250703T163808Z
UID:10003689-1727049600-1727135999@godwaysministry.com
SUMMARY:Global Ministration
DESCRIPTION:7AM EST/12:00 Noon UK and Nigeria
URL:https://godwaysministry.com/event/global-ministration/2024-09-23/
CATEGORIES:Announcements
ATTACH;FMTTYPE=image/jpeg:https://godwaysministry.com/wp-content/uploads/2024/08/GIM_PrayerProphetic.jpeg
LOCATION:https://godwaysministry.com/event/global-ministration/2024-09-23/
END:VEVENT
BEGIN:VEVENT
DTSTART;VALUE=DATE:20240922
DTEND;VALUE=DATE:20240923
DTSTAMP:20260420T024908
CREATED:20240829T213735Z
LAST-MODIFIED:20240830T125429Z
UID:10003418-1726963200-1727049599@godwaysministry.com
SUMMARY:Godways Campuses Sunday Services
DESCRIPTION:London\, UK – 12 PM (local time) Every Sunday \nAtlanta\, USA  – 11 AM (local time) Every Sunday \nToronto\, Canada – 11 AM (local time) Every Sunday \nAbuja\, Nigeria – 10 AM (local time) Every Sunday
URL:https://godwaysministry.com/event/godways-campuses-sunday-services/2024-09-22/
LOCATION:Godways International Ministry\, London Campus\, 3rd Floor\, 64 Willoughby Lane\, London\, London\, N17 0SN\, United Kingdom
CATEGORIES:Announcements
ATTACH;FMTTYPE=image/jpeg:https://godwaysministry.com/wp-content/uploads/2024/08/sunday_services.jpg
END:VEVENT
BEGIN:VEVENT
DTSTART;VALUE=DATE:20240920
DTEND;VALUE=DATE:20240921
DTSTAMP:20260420T024908
CREATED:20240830T171534Z
LAST-MODIFIED:20240830T171534Z
UID:10005769-1726790400-1726876799@godwaysministry.com
SUMMARY:Birmingham\, UK Weekly Service - Every Friday
DESCRIPTION:6 PM (local time) Every Friday
URL:https://godwaysministry.com/event/birmingham-uk-weekly-service-every-friday/2024-09-20/
CATEGORIES:Announcements
ATTACH;FMTTYPE=image/jpeg:https://godwaysministry.com/wp-content/uploads/2024/08/birmingham_online_weekly_prayers.jpg
ORGANIZER;CN="Birmingham%2C UK Campus":MAILTO:gimbham1@gmail.com
LOCATION:
END:VEVENT
BEGIN:VEVENT
DTSTART;VALUE=DATE:20240919
DTEND;VALUE=DATE:20240920
DTSTAMP:20260420T024908
CREATED:20240829T212846Z
LAST-MODIFIED:20250703T163808Z
UID:10003688-1726704000-1726790399@godwaysministry.com
SUMMARY:Global Ministration
DESCRIPTION:7AM EST/12:00 Noon UK and Nigeria
URL:https://godwaysministry.com/event/global-ministration/2024-09-19/
CATEGORIES:Announcements
ATTACH;FMTTYPE=image/jpeg:https://godwaysministry.com/wp-content/uploads/2024/08/GIM_PrayerProphetic.jpeg
LOCATION:https://godwaysministry.com/event/global-ministration/2024-09-19/
END:VEVENT
BEGIN:VEVENT
DTSTART;VALUE=DATE:20240918
DTEND;VALUE=DATE:20240919
DTSTAMP:20260420T024908
CREATED:20240829T212846Z
LAST-MODIFIED:20250703T163808Z
UID:10003687-1726617600-1726703999@godwaysministry.com
SUMMARY:Global Ministration
DESCRIPTION:7AM EST/12:00 Noon UK and Nigeria
URL:https://godwaysministry.com/event/global-ministration/2024-09-18/
CATEGORIES:Announcements
ATTACH;FMTTYPE=image/jpeg:https://godwaysministry.com/wp-content/uploads/2024/08/GIM_PrayerProphetic.jpeg
LOCATION:https://godwaysministry.com/event/global-ministration/2024-09-18/
END:VEVENT
BEGIN:VEVENT
DTSTART;VALUE=DATE:20240917
DTEND;VALUE=DATE:20240918
DTSTAMP:20260420T024908
CREATED:20240829T212846Z
LAST-MODIFIED:20250703T163808Z
UID:10003686-1726531200-1726617599@godwaysministry.com
SUMMARY:Global Ministration
DESCRIPTION:7AM EST/12:00 Noon UK and Nigeria
URL:https://godwaysministry.com/event/global-ministration/2024-09-17/
CATEGORIES:Announcements
ATTACH;FMTTYPE=image/jpeg:https://godwaysministry.com/wp-content/uploads/2024/08/GIM_PrayerProphetic.jpeg
LOCATION:https://godwaysministry.com/event/global-ministration/2024-09-17/
END:VEVENT
BEGIN:VEVENT
DTSTART;VALUE=DATE:20240916
DTEND;VALUE=DATE:20240917
DTSTAMP:20260420T024908
CREATED:20240829T212846Z
LAST-MODIFIED:20250703T163808Z
UID:10003685-1726444800-1726531199@godwaysministry.com
SUMMARY:Global Ministration
DESCRIPTION:7AM EST/12:00 Noon UK and Nigeria
URL:https://godwaysministry.com/event/global-ministration/2024-09-16/
CATEGORIES:Announcements
ATTACH;FMTTYPE=image/jpeg:https://godwaysministry.com/wp-content/uploads/2024/08/GIM_PrayerProphetic.jpeg
LOCATION:https://godwaysministry.com/event/global-ministration/2024-09-16/
END:VEVENT
BEGIN:VEVENT
DTSTART;VALUE=DATE:20240915
DTEND;VALUE=DATE:20240916
DTSTAMP:20260420T024908
CREATED:20240829T213735Z
LAST-MODIFIED:20240830T125429Z
UID:10003417-1726358400-1726444799@godwaysministry.com
SUMMARY:Godways Campuses Sunday Services
DESCRIPTION:London\, UK – 12 PM (local time) Every Sunday \nAtlanta\, USA  – 11 AM (local time) Every Sunday \nToronto\, Canada – 11 AM (local time) Every Sunday \nAbuja\, Nigeria – 10 AM (local time) Every Sunday
URL:https://godwaysministry.com/event/godways-campuses-sunday-services/2024-09-15/
LOCATION:Godways International Ministry\, London Campus\, 3rd Floor\, 64 Willoughby Lane\, London\, London\, N17 0SN\, United Kingdom
CATEGORIES:Announcements
ATTACH;FMTTYPE=image/jpeg:https://godwaysministry.com/wp-content/uploads/2024/08/sunday_services.jpg
END:VEVENT
BEGIN:VEVENT
DTSTART;VALUE=DATE:20240913
DTEND;VALUE=DATE:20240914
DTSTAMP:20260420T024908
CREATED:20240830T171534Z
LAST-MODIFIED:20240830T171534Z
UID:10005768-1726185600-1726271999@godwaysministry.com
SUMMARY:Birmingham\, UK Weekly Service - Every Friday
DESCRIPTION:6 PM (local time) Every Friday
URL:https://godwaysministry.com/event/birmingham-uk-weekly-service-every-friday/2024-09-13/
CATEGORIES:Announcements
ATTACH;FMTTYPE=image/jpeg:https://godwaysministry.com/wp-content/uploads/2024/08/birmingham_online_weekly_prayers.jpg
ORGANIZER;CN="Birmingham%2C UK Campus":MAILTO:gimbham1@gmail.com
LOCATION:
END:VEVENT
BEGIN:VEVENT
DTSTART;VALUE=DATE:20240912
DTEND;VALUE=DATE:20240913
DTSTAMP:20260420T024908
CREATED:20240829T212846Z
LAST-MODIFIED:20250703T163808Z
UID:10003684-1726099200-1726185599@godwaysministry.com
SUMMARY:Global Ministration
DESCRIPTION:7AM EST/12:00 Noon UK and Nigeria
URL:https://godwaysministry.com/event/global-ministration/2024-09-12/
CATEGORIES:Announcements
ATTACH;FMTTYPE=image/jpeg:https://godwaysministry.com/wp-content/uploads/2024/08/GIM_PrayerProphetic.jpeg
LOCATION:https://godwaysministry.com/event/global-ministration/2024-09-12/
END:VEVENT
BEGIN:VEVENT
DTSTART;VALUE=DATE:20240911
DTEND;VALUE=DATE:20240912
DTSTAMP:20260420T024908
CREATED:20240829T212846Z
LAST-MODIFIED:20250703T163808Z
UID:10003683-1726012800-1726099199@godwaysministry.com
SUMMARY:Global Ministration
DESCRIPTION:7AM EST/12:00 Noon UK and Nigeria
URL:https://godwaysministry.com/event/global-ministration/2024-09-11/
CATEGORIES:Announcements
ATTACH;FMTTYPE=image/jpeg:https://godwaysministry.com/wp-content/uploads/2024/08/GIM_PrayerProphetic.jpeg
LOCATION:https://godwaysministry.com/event/global-ministration/2024-09-11/
END:VEVENT
BEGIN:VEVENT
DTSTART;VALUE=DATE:20240910
DTEND;VALUE=DATE:20240911
DTSTAMP:20260420T024908
CREATED:20240829T212846Z
LAST-MODIFIED:20250703T163808Z
UID:10003682-1725926400-1726012799@godwaysministry.com
SUMMARY:Global Ministration
DESCRIPTION:7AM EST/12:00 Noon UK and Nigeria
URL:https://godwaysministry.com/event/global-ministration/2024-09-10/
CATEGORIES:Announcements
ATTACH;FMTTYPE=image/jpeg:https://godwaysministry.com/wp-content/uploads/2024/08/GIM_PrayerProphetic.jpeg
LOCATION:https://godwaysministry.com/event/global-ministration/2024-09-10/
END:VEVENT
BEGIN:VEVENT
DTSTART;VALUE=DATE:20240909
DTEND;VALUE=DATE:20240910
DTSTAMP:20260420T024908
CREATED:20240829T212846Z
LAST-MODIFIED:20250703T163808Z
UID:10003681-1725840000-1725926399@godwaysministry.com
SUMMARY:Global Ministration
DESCRIPTION:7AM EST/12:00 Noon UK and Nigeria
URL:https://godwaysministry.com/event/global-ministration/2024-09-09/
CATEGORIES:Announcements
ATTACH;FMTTYPE=image/jpeg:https://godwaysministry.com/wp-content/uploads/2024/08/GIM_PrayerProphetic.jpeg
LOCATION:https://godwaysministry.com/event/global-ministration/2024-09-09/
END:VEVENT
BEGIN:VEVENT
DTSTART;VALUE=DATE:20240908
DTEND;VALUE=DATE:20240909
DTSTAMP:20260420T024908
CREATED:20240829T213735Z
LAST-MODIFIED:20240830T125429Z
UID:10003416-1725753600-1725839999@godwaysministry.com
SUMMARY:Godways Campuses Sunday Services
DESCRIPTION:London\, UK – 12 PM (local time) Every Sunday \nAtlanta\, USA  – 11 AM (local time) Every Sunday \nToronto\, Canada – 11 AM (local time) Every Sunday \nAbuja\, Nigeria – 10 AM (local time) Every Sunday
URL:https://godwaysministry.com/event/godways-campuses-sunday-services/2024-09-08/
LOCATION:Godways International Ministry\, London Campus\, 3rd Floor\, 64 Willoughby Lane\, London\, London\, N17 0SN\, United Kingdom
CATEGORIES:Announcements
ATTACH;FMTTYPE=image/jpeg:https://godwaysministry.com/wp-content/uploads/2024/08/sunday_services.jpg
END:VEVENT
BEGIN:VEVENT
DTSTART;VALUE=DATE:20240906
DTEND;VALUE=DATE:20240907
DTSTAMP:20260420T024908
CREATED:20240830T171534Z
LAST-MODIFIED:20240830T171534Z
UID:10005767-1725580800-1725667199@godwaysministry.com
SUMMARY:Birmingham\, UK Weekly Service - Every Friday
DESCRIPTION:6 PM (local time) Every Friday
URL:https://godwaysministry.com/event/birmingham-uk-weekly-service-every-friday/2024-09-06/
CATEGORIES:Announcements
ATTACH;FMTTYPE=image/jpeg:https://godwaysministry.com/wp-content/uploads/2024/08/birmingham_online_weekly_prayers.jpg
ORGANIZER;CN="Birmingham%2C UK Campus":MAILTO:gimbham1@gmail.com
LOCATION:
END:VEVENT
BEGIN:VEVENT
DTSTART;VALUE=DATE:20240905
DTEND;VALUE=DATE:20240906
DTSTAMP:20260420T024908
CREATED:20240829T212846Z
LAST-MODIFIED:20250703T163808Z
UID:10003680-1725494400-1725580799@godwaysministry.com
SUMMARY:Global Ministration
DESCRIPTION:7AM EST/12:00 Noon UK and Nigeria
URL:https://godwaysministry.com/event/global-ministration/2024-09-05/
CATEGORIES:Announcements
ATTACH;FMTTYPE=image/jpeg:https://godwaysministry.com/wp-content/uploads/2024/08/GIM_PrayerProphetic.jpeg
LOCATION:https://godwaysministry.com/event/global-ministration/2024-09-05/
END:VEVENT
BEGIN:VEVENT
DTSTART;VALUE=DATE:20240904
DTEND;VALUE=DATE:20240905
DTSTAMP:20260420T024908
CREATED:20240829T212846Z
LAST-MODIFIED:20250703T163808Z
UID:10003679-1725408000-1725494399@godwaysministry.com
SUMMARY:Global Ministration
DESCRIPTION:7AM EST/12:00 Noon UK and Nigeria
URL:https://godwaysministry.com/event/global-ministration/2024-09-04/
CATEGORIES:Announcements
ATTACH;FMTTYPE=image/jpeg:https://godwaysministry.com/wp-content/uploads/2024/08/GIM_PrayerProphetic.jpeg
LOCATION:https://godwaysministry.com/event/global-ministration/2024-09-04/
END:VEVENT
BEGIN:VEVENT
DTSTART;VALUE=DATE:20240903
DTEND;VALUE=DATE:20240904
DTSTAMP:20260420T024908
CREATED:20240829T212846Z
LAST-MODIFIED:20250703T163808Z
UID:10003678-1725321600-1725407999@godwaysministry.com
SUMMARY:Global Ministration
DESCRIPTION:7AM EST/12:00 Noon UK and Nigeria
URL:https://godwaysministry.com/event/global-ministration/2024-09-03/
CATEGORIES:Announcements
ATTACH;FMTTYPE=image/jpeg:https://godwaysministry.com/wp-content/uploads/2024/08/GIM_PrayerProphetic.jpeg
LOCATION:https://godwaysministry.com/event/global-ministration/2024-09-03/
END:VEVENT
BEGIN:VEVENT
DTSTART;VALUE=DATE:20240902
DTEND;VALUE=DATE:20240903
DTSTAMP:20260420T024908
CREATED:20240829T212846Z
LAST-MODIFIED:20250703T163808Z
UID:10003677-1725235200-1725321599@godwaysministry.com
SUMMARY:Global Ministration
DESCRIPTION:7AM EST/12:00 Noon UK and Nigeria
URL:https://godwaysministry.com/event/global-ministration/2024-09-02/
CATEGORIES:Announcements
ATTACH;FMTTYPE=image/jpeg:https://godwaysministry.com/wp-content/uploads/2024/08/GIM_PrayerProphetic.jpeg
LOCATION:https://godwaysministry.com/event/global-ministration/2024-09-02/
END:VEVENT
BEGIN:VEVENT
DTSTART;VALUE=DATE:20240830
DTEND;VALUE=DATE:20240831
DTSTAMP:20260420T024908
CREATED:20240830T173035Z
LAST-MODIFIED:20240830T173131Z
UID:10006027-1724976000-1725062399@godwaysministry.com
SUMMARY:Godways Massachusetts\, USA Service - Last Friday of Every Month
DESCRIPTION:6PM (local time)
URL:https://godwaysministry.com/event/godways-massachusetts-usa-service-last-friday-of-every-month/2024-08-30/
LOCATION:Godways International Ministry\, Massachusetts  Campus\, Methuen Community Studios\, 20 Aegean Drive\, Suite 11\, Boston\, MA\, 01844\, United States
CATEGORIES:Announcements
ATTACH;FMTTYPE=image/jpeg:https://godwaysministry.com/wp-content/uploads/2024/08/special-monthly-service.jpg
ORGANIZER;CN="Massachusetts%2C USA Campus":MAILTO:godwaysministryma@gmail.com
END:VEVENT
BEGIN:VEVENT
DTSTART;VALUE=DATE:20240830
DTEND;VALUE=DATE:20240831
DTSTAMP:20260420T024908
CREATED:20240830T171534Z
LAST-MODIFIED:20240830T171534Z
UID:10005766-1724976000-1725062399@godwaysministry.com
SUMMARY:Birmingham\, UK Weekly Service - Every Friday
DESCRIPTION:6 PM (local time) Every Friday
URL:https://godwaysministry.com/event/birmingham-uk-weekly-service-every-friday/2024-08-30/
CATEGORIES:Announcements
ATTACH;FMTTYPE=image/jpeg:https://godwaysministry.com/wp-content/uploads/2024/08/birmingham_online_weekly_prayers.jpg
ORGANIZER;CN="Birmingham%2C UK Campus":MAILTO:gimbham1@gmail.com
LOCATION:
END:VEVENT
BEGIN:VEVENT
DTSTART;VALUE=DATE:20240829
DTEND;VALUE=DATE:20240830
DTSTAMP:20260420T024908
CREATED:20240829T212846Z
LAST-MODIFIED:20250703T163808Z
UID:10006218-1724918400-1724950800@godwaysministry.com
SUMMARY:Global Ministration
DESCRIPTION:7AM EST/12:00 Noon UK and Nigeria
URL:https://godwaysministry.com/event/global-ministration/2024-08-29/2/
CATEGORIES:Announcements
ATTACH;FMTTYPE=image/jpeg:https://godwaysministry.com/wp-content/uploads/2024/08/GIM_PrayerProphetic.jpeg
LOCATION:https://godwaysministry.com/event/global-ministration/2024-08-29/2/
END:VEVENT
BEGIN:VEVENT
DTSTART;VALUE=DATE:20240829
DTEND;VALUE=DATE:20240830
DTSTAMP:20260420T024908
CREATED:20240829T212846Z
LAST-MODIFIED:20250703T163808Z
UID:10003676-1724889600-1724975999@godwaysministry.com
SUMMARY:Global Ministration
DESCRIPTION:7AM EST/12:00 Noon UK and Nigeria
URL:https://godwaysministry.com/event/global-ministration/2024-08-29/1/
CATEGORIES:Announcements
ATTACH;FMTTYPE=image/jpeg:https://godwaysministry.com/wp-content/uploads/2024/08/GIM_PrayerProphetic.jpeg
LOCATION:https://godwaysministry.com/event/global-ministration/2024-08-29/1/
END:VEVENT
BEGIN:VEVENT
DTSTART;TZID=America/Toronto:20240630T110000
DTEND;TZID=America/Toronto:20240630T130000
DTSTAMP:20260420T024908
CREATED:20240829T163113Z
LAST-MODIFIED:20240829T163113Z
UID:10000021-1719745200-1719752400@godwaysministry.com
SUMMARY:Mid-Year Thanksgiving\, June 2024 - Toronto\, Canada Campus
DESCRIPTION:
URL:https://godwaysministry.com/event/mid-year-thanksgiving-june-2024-toronto-canada-campus/
LOCATION:Godways International Ministry\, Toronto Campus\, 310-1550 South Gateway Road\, Mississauga\, Toronto\, Ontario\, L4W 5K3\, Canada
CATEGORIES:Past
ATTACH;FMTTYPE=image/png:https://godwaysministry.com/wp-content/uploads/2024/08/Godways-Toronto-Midyear-Thanksgiving-1.png
ORGANIZER;CN="Toronto%2C Canada Campus":MAILTO:info@godwaysministry.ca
END:VEVENT
BEGIN:VEVENT
DTSTART;TZID=America/Toronto:20240331T110000
DTEND;TZID=America/Toronto:20240331T140000
DTSTAMP:20260420T024908
CREATED:20240829T162833Z
LAST-MODIFIED:20240829T162833Z
UID:10000020-1711882800-1711893600@godwaysministry.com
SUMMARY:In Memory of God\, March 2024 - Toronto\, Canada Campus
DESCRIPTION:
URL:https://godwaysministry.com/event/in-memory-of-god-march-2024-toronto-canada-campus/
LOCATION:Godways International Ministry\, Toronto Campus\, 310-1550 South Gateway Road\, Mississauga\, Toronto\, Ontario\, L4W 5K3\, Canada
CATEGORIES:Past
ATTACH;FMTTYPE=image/jpeg:https://godwaysministry.com/wp-content/uploads/2024/08/In-Memory-of-God-Godways-Toronto-2024.jpg
ORGANIZER;CN="Toronto%2C Canada Campus":MAILTO:info@godwaysministry.ca
END:VEVENT
BEGIN:VEVENT
DTSTART;TZID=America/Chicago:20240204T110000
DTEND;TZID=America/Chicago:20240204T130000
DTSTAMP:20260420T024908
CREATED:20240829T162555Z
LAST-MODIFIED:20240829T162555Z
UID:10000019-1707044400-1707051600@godwaysministry.com
SUMMARY:You are empowered for the year\, Feb 2024 - Atlanta\, USA Campus
DESCRIPTION:
URL:https://godwaysministry.com/event/you-are-empowered-for-the-year-feb-2024-atlanta-usa-campus/
LOCATION:Godways International Ministry\, Atlanta Campus\, 1599 Betty Tamaldge Ave\, Jonesboro\, GA\, Atlanta\, CA\, 30236\, United States
CATEGORIES:Past
ATTACH;FMTTYPE=image/png:https://godwaysministry.com/wp-content/uploads/2024/08/Godways-Atlanta-You-are-empowered-for-the-new-year.png
ORGANIZER;CN="Atlanta%2C USA Campus":MAILTO:godwaysministryatl@gmail.com
END:VEVENT
BEGIN:VEVENT
DTSTART;TZID=America/Toronto:20240128T110000
DTEND;TZID=America/Toronto:20240128T130000
DTSTAMP:20260420T024909
CREATED:20240829T145914Z
LAST-MODIFIED:20240829T145914Z
UID:10000018-1706439600-1706446800@godwaysministry.com
SUMMARY:4th Year Church Anniversary\, Jan 2024 - Toronto\, Canada Campus
DESCRIPTION:
URL:https://godwaysministry.com/event/4th-year-church-anniversary-jan-2024-toronto-canada-campus/
LOCATION:Godways International Ministry\, Toronto Campus\, 310-1550 South Gateway Road\, Mississauga\, Toronto\, Ontario\, L4W 5K3\, Canada
CATEGORIES:Past
ATTACH;FMTTYPE=image/png:https://godwaysministry.com/wp-content/uploads/2024/08/Godways-Toronto-4th-Anniversary.png
ORGANIZER;CN="Toronto%2C Canada Campus":MAILTO:info@godwaysministry.ca
END:VEVENT
BEGIN:VEVENT
DTSTART;TZID=America/Toronto:20231118T140000
DTEND;TZID=America/Toronto:20231118T170000
DTSTAMP:20260420T024909
CREATED:20240829T145708Z
LAST-MODIFIED:20240829T145708Z
UID:10000017-1700316000-1700326800@godwaysministry.com
SUMMARY:Ladies on the Rock\, Nov 2023 - Toronto\, Canada Campus
DESCRIPTION:
URL:https://godwaysministry.com/event/ladies-on-the-rock-nov-2023-toronto-canada-campus/
LOCATION:Godways International Ministry\, Toronto Campus\, 310-1550 South Gateway Road\, Mississauga\, Toronto\, Ontario\, L4W 5K3\, Canada
CATEGORIES:Past
ORGANIZER;CN="Toronto%2C Canada Campus":MAILTO:info@godwaysministry.ca
END:VEVENT
BEGIN:VEVENT
DTSTART;TZID=America/Chicago:20231112T100000
DTEND;TZID=America/Chicago:20231112T130000
DTSTAMP:20260420T024909
CREATED:20240829T145505Z
LAST-MODIFIED:20240829T145505Z
UID:10000016-1699783200-1699794000@godwaysministry.com
SUMMARY:Step into the light\, Nov 2023 Atlanta\, USA Campus
DESCRIPTION:
URL:https://godwaysministry.com/event/step-into-the-light-nov-2023-atlanta-usa-campus/
LOCATION:Godways International Ministry\, Atlanta Campus\, 1599 Betty Tamaldge Ave\, Jonesboro\, GA\, Atlanta\, CA\, 30236\, United States
CATEGORIES:Past
ATTACH;FMTTYPE=image/png:https://godwaysministry.com/wp-content/uploads/2024/08/Godways-Atlanta-Step-into-the-light.png
ORGANIZER;CN="Atlanta%2C USA Campus":MAILTO:godwaysministryatl@gmail.com
END:VEVENT
END:VCALENDAR