BEGIN:VCALENDAR
VERSION:2.0
PRODID:-//Godways International Ministry - ECPv6.6.2//NONSGML v1.0//EN
CALSCALE:GREGORIAN
METHOD:PUBLISH
X-WR-CALNAME:Godways International Ministry
X-ORIGINAL-URL:https://godwaysministry.com
X-WR-CALDESC:Events for Godways International Ministry
REFRESH-INTERVAL;VALUE=DURATION:PT1H
X-Robots-Tag:noindex
X-PUBLISHED-TTL:PT1H
BEGIN:VTIMEZONE
TZID:America/Toronto
BEGIN:DAYLIGHT
TZOFFSETFROM:-0500
TZOFFSETTO:-0400
TZNAME:EDT
DTSTART:20290311T070000
END:DAYLIGHT
BEGIN:STANDARD
TZOFFSETFROM:-0400
TZOFFSETTO:-0500
TZNAME:EST
DTSTART:20291104T060000
END:STANDARD
END:VTIMEZONE
BEGIN:VEVENT
DTSTART;VALUE=DATE:20290905
DTEND;VALUE=DATE:20290906
DTSTAMP:20260422T221431
CREATED:20250703T161944Z
LAST-MODIFIED:20250703T162213Z
UID:10006088-1883260800-1883347199@godwaysministry.com
SUMMARY:Prayer & Prophetic Time: A New Dawn
DESCRIPTION:
URL:https://godwaysministry.com/event/prayer-prophetic-time-a-new-dawn/2029-09-05/
CATEGORIES:Weekly
ATTACH;FMTTYPE=image/jpeg:https://godwaysministry.com/wp-content/uploads/2024/08/GIM_PrayerProphetic.jpeg
LOCATION:https://godwaysministry.com/event/prayer-prophetic-time-a-new-dawn/2029-09-05/
END:VEVENT
BEGIN:VEVENT
DTSTART;VALUE=DATE:20290905
DTEND;VALUE=DATE:20290906
DTSTAMP:20260422T221431
CREATED:20250703T164223Z
LAST-MODIFIED:20250703T164223Z
UID:10006221-1883260800-1883347199@godwaysministry.com
SUMMARY:Global Ministration
DESCRIPTION:7AM EST/12:00 Noon UK and Nigeria
URL:https://godwaysministry.com/event/global-ministration-2/2029-09-05/
CATEGORIES:Announcements
ATTACH;FMTTYPE=image/jpeg:https://godwaysministry.com/wp-content/uploads/2024/08/GIM_PrayerProphetic.jpeg
LOCATION:https://godwaysministry.com/event/global-ministration-2/2029-09-05/
END:VEVENT
BEGIN:VEVENT
DTSTART;VALUE=DATE:20290911
DTEND;VALUE=DATE:20290912
DTSTAMP:20260422T221431
CREATED:20250703T161944Z
LAST-MODIFIED:20250703T162213Z
UID:10006090-1883779200-1883865599@godwaysministry.com
SUMMARY:Prayer & Prophetic Time: A New Dawn
DESCRIPTION:
URL:https://godwaysministry.com/event/prayer-prophetic-time-a-new-dawn/2029-09-11/
CATEGORIES:Weekly
ATTACH;FMTTYPE=image/jpeg:https://godwaysministry.com/wp-content/uploads/2024/08/GIM_PrayerProphetic.jpeg
LOCATION:https://godwaysministry.com/event/prayer-prophetic-time-a-new-dawn/2029-09-11/
END:VEVENT
BEGIN:VEVENT
DTSTART;VALUE=DATE:20290911
DTEND;VALUE=DATE:20290912
DTSTAMP:20260422T221431
CREATED:20250703T164223Z
LAST-MODIFIED:20250703T164223Z
UID:10006224-1883779200-1883865599@godwaysministry.com
SUMMARY:Global Ministration
DESCRIPTION:7AM EST/12:00 Noon UK and Nigeria
URL:https://godwaysministry.com/event/global-ministration-2/2029-09-11/
CATEGORIES:Announcements
ATTACH;FMTTYPE=image/jpeg:https://godwaysministry.com/wp-content/uploads/2024/08/GIM_PrayerProphetic.jpeg
LOCATION:https://godwaysministry.com/event/global-ministration-2/2029-09-11/
END:VEVENT
BEGIN:VEVENT
DTSTART;VALUE=DATE:20290912
DTEND;VALUE=DATE:20290913
DTSTAMP:20260422T221431
CREATED:20250703T161944Z
LAST-MODIFIED:20250703T162213Z
UID:10006091-1883865600-1883951999@godwaysministry.com
SUMMARY:Prayer & Prophetic Time: A New Dawn
DESCRIPTION:
URL:https://godwaysministry.com/event/prayer-prophetic-time-a-new-dawn/2029-09-12/
CATEGORIES:Weekly
ATTACH;FMTTYPE=image/jpeg:https://godwaysministry.com/wp-content/uploads/2024/08/GIM_PrayerProphetic.jpeg
LOCATION:https://godwaysministry.com/event/prayer-prophetic-time-a-new-dawn/2029-09-12/
END:VEVENT
BEGIN:VEVENT
DTSTART;VALUE=DATE:20290912
DTEND;VALUE=DATE:20290913
DTSTAMP:20260422T221431
CREATED:20250703T164223Z
LAST-MODIFIED:20250703T164223Z
UID:10006225-1883865600-1883951999@godwaysministry.com
SUMMARY:Global Ministration
DESCRIPTION:7AM EST/12:00 Noon UK and Nigeria
URL:https://godwaysministry.com/event/global-ministration-2/2029-09-12/
CATEGORIES:Announcements
ATTACH;FMTTYPE=image/jpeg:https://godwaysministry.com/wp-content/uploads/2024/08/GIM_PrayerProphetic.jpeg
LOCATION:https://godwaysministry.com/event/global-ministration-2/2029-09-12/
END:VEVENT
BEGIN:VEVENT
DTSTART;VALUE=DATE:20290918
DTEND;VALUE=DATE:20290919
DTSTAMP:20260422T221431
CREATED:20250703T161944Z
LAST-MODIFIED:20250703T162213Z
UID:10006093-1884384000-1884470399@godwaysministry.com
SUMMARY:Prayer & Prophetic Time: A New Dawn
DESCRIPTION:
URL:https://godwaysministry.com/event/prayer-prophetic-time-a-new-dawn/2029-09-18/
CATEGORIES:Weekly
ATTACH;FMTTYPE=image/jpeg:https://godwaysministry.com/wp-content/uploads/2024/08/GIM_PrayerProphetic.jpeg
LOCATION:https://godwaysministry.com/event/prayer-prophetic-time-a-new-dawn/2029-09-18/
END:VEVENT
BEGIN:VEVENT
DTSTART;VALUE=DATE:20290918
DTEND;VALUE=DATE:20290919
DTSTAMP:20260422T221431
CREATED:20250703T164223Z
LAST-MODIFIED:20250703T164223Z
UID:10006228-1884384000-1884470399@godwaysministry.com
SUMMARY:Global Ministration
DESCRIPTION:7AM EST/12:00 Noon UK and Nigeria
URL:https://godwaysministry.com/event/global-ministration-2/2029-09-18/
CATEGORIES:Announcements
ATTACH;FMTTYPE=image/jpeg:https://godwaysministry.com/wp-content/uploads/2024/08/GIM_PrayerProphetic.jpeg
LOCATION:https://godwaysministry.com/event/global-ministration-2/2029-09-18/
END:VEVENT
BEGIN:VEVENT
DTSTART;VALUE=DATE:20290919
DTEND;VALUE=DATE:20290920
DTSTAMP:20260422T221431
CREATED:20250703T161944Z
LAST-MODIFIED:20250703T162213Z
UID:10006094-1884470400-1884556799@godwaysministry.com
SUMMARY:Prayer & Prophetic Time: A New Dawn
DESCRIPTION:
URL:https://godwaysministry.com/event/prayer-prophetic-time-a-new-dawn/2029-09-19/
CATEGORIES:Weekly
ATTACH;FMTTYPE=image/jpeg:https://godwaysministry.com/wp-content/uploads/2024/08/GIM_PrayerProphetic.jpeg
LOCATION:https://godwaysministry.com/event/prayer-prophetic-time-a-new-dawn/2029-09-19/
END:VEVENT
BEGIN:VEVENT
DTSTART;VALUE=DATE:20290919
DTEND;VALUE=DATE:20290920
DTSTAMP:20260422T221431
CREATED:20250703T164223Z
LAST-MODIFIED:20250703T164223Z
UID:10006229-1884470400-1884556799@godwaysministry.com
SUMMARY:Global Ministration
DESCRIPTION:7AM EST/12:00 Noon UK and Nigeria
URL:https://godwaysministry.com/event/global-ministration-2/2029-09-19/
CATEGORIES:Announcements
ATTACH;FMTTYPE=image/jpeg:https://godwaysministry.com/wp-content/uploads/2024/08/GIM_PrayerProphetic.jpeg
LOCATION:https://godwaysministry.com/event/global-ministration-2/2029-09-19/
END:VEVENT
BEGIN:VEVENT
DTSTART;VALUE=DATE:20290925
DTEND;VALUE=DATE:20290926
DTSTAMP:20260422T221431
CREATED:20250703T161944Z
LAST-MODIFIED:20250703T162213Z
UID:10006096-1884988800-1885075199@godwaysministry.com
SUMMARY:Prayer & Prophetic Time: A New Dawn
DESCRIPTION:
URL:https://godwaysministry.com/event/prayer-prophetic-time-a-new-dawn/2029-09-25/
CATEGORIES:Weekly
ATTACH;FMTTYPE=image/jpeg:https://godwaysministry.com/wp-content/uploads/2024/08/GIM_PrayerProphetic.jpeg
LOCATION:https://godwaysministry.com/event/prayer-prophetic-time-a-new-dawn/2029-09-25/
END:VEVENT
BEGIN:VEVENT
DTSTART;VALUE=DATE:20290925
DTEND;VALUE=DATE:20290926
DTSTAMP:20260422T221431
CREATED:20250703T164223Z
LAST-MODIFIED:20250703T164223Z
UID:10006232-1884988800-1885075199@godwaysministry.com
SUMMARY:Global Ministration
DESCRIPTION:7AM EST/12:00 Noon UK and Nigeria
URL:https://godwaysministry.com/event/global-ministration-2/2029-09-25/
CATEGORIES:Announcements
ATTACH;FMTTYPE=image/jpeg:https://godwaysministry.com/wp-content/uploads/2024/08/GIM_PrayerProphetic.jpeg
LOCATION:https://godwaysministry.com/event/global-ministration-2/2029-09-25/
END:VEVENT
BEGIN:VEVENT
DTSTART;VALUE=DATE:20290926
DTEND;VALUE=DATE:20290927
DTSTAMP:20260422T221431
CREATED:20250703T161944Z
LAST-MODIFIED:20250703T162213Z
UID:10006097-1885075200-1885161599@godwaysministry.com
SUMMARY:Prayer & Prophetic Time: A New Dawn
DESCRIPTION:
URL:https://godwaysministry.com/event/prayer-prophetic-time-a-new-dawn/2029-09-26/
CATEGORIES:Weekly
ATTACH;FMTTYPE=image/jpeg:https://godwaysministry.com/wp-content/uploads/2024/08/GIM_PrayerProphetic.jpeg
LOCATION:https://godwaysministry.com/event/prayer-prophetic-time-a-new-dawn/2029-09-26/
END:VEVENT
BEGIN:VEVENT
DTSTART;VALUE=DATE:20290926
DTEND;VALUE=DATE:20290927
DTSTAMP:20260422T221431
CREATED:20250703T164223Z
LAST-MODIFIED:20250703T164223Z
UID:10006233-1885075200-1885161599@godwaysministry.com
SUMMARY:Global Ministration
DESCRIPTION:7AM EST/12:00 Noon UK and Nigeria
URL:https://godwaysministry.com/event/global-ministration-2/2029-09-26/
CATEGORIES:Announcements
ATTACH;FMTTYPE=image/jpeg:https://godwaysministry.com/wp-content/uploads/2024/08/GIM_PrayerProphetic.jpeg
LOCATION:https://godwaysministry.com/event/global-ministration-2/2029-09-26/
END:VEVENT
BEGIN:VEVENT
DTSTART;VALUE=DATE:20291002
DTEND;VALUE=DATE:20291003
DTSTAMP:20260422T221431
CREATED:20250703T161944Z
LAST-MODIFIED:20250703T162213Z
UID:10006099-1885593600-1885679999@godwaysministry.com
SUMMARY:Prayer & Prophetic Time: A New Dawn
DESCRIPTION:
URL:https://godwaysministry.com/event/prayer-prophetic-time-a-new-dawn/2029-10-02/
CATEGORIES:Weekly
ATTACH;FMTTYPE=image/jpeg:https://godwaysministry.com/wp-content/uploads/2024/08/GIM_PrayerProphetic.jpeg
LOCATION:https://godwaysministry.com/event/prayer-prophetic-time-a-new-dawn/2029-10-02/
END:VEVENT
BEGIN:VEVENT
DTSTART;VALUE=DATE:20291002
DTEND;VALUE=DATE:20291003
DTSTAMP:20260422T221431
CREATED:20250703T164223Z
LAST-MODIFIED:20250703T164223Z
UID:10006236-1885593600-1885679999@godwaysministry.com
SUMMARY:Global Ministration
DESCRIPTION:7AM EST/12:00 Noon UK and Nigeria
URL:https://godwaysministry.com/event/global-ministration-2/2029-10-02/
CATEGORIES:Announcements
ATTACH;FMTTYPE=image/jpeg:https://godwaysministry.com/wp-content/uploads/2024/08/GIM_PrayerProphetic.jpeg
LOCATION:https://godwaysministry.com/event/global-ministration-2/2029-10-02/
END:VEVENT
BEGIN:VEVENT
DTSTART;VALUE=DATE:20291003
DTEND;VALUE=DATE:20291004
DTSTAMP:20260422T221431
CREATED:20250703T161944Z
LAST-MODIFIED:20250703T162213Z
UID:10006100-1885680000-1885766399@godwaysministry.com
SUMMARY:Prayer & Prophetic Time: A New Dawn
DESCRIPTION:
URL:https://godwaysministry.com/event/prayer-prophetic-time-a-new-dawn/2029-10-03/
CATEGORIES:Weekly
ATTACH;FMTTYPE=image/jpeg:https://godwaysministry.com/wp-content/uploads/2024/08/GIM_PrayerProphetic.jpeg
LOCATION:https://godwaysministry.com/event/prayer-prophetic-time-a-new-dawn/2029-10-03/
END:VEVENT
BEGIN:VEVENT
DTSTART;VALUE=DATE:20291003
DTEND;VALUE=DATE:20291004
DTSTAMP:20260422T221431
CREATED:20250703T164223Z
LAST-MODIFIED:20250703T164223Z
UID:10006237-1885680000-1885766399@godwaysministry.com
SUMMARY:Global Ministration
DESCRIPTION:7AM EST/12:00 Noon UK and Nigeria
URL:https://godwaysministry.com/event/global-ministration-2/2029-10-03/
CATEGORIES:Announcements
ATTACH;FMTTYPE=image/jpeg:https://godwaysministry.com/wp-content/uploads/2024/08/GIM_PrayerProphetic.jpeg
LOCATION:https://godwaysministry.com/event/global-ministration-2/2029-10-03/
END:VEVENT
BEGIN:VEVENT
DTSTART;VALUE=DATE:20291009
DTEND;VALUE=DATE:20291010
DTSTAMP:20260422T221431
CREATED:20250703T161944Z
LAST-MODIFIED:20250703T162213Z
UID:10006102-1886198400-1886284799@godwaysministry.com
SUMMARY:Prayer & Prophetic Time: A New Dawn
DESCRIPTION:
URL:https://godwaysministry.com/event/prayer-prophetic-time-a-new-dawn/2029-10-09/
CATEGORIES:Weekly
ATTACH;FMTTYPE=image/jpeg:https://godwaysministry.com/wp-content/uploads/2024/08/GIM_PrayerProphetic.jpeg
LOCATION:https://godwaysministry.com/event/prayer-prophetic-time-a-new-dawn/2029-10-09/
END:VEVENT
BEGIN:VEVENT
DTSTART;VALUE=DATE:20291009
DTEND;VALUE=DATE:20291010
DTSTAMP:20260422T221431
CREATED:20250703T164223Z
LAST-MODIFIED:20250703T164223Z
UID:10006240-1886198400-1886284799@godwaysministry.com
SUMMARY:Global Ministration
DESCRIPTION:7AM EST/12:00 Noon UK and Nigeria
URL:https://godwaysministry.com/event/global-ministration-2/2029-10-09/
CATEGORIES:Announcements
ATTACH;FMTTYPE=image/jpeg:https://godwaysministry.com/wp-content/uploads/2024/08/GIM_PrayerProphetic.jpeg
LOCATION:https://godwaysministry.com/event/global-ministration-2/2029-10-09/
END:VEVENT
BEGIN:VEVENT
DTSTART;VALUE=DATE:20291010
DTEND;VALUE=DATE:20291011
DTSTAMP:20260422T221431
CREATED:20250703T161944Z
LAST-MODIFIED:20250703T162213Z
UID:10006103-1886284800-1886371199@godwaysministry.com
SUMMARY:Prayer & Prophetic Time: A New Dawn
DESCRIPTION:
URL:https://godwaysministry.com/event/prayer-prophetic-time-a-new-dawn/2029-10-10/
CATEGORIES:Weekly
ATTACH;FMTTYPE=image/jpeg:https://godwaysministry.com/wp-content/uploads/2024/08/GIM_PrayerProphetic.jpeg
LOCATION:https://godwaysministry.com/event/prayer-prophetic-time-a-new-dawn/2029-10-10/
END:VEVENT
BEGIN:VEVENT
DTSTART;VALUE=DATE:20291010
DTEND;VALUE=DATE:20291011
DTSTAMP:20260422T221431
CREATED:20250703T164223Z
LAST-MODIFIED:20250703T164223Z
UID:10006241-1886284800-1886371199@godwaysministry.com
SUMMARY:Global Ministration
DESCRIPTION:7AM EST/12:00 Noon UK and Nigeria
URL:https://godwaysministry.com/event/global-ministration-2/2029-10-10/
CATEGORIES:Announcements
ATTACH;FMTTYPE=image/jpeg:https://godwaysministry.com/wp-content/uploads/2024/08/GIM_PrayerProphetic.jpeg
LOCATION:https://godwaysministry.com/event/global-ministration-2/2029-10-10/
END:VEVENT
BEGIN:VEVENT
DTSTART;VALUE=DATE:20291016
DTEND;VALUE=DATE:20291017
DTSTAMP:20260422T221431
CREATED:20250703T161944Z
LAST-MODIFIED:20250703T162213Z
UID:10006105-1886803200-1886889599@godwaysministry.com
SUMMARY:Prayer & Prophetic Time: A New Dawn
DESCRIPTION:
URL:https://godwaysministry.com/event/prayer-prophetic-time-a-new-dawn/2029-10-16/
CATEGORIES:Weekly
ATTACH;FMTTYPE=image/jpeg:https://godwaysministry.com/wp-content/uploads/2024/08/GIM_PrayerProphetic.jpeg
LOCATION:https://godwaysministry.com/event/prayer-prophetic-time-a-new-dawn/2029-10-16/
END:VEVENT
BEGIN:VEVENT
DTSTART;VALUE=DATE:20291016
DTEND;VALUE=DATE:20291017
DTSTAMP:20260422T221431
CREATED:20250703T164223Z
LAST-MODIFIED:20250703T164223Z
UID:10006244-1886803200-1886889599@godwaysministry.com
SUMMARY:Global Ministration
DESCRIPTION:7AM EST/12:00 Noon UK and Nigeria
URL:https://godwaysministry.com/event/global-ministration-2/2029-10-16/
CATEGORIES:Announcements
ATTACH;FMTTYPE=image/jpeg:https://godwaysministry.com/wp-content/uploads/2024/08/GIM_PrayerProphetic.jpeg
LOCATION:https://godwaysministry.com/event/global-ministration-2/2029-10-16/
END:VEVENT
BEGIN:VEVENT
DTSTART;VALUE=DATE:20291017
DTEND;VALUE=DATE:20291018
DTSTAMP:20260422T221431
CREATED:20250703T161944Z
LAST-MODIFIED:20250703T162213Z
UID:10006106-1886889600-1886975999@godwaysministry.com
SUMMARY:Prayer & Prophetic Time: A New Dawn
DESCRIPTION:
URL:https://godwaysministry.com/event/prayer-prophetic-time-a-new-dawn/2029-10-17/
CATEGORIES:Weekly
ATTACH;FMTTYPE=image/jpeg:https://godwaysministry.com/wp-content/uploads/2024/08/GIM_PrayerProphetic.jpeg
LOCATION:https://godwaysministry.com/event/prayer-prophetic-time-a-new-dawn/2029-10-17/
END:VEVENT
BEGIN:VEVENT
DTSTART;VALUE=DATE:20291017
DTEND;VALUE=DATE:20291018
DTSTAMP:20260422T221431
CREATED:20250703T164223Z
LAST-MODIFIED:20250703T164223Z
UID:10006245-1886889600-1886975999@godwaysministry.com
SUMMARY:Global Ministration
DESCRIPTION:7AM EST/12:00 Noon UK and Nigeria
URL:https://godwaysministry.com/event/global-ministration-2/2029-10-17/
CATEGORIES:Announcements
ATTACH;FMTTYPE=image/jpeg:https://godwaysministry.com/wp-content/uploads/2024/08/GIM_PrayerProphetic.jpeg
LOCATION:https://godwaysministry.com/event/global-ministration-2/2029-10-17/
END:VEVENT
BEGIN:VEVENT
DTSTART;VALUE=DATE:20291023
DTEND;VALUE=DATE:20291024
DTSTAMP:20260422T221431
CREATED:20250703T161944Z
LAST-MODIFIED:20250703T162213Z
UID:10006108-1887408000-1887494399@godwaysministry.com
SUMMARY:Prayer & Prophetic Time: A New Dawn
DESCRIPTION:
URL:https://godwaysministry.com/event/prayer-prophetic-time-a-new-dawn/2029-10-23/
CATEGORIES:Weekly
ATTACH;FMTTYPE=image/jpeg:https://godwaysministry.com/wp-content/uploads/2024/08/GIM_PrayerProphetic.jpeg
LOCATION:https://godwaysministry.com/event/prayer-prophetic-time-a-new-dawn/2029-10-23/
END:VEVENT
BEGIN:VEVENT
DTSTART;VALUE=DATE:20291023
DTEND;VALUE=DATE:20291024
DTSTAMP:20260422T221431
CREATED:20250703T164223Z
LAST-MODIFIED:20250703T164223Z
UID:10006248-1887408000-1887494399@godwaysministry.com
SUMMARY:Global Ministration
DESCRIPTION:7AM EST/12:00 Noon UK and Nigeria
URL:https://godwaysministry.com/event/global-ministration-2/2029-10-23/
CATEGORIES:Announcements
ATTACH;FMTTYPE=image/jpeg:https://godwaysministry.com/wp-content/uploads/2024/08/GIM_PrayerProphetic.jpeg
LOCATION:https://godwaysministry.com/event/global-ministration-2/2029-10-23/
END:VEVENT
BEGIN:VEVENT
DTSTART;VALUE=DATE:20291024
DTEND;VALUE=DATE:20291025
DTSTAMP:20260422T221431
CREATED:20250703T161944Z
LAST-MODIFIED:20250703T162213Z
UID:10006109-1887494400-1887580799@godwaysministry.com
SUMMARY:Prayer & Prophetic Time: A New Dawn
DESCRIPTION:
URL:https://godwaysministry.com/event/prayer-prophetic-time-a-new-dawn/2029-10-24/
CATEGORIES:Weekly
ATTACH;FMTTYPE=image/jpeg:https://godwaysministry.com/wp-content/uploads/2024/08/GIM_PrayerProphetic.jpeg
LOCATION:https://godwaysministry.com/event/prayer-prophetic-time-a-new-dawn/2029-10-24/
END:VEVENT
BEGIN:VEVENT
DTSTART;VALUE=DATE:20291024
DTEND;VALUE=DATE:20291025
DTSTAMP:20260422T221431
CREATED:20250703T164223Z
LAST-MODIFIED:20250703T164223Z
UID:10006249-1887494400-1887580799@godwaysministry.com
SUMMARY:Global Ministration
DESCRIPTION:7AM EST/12:00 Noon UK and Nigeria
URL:https://godwaysministry.com/event/global-ministration-2/2029-10-24/
CATEGORIES:Announcements
ATTACH;FMTTYPE=image/jpeg:https://godwaysministry.com/wp-content/uploads/2024/08/GIM_PrayerProphetic.jpeg
LOCATION:https://godwaysministry.com/event/global-ministration-2/2029-10-24/
END:VEVENT
END:VCALENDAR